BEGIN:VCALENDAR
VERSION:2.0
PRODID:-//Community Care City of Kawartha Lakes - ECPv6.15.13//NONSGML v1.0//EN
CALSCALE:GREGORIAN
METHOD:PUBLISH
X-WR-CALNAME:Community Care City of Kawartha Lakes
X-ORIGINAL-URL:https://ccckl.ca
X-WR-CALDESC:Events for Community Care City of Kawartha Lakes
REFRESH-INTERVAL;VALUE=DURATION:PT1H
X-Robots-Tag:noindex
X-PUBLISHED-TTL:PT1H
BEGIN:VTIMEZONE
TZID:America/Toronto
BEGIN:DAYLIGHT
TZOFFSETFROM:-0500
TZOFFSETTO:-0400
TZNAME:EDT
DTSTART:20230312T070000
END:DAYLIGHT
BEGIN:STANDARD
TZOFFSETFROM:-0400
TZOFFSETTO:-0500
TZNAME:EST
DTSTART:20231105T060000
END:STANDARD
BEGIN:DAYLIGHT
TZOFFSETFROM:-0500
TZOFFSETTO:-0400
TZNAME:EDT
DTSTART:20240310T070000
END:DAYLIGHT
BEGIN:STANDARD
TZOFFSETFROM:-0400
TZOFFSETTO:-0500
TZNAME:EST
DTSTART:20241103T060000
END:STANDARD
BEGIN:DAYLIGHT
TZOFFSETFROM:-0500
TZOFFSETTO:-0400
TZNAME:EDT
DTSTART:20250309T070000
END:DAYLIGHT
BEGIN:STANDARD
TZOFFSETFROM:-0400
TZOFFSETTO:-0500
TZNAME:EST
DTSTART:20251102T060000
END:STANDARD
END:VTIMEZONE
BEGIN:VEVENT
DTSTART;TZID=America/Toronto:20240318T093000
DTEND;TZID=America/Toronto:20240318T103000
DTSTAMP:20260421T061613
CREATED:20230810T154613Z
LAST-MODIFIED:20240421T115621Z
UID:10001653-1710754200-1710757800@ccckl.ca
SUMMARY:Burnt River SAGES
DESCRIPTION:Join us every Monday and Friday (except holidays) at 9:30 am at the Burnt River Community Centre for Gentle Exercise for Seniors. \n\n\n\nCost: $3 per session\, registration not required. First session is free! \n\n\n\nFor more information call 705-324-7323 ext. 165 or email wellness@ccckl.ca
URL:https://ccckl.ca/events/burnt-river-sages/2024-03-18/
LOCATION:Burnt River Somerville Centre\, 16 Somerville Centre Rd\, Burnt River\, Ontario\, K0M1C0\, Canada
CATEGORIES:SAGES
ATTACH;FMTTYPE=image/jpeg:https://ccckl.ca/wp-content/uploads/2023/03/Sages-logo-RGB.jpg
END:VEVENT
BEGIN:VEVENT
DTSTART;TZID=America/Toronto:20240315T093000
DTEND;TZID=America/Toronto:20240315T103000
DTSTAMP:20260421T061613
CREATED:20230810T154613Z
LAST-MODIFIED:20240421T115621Z
UID:10001652-1710495000-1710498600@ccckl.ca
SUMMARY:Burnt River SAGES
DESCRIPTION:Join us every Monday and Friday (except holidays) at 9:30 am at the Burnt River Community Centre for Gentle Exercise for Seniors. \n\n\n\nCost: $3 per session\, registration not required. First session is free! \n\n\n\nFor more information call 705-324-7323 ext. 165 or email wellness@ccckl.ca
URL:https://ccckl.ca/events/burnt-river-sages/2024-03-15/
LOCATION:Burnt River Somerville Centre\, 16 Somerville Centre Rd\, Burnt River\, Ontario\, K0M1C0\, Canada
CATEGORIES:SAGES
ATTACH;FMTTYPE=image/jpeg:https://ccckl.ca/wp-content/uploads/2023/03/Sages-logo-RGB.jpg
END:VEVENT
BEGIN:VEVENT
DTSTART;TZID=America/Toronto:20240314T100000
DTEND;TZID=America/Toronto:20240314T110000
DTSTAMP:20260421T061613
CREATED:20230810T190900Z
LAST-MODIFIED:20231218T163714Z
UID:10002665-1710410400-1710414000@ccckl.ca
SUMMARY:Bobcaygeon SAGES
DESCRIPTION:Join us every Monday and Thursday at 10:00 am at the Bobcaygeon Senior’s Centre for Gentle Exercise for Seniors. \n\n\n\nCost: $3 per session\, pre-registration for the Bobcaygeon SAGES program is required. First session is free! \n\n\n\nFor more information\, or to register\, call 705-324-7323 ext. 165 or email wellness@ccckl.ca
URL:https://ccckl.ca/events/bobcaygeon-sages-2/2024-03-14/
LOCATION:Bobcaygeon Senior Centre\, 100 Head Street\, Bobcaygeon\, Canada
CATEGORIES:SAGES
ATTACH;FMTTYPE=image/jpeg:https://ccckl.ca/wp-content/uploads/2023/03/Sages-logo-RGB.jpg
END:VEVENT
BEGIN:VEVENT
DTSTART;TZID=America/Toronto:20240314T093000
DTEND;TZID=America/Toronto:20240314T103000
DTSTAMP:20260421T061613
CREATED:20231005T131611Z
LAST-MODIFIED:20231218T163348Z
UID:10002979-1710408600-1710412200@ccckl.ca
SUMMARY:Kirkfield SAGES
DESCRIPTION:Join us every Thursday at 9:30 am at the Kirkfield District Lions Club for Gentle Exercise for Seniors. \n\n\n\nCost: $3 per session\, registration not required. First session is free! \n\n\n\nFor more information call 705-324-7323 ext. 165 or email wellness@ccckl.ca
URL:https://ccckl.ca/events/kirkfield-sages-2/2024-03-14/
LOCATION:Kirkfield & District Lions Club\, 973 Portage Rd\, Kirkfield\, Ontario\, K0M 2B0\, Canada
CATEGORIES:SAGES
ATTACH;FMTTYPE=image/jpeg:https://ccckl.ca/wp-content/uploads/2023/03/Sages-logo-RGB.jpg
END:VEVENT
BEGIN:VEVENT
DTSTART;TZID=America/Toronto:20240313T104500
DTEND;TZID=America/Toronto:20240313T120000
DTSTAMP:20260421T061613
CREATED:20231005T132529Z
LAST-MODIFIED:20231218T163605Z
UID:10003091-1710326700-1710331200@ccckl.ca
SUMMARY:Lindsay SAGES
DESCRIPTION:Join us Wednesdays* at 10:45 am at Victoria Park Armoury in Lindsay for Gentle Exercise for Seniors.  \n\n\n\n*except the first Wednesday of each month. \n\n\n\nCost: Connect with the Lindsay Senior’s Association for more information. First session is free! \n\n\n\nFor more information call 705-324-7323 ext. 165 or email wellness@ccckl.ca
URL:https://ccckl.ca/events/lindsay-sages-2/2024-03-13/
LOCATION:Victoria Park Armoury\, 210 Kent St W\, Lindsay\, Ontario\, K9V 2Y8\, Canada
CATEGORIES:SAGES
END:VEVENT
BEGIN:VEVENT
DTSTART;TZID=America/Toronto:20240313T100000
DTEND;TZID=America/Toronto:20240313T110000
DTSTAMP:20260421T061613
CREATED:20230810T190727Z
LAST-MODIFIED:20231218T163457Z
UID:10002532-1710324000-1710327600@ccckl.ca
SUMMARY:Fenelon Falls SAGES
DESCRIPTION:Join us every Monday and Wednesday at 10:00 am at the Senior Citizens Club of Fenelon Falls for Gentle Exercise for Seniors. \n\n\n\nCost: $2 per session\, registration not required. First session is free! \n\n\n\nFor more information call 705-324-7323 ext. 165 or email wellness@ccckl.ca
URL:https://ccckl.ca/events/fenelon-falls-sages-3/2024-03-13/
LOCATION:Senior Citizens Club Of Fenelon Falls\, 58 Murray Street\, Fenelon Falls\, Ontario\, K0M 1N0\, Canada
CATEGORIES:SAGES
ATTACH;FMTTYPE=image/jpeg:https://ccckl.ca/wp-content/uploads/2023/03/Sages-logo-RGB.jpg
END:VEVENT
BEGIN:VEVENT
DTSTART;TZID=America/Toronto:20240312T100000
DTEND;TZID=America/Toronto:20240312T110000
DTSTAMP:20260421T061613
CREATED:20230810T191211Z
LAST-MODIFIED:20231214T212853Z
UID:10002785-1710237600-1710241200@ccckl.ca
SUMMARY:Coboconk SAGES
DESCRIPTION:Join us every Tuesdays at 10:00 am at the Coboconk Legion for Gentle Exercise for Seniors. \n\n\n\nCost: $2 per session\, registration not required. First session is free! \n\n\n\nFor more information call 705-324-7323 ext. 165 or email wellness@ccckl.ca
URL:https://ccckl.ca/events/coboconk-sages-2/2024-03-12/
LOCATION:Royal Canadian Legion\, Branch 519\, 2916 Kawartha Lakes Rd 48\, Coboconk\, Ontario\, K0M 1K0\, Canada
CATEGORIES:SAGES
ATTACH;FMTTYPE=image/jpeg:https://ccckl.ca/wp-content/uploads/2023/03/Sages-logo-RGB.jpg
END:VEVENT
BEGIN:VEVENT
DTSTART;TZID=America/Toronto:20240312T093000
DTEND;TZID=America/Toronto:20240312T103000
DTSTAMP:20260421T061613
CREATED:20230810T191728Z
LAST-MODIFIED:20231218T163205Z
UID:10002899-1710235800-1710239400@ccckl.ca
SUMMARY:Manilla SAGES
DESCRIPTION:Join us every Tuesday at 9:30 at the Manilla Library for Gentle Exercise for Seniors. \n\n\n\nCost: $3 per session\, registration not required. First session is free! \n\n\n\nFor more information call 705-324-7323 ext. 165 or email wellness@ccckl.ca
URL:https://ccckl.ca/events/manilla-sages-2/2024-03-12/
LOCATION:Manilla Library\, 17025 Simcoe St.\, Manilla\, K0M 2J0\, Canada
CATEGORIES:SAGES
ATTACH;FMTTYPE=image/jpeg:https://ccckl.ca/wp-content/uploads/2023/03/Sages-logo-RGB.jpg
END:VEVENT
BEGIN:VEVENT
DTSTART;TZID=America/Toronto:20240311T100000
DTEND;TZID=America/Toronto:20240311T110000
DTSTAMP:20260421T061613
CREATED:20230810T190900Z
LAST-MODIFIED:20231218T163714Z
UID:10002609-1710151200-1710154800@ccckl.ca
SUMMARY:Bobcaygeon SAGES
DESCRIPTION:Join us every Monday and Thursday at 10:00 am at the Bobcaygeon Senior’s Centre for Gentle Exercise for Seniors. \n\n\n\nCost: $3 per session\, pre-registration for the Bobcaygeon SAGES program is required. First session is free! \n\n\n\nFor more information\, or to register\, call 705-324-7323 ext. 165 or email wellness@ccckl.ca
URL:https://ccckl.ca/events/bobcaygeon-sages-2/2024-03-11/
LOCATION:Bobcaygeon Senior Centre\, 100 Head Street\, Bobcaygeon\, Canada
CATEGORIES:SAGES
ATTACH;FMTTYPE=image/jpeg:https://ccckl.ca/wp-content/uploads/2023/03/Sages-logo-RGB.jpg
END:VEVENT
BEGIN:VEVENT
DTSTART;TZID=America/Toronto:20240311T100000
DTEND;TZID=America/Toronto:20240311T110000
DTSTAMP:20260421T061613
CREATED:20230810T190727Z
LAST-MODIFIED:20231218T163457Z
UID:10002531-1710151200-1710154800@ccckl.ca
SUMMARY:Fenelon Falls SAGES
DESCRIPTION:Join us every Monday and Wednesday at 10:00 am at the Senior Citizens Club of Fenelon Falls for Gentle Exercise for Seniors. \n\n\n\nCost: $2 per session\, registration not required. First session is free! \n\n\n\nFor more information call 705-324-7323 ext. 165 or email wellness@ccckl.ca
URL:https://ccckl.ca/events/fenelon-falls-sages-3/2024-03-11/
LOCATION:Senior Citizens Club Of Fenelon Falls\, 58 Murray Street\, Fenelon Falls\, Ontario\, K0M 1N0\, Canada
CATEGORIES:SAGES
ATTACH;FMTTYPE=image/jpeg:https://ccckl.ca/wp-content/uploads/2023/03/Sages-logo-RGB.jpg
END:VEVENT
BEGIN:VEVENT
DTSTART;TZID=America/Toronto:20240311T093000
DTEND;TZID=America/Toronto:20240311T103000
DTSTAMP:20260421T061613
CREATED:20230810T154613Z
LAST-MODIFIED:20240421T115621Z
UID:10001651-1710149400-1710153000@ccckl.ca
SUMMARY:Burnt River SAGES
DESCRIPTION:Join us every Monday and Friday (except holidays) at 9:30 am at the Burnt River Community Centre for Gentle Exercise for Seniors. \n\n\n\nCost: $3 per session\, registration not required. First session is free! \n\n\n\nFor more information call 705-324-7323 ext. 165 or email wellness@ccckl.ca
URL:https://ccckl.ca/events/burnt-river-sages/2024-03-11/
LOCATION:Burnt River Somerville Centre\, 16 Somerville Centre Rd\, Burnt River\, Ontario\, K0M1C0\, Canada
CATEGORIES:SAGES
ATTACH;FMTTYPE=image/jpeg:https://ccckl.ca/wp-content/uploads/2023/03/Sages-logo-RGB.jpg
END:VEVENT
BEGIN:VEVENT
DTSTART;TZID=America/Toronto:20240308T093000
DTEND;TZID=America/Toronto:20240308T103000
DTSTAMP:20260421T061613
CREATED:20230810T154613Z
LAST-MODIFIED:20240421T115621Z
UID:10001650-1709890200-1709893800@ccckl.ca
SUMMARY:Burnt River SAGES
DESCRIPTION:Join us every Monday and Friday (except holidays) at 9:30 am at the Burnt River Community Centre for Gentle Exercise for Seniors. \n\n\n\nCost: $3 per session\, registration not required. First session is free! \n\n\n\nFor more information call 705-324-7323 ext. 165 or email wellness@ccckl.ca
URL:https://ccckl.ca/events/burnt-river-sages/2024-03-08/
LOCATION:Burnt River Somerville Centre\, 16 Somerville Centre Rd\, Burnt River\, Ontario\, K0M1C0\, Canada
CATEGORIES:SAGES
ATTACH;FMTTYPE=image/jpeg:https://ccckl.ca/wp-content/uploads/2023/03/Sages-logo-RGB.jpg
END:VEVENT
BEGIN:VEVENT
DTSTART;TZID=America/Toronto:20240307T100000
DTEND;TZID=America/Toronto:20240307T110000
DTSTAMP:20260421T061613
CREATED:20230810T190900Z
LAST-MODIFIED:20231218T163714Z
UID:10002664-1709805600-1709809200@ccckl.ca
SUMMARY:Bobcaygeon SAGES
DESCRIPTION:Join us every Monday and Thursday at 10:00 am at the Bobcaygeon Senior’s Centre for Gentle Exercise for Seniors. \n\n\n\nCost: $3 per session\, pre-registration for the Bobcaygeon SAGES program is required. First session is free! \n\n\n\nFor more information\, or to register\, call 705-324-7323 ext. 165 or email wellness@ccckl.ca
URL:https://ccckl.ca/events/bobcaygeon-sages-2/2024-03-07/
LOCATION:Bobcaygeon Senior Centre\, 100 Head Street\, Bobcaygeon\, Canada
CATEGORIES:SAGES
ATTACH;FMTTYPE=image/jpeg:https://ccckl.ca/wp-content/uploads/2023/03/Sages-logo-RGB.jpg
END:VEVENT
BEGIN:VEVENT
DTSTART;TZID=America/Toronto:20240307T093000
DTEND;TZID=America/Toronto:20240307T103000
DTSTAMP:20260421T061613
CREATED:20231005T131611Z
LAST-MODIFIED:20231218T163348Z
UID:10002978-1709803800-1709807400@ccckl.ca
SUMMARY:Kirkfield SAGES
DESCRIPTION:Join us every Thursday at 9:30 am at the Kirkfield District Lions Club for Gentle Exercise for Seniors. \n\n\n\nCost: $3 per session\, registration not required. First session is free! \n\n\n\nFor more information call 705-324-7323 ext. 165 or email wellness@ccckl.ca
URL:https://ccckl.ca/events/kirkfield-sages-2/2024-03-07/
LOCATION:Kirkfield & District Lions Club\, 973 Portage Rd\, Kirkfield\, Ontario\, K0M 2B0\, Canada
CATEGORIES:SAGES
ATTACH;FMTTYPE=image/jpeg:https://ccckl.ca/wp-content/uploads/2023/03/Sages-logo-RGB.jpg
END:VEVENT
BEGIN:VEVENT
DTSTART;TZID=America/Toronto:20240306T100000
DTEND;TZID=America/Toronto:20240306T110000
DTSTAMP:20260421T061613
CREATED:20230810T190727Z
LAST-MODIFIED:20231218T163457Z
UID:10002530-1709719200-1709722800@ccckl.ca
SUMMARY:Fenelon Falls SAGES
DESCRIPTION:Join us every Monday and Wednesday at 10:00 am at the Senior Citizens Club of Fenelon Falls for Gentle Exercise for Seniors. \n\n\n\nCost: $2 per session\, registration not required. First session is free! \n\n\n\nFor more information call 705-324-7323 ext. 165 or email wellness@ccckl.ca
URL:https://ccckl.ca/events/fenelon-falls-sages-3/2024-03-06/
LOCATION:Senior Citizens Club Of Fenelon Falls\, 58 Murray Street\, Fenelon Falls\, Ontario\, K0M 1N0\, Canada
CATEGORIES:SAGES
ATTACH;FMTTYPE=image/jpeg:https://ccckl.ca/wp-content/uploads/2023/03/Sages-logo-RGB.jpg
END:VEVENT
BEGIN:VEVENT
DTSTART;TZID=America/Toronto:20240305T100000
DTEND;TZID=America/Toronto:20240305T110000
DTSTAMP:20260421T061613
CREATED:20230810T191211Z
LAST-MODIFIED:20231214T212853Z
UID:10002784-1709632800-1709636400@ccckl.ca
SUMMARY:Coboconk SAGES
DESCRIPTION:Join us every Tuesdays at 10:00 am at the Coboconk Legion for Gentle Exercise for Seniors. \n\n\n\nCost: $2 per session\, registration not required. First session is free! \n\n\n\nFor more information call 705-324-7323 ext. 165 or email wellness@ccckl.ca
URL:https://ccckl.ca/events/coboconk-sages-2/2024-03-05/
LOCATION:Royal Canadian Legion\, Branch 519\, 2916 Kawartha Lakes Rd 48\, Coboconk\, Ontario\, K0M 1K0\, Canada
CATEGORIES:SAGES
ATTACH;FMTTYPE=image/jpeg:https://ccckl.ca/wp-content/uploads/2023/03/Sages-logo-RGB.jpg
END:VEVENT
BEGIN:VEVENT
DTSTART;TZID=America/Toronto:20240305T093000
DTEND;TZID=America/Toronto:20240305T103000
DTSTAMP:20260421T061613
CREATED:20230810T191728Z
LAST-MODIFIED:20231218T163205Z
UID:10002898-1709631000-1709634600@ccckl.ca
SUMMARY:Manilla SAGES
DESCRIPTION:Join us every Tuesday at 9:30 at the Manilla Library for Gentle Exercise for Seniors. \n\n\n\nCost: $3 per session\, registration not required. First session is free! \n\n\n\nFor more information call 705-324-7323 ext. 165 or email wellness@ccckl.ca
URL:https://ccckl.ca/events/manilla-sages-2/2024-03-05/
LOCATION:Manilla Library\, 17025 Simcoe St.\, Manilla\, K0M 2J0\, Canada
CATEGORIES:SAGES
ATTACH;FMTTYPE=image/jpeg:https://ccckl.ca/wp-content/uploads/2023/03/Sages-logo-RGB.jpg
END:VEVENT
BEGIN:VEVENT
DTSTART;TZID=America/Toronto:20240304T100000
DTEND;TZID=America/Toronto:20240304T110000
DTSTAMP:20260421T061613
CREATED:20230810T190900Z
LAST-MODIFIED:20231218T163714Z
UID:10002607-1709546400-1709550000@ccckl.ca
SUMMARY:Bobcaygeon SAGES
DESCRIPTION:Join us every Monday and Thursday at 10:00 am at the Bobcaygeon Senior’s Centre for Gentle Exercise for Seniors. \n\n\n\nCost: $3 per session\, pre-registration for the Bobcaygeon SAGES program is required. First session is free! \n\n\n\nFor more information\, or to register\, call 705-324-7323 ext. 165 or email wellness@ccckl.ca
URL:https://ccckl.ca/events/bobcaygeon-sages-2/2024-03-04/
LOCATION:Bobcaygeon Senior Centre\, 100 Head Street\, Bobcaygeon\, Canada
CATEGORIES:SAGES
ATTACH;FMTTYPE=image/jpeg:https://ccckl.ca/wp-content/uploads/2023/03/Sages-logo-RGB.jpg
END:VEVENT
BEGIN:VEVENT
DTSTART;TZID=America/Toronto:20240304T100000
DTEND;TZID=America/Toronto:20240304T110000
DTSTAMP:20260421T061613
CREATED:20230810T190727Z
LAST-MODIFIED:20231218T163457Z
UID:10002529-1709546400-1709550000@ccckl.ca
SUMMARY:Fenelon Falls SAGES
DESCRIPTION:Join us every Monday and Wednesday at 10:00 am at the Senior Citizens Club of Fenelon Falls for Gentle Exercise for Seniors. \n\n\n\nCost: $2 per session\, registration not required. First session is free! \n\n\n\nFor more information call 705-324-7323 ext. 165 or email wellness@ccckl.ca
URL:https://ccckl.ca/events/fenelon-falls-sages-3/2024-03-04/
LOCATION:Senior Citizens Club Of Fenelon Falls\, 58 Murray Street\, Fenelon Falls\, Ontario\, K0M 1N0\, Canada
CATEGORIES:SAGES
ATTACH;FMTTYPE=image/jpeg:https://ccckl.ca/wp-content/uploads/2023/03/Sages-logo-RGB.jpg
END:VEVENT
BEGIN:VEVENT
DTSTART;TZID=America/Toronto:20240304T093000
DTEND;TZID=America/Toronto:20240304T103000
DTSTAMP:20260421T061613
CREATED:20230810T154613Z
LAST-MODIFIED:20240421T115621Z
UID:10001649-1709544600-1709548200@ccckl.ca
SUMMARY:Burnt River SAGES
DESCRIPTION:Join us every Monday and Friday (except holidays) at 9:30 am at the Burnt River Community Centre for Gentle Exercise for Seniors. \n\n\n\nCost: $3 per session\, registration not required. First session is free! \n\n\n\nFor more information call 705-324-7323 ext. 165 or email wellness@ccckl.ca
URL:https://ccckl.ca/events/burnt-river-sages/2024-03-04/
LOCATION:Burnt River Somerville Centre\, 16 Somerville Centre Rd\, Burnt River\, Ontario\, K0M1C0\, Canada
CATEGORIES:SAGES
ATTACH;FMTTYPE=image/jpeg:https://ccckl.ca/wp-content/uploads/2023/03/Sages-logo-RGB.jpg
END:VEVENT
BEGIN:VEVENT
DTSTART;TZID=America/Toronto:20240301T093000
DTEND;TZID=America/Toronto:20240301T103000
DTSTAMP:20260421T061613
CREATED:20230810T154613Z
LAST-MODIFIED:20240421T115621Z
UID:10001648-1709285400-1709289000@ccckl.ca
SUMMARY:Burnt River SAGES
DESCRIPTION:Join us every Monday and Friday (except holidays) at 9:30 am at the Burnt River Community Centre for Gentle Exercise for Seniors. \n\n\n\nCost: $3 per session\, registration not required. First session is free! \n\n\n\nFor more information call 705-324-7323 ext. 165 or email wellness@ccckl.ca
URL:https://ccckl.ca/events/burnt-river-sages/2024-03-01/
LOCATION:Burnt River Somerville Centre\, 16 Somerville Centre Rd\, Burnt River\, Ontario\, K0M1C0\, Canada
CATEGORIES:SAGES
ATTACH;FMTTYPE=image/jpeg:https://ccckl.ca/wp-content/uploads/2023/03/Sages-logo-RGB.jpg
END:VEVENT
BEGIN:VEVENT
DTSTART;TZID=America/Toronto:20240229T100000
DTEND;TZID=America/Toronto:20240229T110000
DTSTAMP:20260421T061613
CREATED:20230810T190900Z
LAST-MODIFIED:20231218T163714Z
UID:10002663-1709200800-1709204400@ccckl.ca
SUMMARY:Bobcaygeon SAGES
DESCRIPTION:Join us every Monday and Thursday at 10:00 am at the Bobcaygeon Senior’s Centre for Gentle Exercise for Seniors. \n\n\n\nCost: $3 per session\, pre-registration for the Bobcaygeon SAGES program is required. First session is free! \n\n\n\nFor more information\, or to register\, call 705-324-7323 ext. 165 or email wellness@ccckl.ca
URL:https://ccckl.ca/events/bobcaygeon-sages-2/2024-02-29/
LOCATION:Bobcaygeon Senior Centre\, 100 Head Street\, Bobcaygeon\, Canada
CATEGORIES:SAGES
ATTACH;FMTTYPE=image/jpeg:https://ccckl.ca/wp-content/uploads/2023/03/Sages-logo-RGB.jpg
END:VEVENT
BEGIN:VEVENT
DTSTART;TZID=America/Toronto:20240229T093000
DTEND;TZID=America/Toronto:20240229T103000
DTSTAMP:20260421T061613
CREATED:20231005T131611Z
LAST-MODIFIED:20231218T163348Z
UID:10002977-1709199000-1709202600@ccckl.ca
SUMMARY:Kirkfield SAGES
DESCRIPTION:Join us every Thursday at 9:30 am at the Kirkfield District Lions Club for Gentle Exercise for Seniors. \n\n\n\nCost: $3 per session\, registration not required. First session is free! \n\n\n\nFor more information call 705-324-7323 ext. 165 or email wellness@ccckl.ca
URL:https://ccckl.ca/events/kirkfield-sages-2/2024-02-29/
LOCATION:Kirkfield & District Lions Club\, 973 Portage Rd\, Kirkfield\, Ontario\, K0M 2B0\, Canada
CATEGORIES:SAGES
ATTACH;FMTTYPE=image/jpeg:https://ccckl.ca/wp-content/uploads/2023/03/Sages-logo-RGB.jpg
END:VEVENT
BEGIN:VEVENT
DTSTART;TZID=America/Toronto:20240228T104500
DTEND;TZID=America/Toronto:20240228T120000
DTSTAMP:20260421T061613
CREATED:20231005T132529Z
LAST-MODIFIED:20231218T163605Z
UID:10003090-1709117100-1709121600@ccckl.ca
SUMMARY:Lindsay SAGES
DESCRIPTION:Join us Wednesdays* at 10:45 am at Victoria Park Armoury in Lindsay for Gentle Exercise for Seniors.  \n\n\n\n*except the first Wednesday of each month. \n\n\n\nCost: Connect with the Lindsay Senior’s Association for more information. First session is free! \n\n\n\nFor more information call 705-324-7323 ext. 165 or email wellness@ccckl.ca
URL:https://ccckl.ca/events/lindsay-sages-2/2024-02-28/
LOCATION:Victoria Park Armoury\, 210 Kent St W\, Lindsay\, Ontario\, K9V 2Y8\, Canada
CATEGORIES:SAGES
END:VEVENT
BEGIN:VEVENT
DTSTART;TZID=America/Toronto:20240228T100000
DTEND;TZID=America/Toronto:20240228T110000
DTSTAMP:20260421T061613
CREATED:20230810T190727Z
LAST-MODIFIED:20231218T163457Z
UID:10002528-1709114400-1709118000@ccckl.ca
SUMMARY:Fenelon Falls SAGES
DESCRIPTION:Join us every Monday and Wednesday at 10:00 am at the Senior Citizens Club of Fenelon Falls for Gentle Exercise for Seniors. \n\n\n\nCost: $2 per session\, registration not required. First session is free! \n\n\n\nFor more information call 705-324-7323 ext. 165 or email wellness@ccckl.ca
URL:https://ccckl.ca/events/fenelon-falls-sages-3/2024-02-28/
LOCATION:Senior Citizens Club Of Fenelon Falls\, 58 Murray Street\, Fenelon Falls\, Ontario\, K0M 1N0\, Canada
CATEGORIES:SAGES
ATTACH;FMTTYPE=image/jpeg:https://ccckl.ca/wp-content/uploads/2023/03/Sages-logo-RGB.jpg
END:VEVENT
BEGIN:VEVENT
DTSTART;TZID=America/Toronto:20240227T100000
DTEND;TZID=America/Toronto:20240227T110000
DTSTAMP:20260421T061613
CREATED:20230810T191211Z
LAST-MODIFIED:20231214T212853Z
UID:10002783-1709028000-1709031600@ccckl.ca
SUMMARY:Coboconk SAGES
DESCRIPTION:Join us every Tuesdays at 10:00 am at the Coboconk Legion for Gentle Exercise for Seniors. \n\n\n\nCost: $2 per session\, registration not required. First session is free! \n\n\n\nFor more information call 705-324-7323 ext. 165 or email wellness@ccckl.ca
URL:https://ccckl.ca/events/coboconk-sages-2/2024-02-27/
LOCATION:Royal Canadian Legion\, Branch 519\, 2916 Kawartha Lakes Rd 48\, Coboconk\, Ontario\, K0M 1K0\, Canada
CATEGORIES:SAGES
ATTACH;FMTTYPE=image/jpeg:https://ccckl.ca/wp-content/uploads/2023/03/Sages-logo-RGB.jpg
END:VEVENT
BEGIN:VEVENT
DTSTART;TZID=America/Toronto:20240227T093000
DTEND;TZID=America/Toronto:20240227T103000
DTSTAMP:20260421T061613
CREATED:20230810T191728Z
LAST-MODIFIED:20231218T163205Z
UID:10002897-1709026200-1709029800@ccckl.ca
SUMMARY:Manilla SAGES
DESCRIPTION:Join us every Tuesday at 9:30 at the Manilla Library for Gentle Exercise for Seniors. \n\n\n\nCost: $3 per session\, registration not required. First session is free! \n\n\n\nFor more information call 705-324-7323 ext. 165 or email wellness@ccckl.ca
URL:https://ccckl.ca/events/manilla-sages-2/2024-02-27/
LOCATION:Manilla Library\, 17025 Simcoe St.\, Manilla\, K0M 2J0\, Canada
CATEGORIES:SAGES
ATTACH;FMTTYPE=image/jpeg:https://ccckl.ca/wp-content/uploads/2023/03/Sages-logo-RGB.jpg
END:VEVENT
BEGIN:VEVENT
DTSTART;TZID=America/Toronto:20240226T100000
DTEND;TZID=America/Toronto:20240226T110000
DTSTAMP:20260421T061613
CREATED:20230810T190900Z
LAST-MODIFIED:20231218T163714Z
UID:10002605-1708941600-1708945200@ccckl.ca
SUMMARY:Bobcaygeon SAGES
DESCRIPTION:Join us every Monday and Thursday at 10:00 am at the Bobcaygeon Senior’s Centre for Gentle Exercise for Seniors. \n\n\n\nCost: $3 per session\, pre-registration for the Bobcaygeon SAGES program is required. First session is free! \n\n\n\nFor more information\, or to register\, call 705-324-7323 ext. 165 or email wellness@ccckl.ca
URL:https://ccckl.ca/events/bobcaygeon-sages-2/2024-02-26/
LOCATION:Bobcaygeon Senior Centre\, 100 Head Street\, Bobcaygeon\, Canada
CATEGORIES:SAGES
ATTACH;FMTTYPE=image/jpeg:https://ccckl.ca/wp-content/uploads/2023/03/Sages-logo-RGB.jpg
END:VEVENT
BEGIN:VEVENT
DTSTART;TZID=America/Toronto:20240226T100000
DTEND;TZID=America/Toronto:20240226T110000
DTSTAMP:20260421T061613
CREATED:20230810T190727Z
LAST-MODIFIED:20231218T163457Z
UID:10002527-1708941600-1708945200@ccckl.ca
SUMMARY:Fenelon Falls SAGES
DESCRIPTION:Join us every Monday and Wednesday at 10:00 am at the Senior Citizens Club of Fenelon Falls for Gentle Exercise for Seniors. \n\n\n\nCost: $2 per session\, registration not required. First session is free! \n\n\n\nFor more information call 705-324-7323 ext. 165 or email wellness@ccckl.ca
URL:https://ccckl.ca/events/fenelon-falls-sages-3/2024-02-26/
LOCATION:Senior Citizens Club Of Fenelon Falls\, 58 Murray Street\, Fenelon Falls\, Ontario\, K0M 1N0\, Canada
CATEGORIES:SAGES
ATTACH;FMTTYPE=image/jpeg:https://ccckl.ca/wp-content/uploads/2023/03/Sages-logo-RGB.jpg
END:VEVENT
BEGIN:VEVENT
DTSTART;TZID=America/Toronto:20240226T093000
DTEND;TZID=America/Toronto:20240226T103000
DTSTAMP:20260421T061613
CREATED:20230810T154613Z
LAST-MODIFIED:20240421T115621Z
UID:10001647-1708939800-1708943400@ccckl.ca
SUMMARY:Burnt River SAGES
DESCRIPTION:Join us every Monday and Friday (except holidays) at 9:30 am at the Burnt River Community Centre for Gentle Exercise for Seniors. \n\n\n\nCost: $3 per session\, registration not required. First session is free! \n\n\n\nFor more information call 705-324-7323 ext. 165 or email wellness@ccckl.ca
URL:https://ccckl.ca/events/burnt-river-sages/2024-02-26/
LOCATION:Burnt River Somerville Centre\, 16 Somerville Centre Rd\, Burnt River\, Ontario\, K0M1C0\, Canada
CATEGORIES:SAGES
ATTACH;FMTTYPE=image/jpeg:https://ccckl.ca/wp-content/uploads/2023/03/Sages-logo-RGB.jpg
END:VEVENT
END:VCALENDAR