BEGIN:VCALENDAR
VERSION:2.0
PRODID:-//Community Care City of Kawartha Lakes - ECPv6.15.13//NONSGML v1.0//EN
CALSCALE:GREGORIAN
METHOD:PUBLISH
X-WR-CALNAME:Community Care City of Kawartha Lakes
X-ORIGINAL-URL:https://ccckl.ca
X-WR-CALDESC:Events for Community Care City of Kawartha Lakes
REFRESH-INTERVAL;VALUE=DURATION:PT1H
X-Robots-Tag:noindex
X-PUBLISHED-TTL:PT1H
BEGIN:VTIMEZONE
TZID:America/Toronto
BEGIN:DAYLIGHT
TZOFFSETFROM:-0500
TZOFFSETTO:-0400
TZNAME:EDT
DTSTART:20220313T070000
END:DAYLIGHT
BEGIN:STANDARD
TZOFFSETFROM:-0400
TZOFFSETTO:-0500
TZNAME:EST
DTSTART:20221106T060000
END:STANDARD
BEGIN:DAYLIGHT
TZOFFSETFROM:-0500
TZOFFSETTO:-0400
TZNAME:EDT
DTSTART:20230312T070000
END:DAYLIGHT
BEGIN:STANDARD
TZOFFSETFROM:-0400
TZOFFSETTO:-0500
TZNAME:EST
DTSTART:20231105T060000
END:STANDARD
BEGIN:DAYLIGHT
TZOFFSETFROM:-0500
TZOFFSETTO:-0400
TZNAME:EDT
DTSTART:20240310T070000
END:DAYLIGHT
BEGIN:STANDARD
TZOFFSETFROM:-0400
TZOFFSETTO:-0500
TZNAME:EST
DTSTART:20241103T060000
END:STANDARD
BEGIN:DAYLIGHT
TZOFFSETFROM:-0500
TZOFFSETTO:-0400
TZNAME:EDT
DTSTART:20250309T070000
END:DAYLIGHT
BEGIN:STANDARD
TZOFFSETFROM:-0400
TZOFFSETTO:-0500
TZNAME:EST
DTSTART:20251102T060000
END:STANDARD
END:VTIMEZONE
BEGIN:VEVENT
DTSTART;TZID=America/Toronto:20240115T100000
DTEND;TZID=America/Toronto:20240115T110000
DTSTAMP:20260421T162639
CREATED:20230810T190727Z
LAST-MODIFIED:20231218T163457Z
UID:10002516-1705312800-1705316400@ccckl.ca
SUMMARY:Fenelon Falls SAGES
DESCRIPTION:Join us every Monday and Wednesday at 10:00 am at the Senior Citizens Club of Fenelon Falls for Gentle Exercise for Seniors. \n\n\n\nCost: $2 per session\, registration not required. First session is free! \n\n\n\nFor more information call 705-324-7323 ext. 165 or email wellness@ccckl.ca
URL:https://ccckl.ca/events/fenelon-falls-sages-3/2024-01-15/
LOCATION:Senior Citizens Club Of Fenelon Falls\, 58 Murray Street\, Fenelon Falls\, Ontario\, K0M 1N0\, Canada
CATEGORIES:SAGES
ATTACH;FMTTYPE=image/jpeg:https://ccckl.ca/wp-content/uploads/2023/03/Sages-logo-RGB.jpg
END:VEVENT
BEGIN:VEVENT
DTSTART;TZID=America/Toronto:20240115T093000
DTEND;TZID=America/Toronto:20240115T103000
DTSTAMP:20260421T162639
CREATED:20230810T154613Z
LAST-MODIFIED:20240421T115621Z
UID:10001636-1705311000-1705314600@ccckl.ca
SUMMARY:Burnt River SAGES
DESCRIPTION:Join us every Monday and Friday (except holidays) at 9:30 am at the Burnt River Community Centre for Gentle Exercise for Seniors. \n\n\n\nCost: $3 per session\, registration not required. First session is free! \n\n\n\nFor more information call 705-324-7323 ext. 165 or email wellness@ccckl.ca
URL:https://ccckl.ca/events/burnt-river-sages/2024-01-15/
LOCATION:Burnt River Somerville Centre\, 16 Somerville Centre Rd\, Burnt River\, Ontario\, K0M1C0\, Canada
CATEGORIES:SAGES
ATTACH;FMTTYPE=image/jpeg:https://ccckl.ca/wp-content/uploads/2023/03/Sages-logo-RGB.jpg
END:VEVENT
BEGIN:VEVENT
DTSTART;TZID=America/Toronto:20240112T093000
DTEND;TZID=America/Toronto:20240112T103000
DTSTAMP:20260421T162639
CREATED:20230810T154613Z
LAST-MODIFIED:20240421T115621Z
UID:10001635-1705051800-1705055400@ccckl.ca
SUMMARY:Burnt River SAGES
DESCRIPTION:Join us every Monday and Friday (except holidays) at 9:30 am at the Burnt River Community Centre for Gentle Exercise for Seniors. \n\n\n\nCost: $3 per session\, registration not required. First session is free! \n\n\n\nFor more information call 705-324-7323 ext. 165 or email wellness@ccckl.ca
URL:https://ccckl.ca/events/burnt-river-sages/2024-01-12/
LOCATION:Burnt River Somerville Centre\, 16 Somerville Centre Rd\, Burnt River\, Ontario\, K0M1C0\, Canada
CATEGORIES:SAGES
ATTACH;FMTTYPE=image/jpeg:https://ccckl.ca/wp-content/uploads/2023/03/Sages-logo-RGB.jpg
END:VEVENT
BEGIN:VEVENT
DTSTART;TZID=America/Toronto:20240111T100000
DTEND;TZID=America/Toronto:20240111T110000
DTSTAMP:20260421T162639
CREATED:20230810T190900Z
LAST-MODIFIED:20231218T163714Z
UID:10002656-1704967200-1704970800@ccckl.ca
SUMMARY:Bobcaygeon SAGES
DESCRIPTION:Join us every Monday and Thursday at 10:00 am at the Bobcaygeon Senior’s Centre for Gentle Exercise for Seniors. \n\n\n\nCost: $3 per session\, pre-registration for the Bobcaygeon SAGES program is required. First session is free! \n\n\n\nFor more information\, or to register\, call 705-324-7323 ext. 165 or email wellness@ccckl.ca
URL:https://ccckl.ca/events/bobcaygeon-sages-2/2024-01-11/
LOCATION:Bobcaygeon Senior Centre\, 100 Head Street\, Bobcaygeon\, Canada
CATEGORIES:SAGES
ATTACH;FMTTYPE=image/jpeg:https://ccckl.ca/wp-content/uploads/2023/03/Sages-logo-RGB.jpg
END:VEVENT
BEGIN:VEVENT
DTSTART;TZID=America/Toronto:20240111T093000
DTEND;TZID=America/Toronto:20240111T103000
DTSTAMP:20260421T162639
CREATED:20231005T131611Z
LAST-MODIFIED:20231218T163348Z
UID:10002970-1704965400-1704969000@ccckl.ca
SUMMARY:Kirkfield SAGES
DESCRIPTION:Join us every Thursday at 9:30 am at the Kirkfield District Lions Club for Gentle Exercise for Seniors. \n\n\n\nCost: $3 per session\, registration not required. First session is free! \n\n\n\nFor more information call 705-324-7323 ext. 165 or email wellness@ccckl.ca
URL:https://ccckl.ca/events/kirkfield-sages-2/2024-01-11/
LOCATION:Kirkfield & District Lions Club\, 973 Portage Rd\, Kirkfield\, Ontario\, K0M 2B0\, Canada
CATEGORIES:SAGES
ATTACH;FMTTYPE=image/jpeg:https://ccckl.ca/wp-content/uploads/2023/03/Sages-logo-RGB.jpg
END:VEVENT
BEGIN:VEVENT
DTSTART;TZID=America/Toronto:20240110T104500
DTEND;TZID=America/Toronto:20240110T120000
DTSTAMP:20260421T162639
CREATED:20231005T132529Z
LAST-MODIFIED:20231218T163605Z
UID:10003084-1704883500-1704888000@ccckl.ca
SUMMARY:Lindsay SAGES
DESCRIPTION:Join us Wednesdays* at 10:45 am at Victoria Park Armoury in Lindsay for Gentle Exercise for Seniors.  \n\n\n\n*except the first Wednesday of each month. \n\n\n\nCost: Connect with the Lindsay Senior’s Association for more information. First session is free! \n\n\n\nFor more information call 705-324-7323 ext. 165 or email wellness@ccckl.ca
URL:https://ccckl.ca/events/lindsay-sages-2/2024-01-10/
LOCATION:Victoria Park Armoury\, 210 Kent St W\, Lindsay\, Ontario\, K9V 2Y8\, Canada
CATEGORIES:SAGES
END:VEVENT
BEGIN:VEVENT
DTSTART;TZID=America/Toronto:20240110T100000
DTEND;TZID=America/Toronto:20240110T110000
DTSTAMP:20260421T162639
CREATED:20230810T190727Z
LAST-MODIFIED:20231218T163457Z
UID:10002515-1704880800-1704884400@ccckl.ca
SUMMARY:Fenelon Falls SAGES
DESCRIPTION:Join us every Monday and Wednesday at 10:00 am at the Senior Citizens Club of Fenelon Falls for Gentle Exercise for Seniors. \n\n\n\nCost: $2 per session\, registration not required. First session is free! \n\n\n\nFor more information call 705-324-7323 ext. 165 or email wellness@ccckl.ca
URL:https://ccckl.ca/events/fenelon-falls-sages-3/2024-01-10/
LOCATION:Senior Citizens Club Of Fenelon Falls\, 58 Murray Street\, Fenelon Falls\, Ontario\, K0M 1N0\, Canada
CATEGORIES:SAGES
ATTACH;FMTTYPE=image/jpeg:https://ccckl.ca/wp-content/uploads/2023/03/Sages-logo-RGB.jpg
END:VEVENT
BEGIN:VEVENT
DTSTART;TZID=America/Toronto:20240109T100000
DTEND;TZID=America/Toronto:20240109T110000
DTSTAMP:20260421T162639
CREATED:20230810T191211Z
LAST-MODIFIED:20231214T212853Z
UID:10002776-1704794400-1704798000@ccckl.ca
SUMMARY:Coboconk SAGES
DESCRIPTION:Join us every Tuesdays at 10:00 am at the Coboconk Legion for Gentle Exercise for Seniors. \n\n\n\nCost: $2 per session\, registration not required. First session is free! \n\n\n\nFor more information call 705-324-7323 ext. 165 or email wellness@ccckl.ca
URL:https://ccckl.ca/events/coboconk-sages-2/2024-01-09/
LOCATION:Royal Canadian Legion\, Branch 519\, 2916 Kawartha Lakes Rd 48\, Coboconk\, Ontario\, K0M 1K0\, Canada
CATEGORIES:SAGES
ATTACH;FMTTYPE=image/jpeg:https://ccckl.ca/wp-content/uploads/2023/03/Sages-logo-RGB.jpg
END:VEVENT
BEGIN:VEVENT
DTSTART;TZID=America/Toronto:20240109T093000
DTEND;TZID=America/Toronto:20240109T103000
DTSTAMP:20260421T162639
CREATED:20230810T191728Z
LAST-MODIFIED:20231218T163205Z
UID:10002890-1704792600-1704796200@ccckl.ca
SUMMARY:Manilla SAGES
DESCRIPTION:Join us every Tuesday at 9:30 at the Manilla Library for Gentle Exercise for Seniors. \n\n\n\nCost: $3 per session\, registration not required. First session is free! \n\n\n\nFor more information call 705-324-7323 ext. 165 or email wellness@ccckl.ca
URL:https://ccckl.ca/events/manilla-sages-2/2024-01-09/
LOCATION:Manilla Library\, 17025 Simcoe St.\, Manilla\, K0M 2J0\, Canada
CATEGORIES:SAGES
ATTACH;FMTTYPE=image/jpeg:https://ccckl.ca/wp-content/uploads/2023/03/Sages-logo-RGB.jpg
END:VEVENT
BEGIN:VEVENT
DTSTART;TZID=America/Toronto:20240108T100000
DTEND;TZID=America/Toronto:20240108T110000
DTSTAMP:20260421T162639
CREATED:20230810T190900Z
LAST-MODIFIED:20231218T163714Z
UID:10002592-1704708000-1704711600@ccckl.ca
SUMMARY:Bobcaygeon SAGES
DESCRIPTION:Join us every Monday and Thursday at 10:00 am at the Bobcaygeon Senior’s Centre for Gentle Exercise for Seniors. \n\n\n\nCost: $3 per session\, pre-registration for the Bobcaygeon SAGES program is required. First session is free! \n\n\n\nFor more information\, or to register\, call 705-324-7323 ext. 165 or email wellness@ccckl.ca
URL:https://ccckl.ca/events/bobcaygeon-sages-2/2024-01-08/
LOCATION:Bobcaygeon Senior Centre\, 100 Head Street\, Bobcaygeon\, Canada
CATEGORIES:SAGES
ATTACH;FMTTYPE=image/jpeg:https://ccckl.ca/wp-content/uploads/2023/03/Sages-logo-RGB.jpg
END:VEVENT
BEGIN:VEVENT
DTSTART;TZID=America/Toronto:20240108T100000
DTEND;TZID=America/Toronto:20240108T110000
DTSTAMP:20260421T162639
CREATED:20230810T190727Z
LAST-MODIFIED:20231218T163457Z
UID:10002514-1704708000-1704711600@ccckl.ca
SUMMARY:Fenelon Falls SAGES
DESCRIPTION:Join us every Monday and Wednesday at 10:00 am at the Senior Citizens Club of Fenelon Falls for Gentle Exercise for Seniors. \n\n\n\nCost: $2 per session\, registration not required. First session is free! \n\n\n\nFor more information call 705-324-7323 ext. 165 or email wellness@ccckl.ca
URL:https://ccckl.ca/events/fenelon-falls-sages-3/2024-01-08/
LOCATION:Senior Citizens Club Of Fenelon Falls\, 58 Murray Street\, Fenelon Falls\, Ontario\, K0M 1N0\, Canada
CATEGORIES:SAGES
ATTACH;FMTTYPE=image/jpeg:https://ccckl.ca/wp-content/uploads/2023/03/Sages-logo-RGB.jpg
END:VEVENT
BEGIN:VEVENT
DTSTART;TZID=America/Toronto:20240108T093000
DTEND;TZID=America/Toronto:20240108T103000
DTSTAMP:20260421T162639
CREATED:20230810T154613Z
LAST-MODIFIED:20240421T115621Z
UID:10001634-1704706200-1704709800@ccckl.ca
SUMMARY:Burnt River SAGES
DESCRIPTION:Join us every Monday and Friday (except holidays) at 9:30 am at the Burnt River Community Centre for Gentle Exercise for Seniors. \n\n\n\nCost: $3 per session\, registration not required. First session is free! \n\n\n\nFor more information call 705-324-7323 ext. 165 or email wellness@ccckl.ca
URL:https://ccckl.ca/events/burnt-river-sages/2024-01-08/
LOCATION:Burnt River Somerville Centre\, 16 Somerville Centre Rd\, Burnt River\, Ontario\, K0M1C0\, Canada
CATEGORIES:SAGES
ATTACH;FMTTYPE=image/jpeg:https://ccckl.ca/wp-content/uploads/2023/03/Sages-logo-RGB.jpg
END:VEVENT
BEGIN:VEVENT
DTSTART;TZID=America/Toronto:20240105T093000
DTEND;TZID=America/Toronto:20240105T103000
DTSTAMP:20260421T162639
CREATED:20230810T154613Z
LAST-MODIFIED:20240421T115621Z
UID:10001633-1704447000-1704450600@ccckl.ca
SUMMARY:Burnt River SAGES
DESCRIPTION:Join us every Monday and Friday (except holidays) at 9:30 am at the Burnt River Community Centre for Gentle Exercise for Seniors. \n\n\n\nCost: $3 per session\, registration not required. First session is free! \n\n\n\nFor more information call 705-324-7323 ext. 165 or email wellness@ccckl.ca
URL:https://ccckl.ca/events/burnt-river-sages/2024-01-05/
LOCATION:Burnt River Somerville Centre\, 16 Somerville Centre Rd\, Burnt River\, Ontario\, K0M1C0\, Canada
CATEGORIES:SAGES
ATTACH;FMTTYPE=image/jpeg:https://ccckl.ca/wp-content/uploads/2023/03/Sages-logo-RGB.jpg
END:VEVENT
BEGIN:VEVENT
DTSTART;TZID=America/Toronto:20231222T093000
DTEND;TZID=America/Toronto:20231222T103000
DTSTAMP:20260421T162639
CREATED:20230810T154613Z
LAST-MODIFIED:20240421T115621Z
UID:10001632-1703237400-1703241000@ccckl.ca
SUMMARY:Burnt River SAGES
DESCRIPTION:Join us every Monday and Friday (except holidays) at 9:30 am at the Burnt River Community Centre for Gentle Exercise for Seniors. \n\n\n\nCost: $3 per session\, registration not required. First session is free! \n\n\n\nFor more information call 705-324-7323 ext. 165 or email wellness@ccckl.ca
URL:https://ccckl.ca/events/burnt-river-sages/2023-12-22/
LOCATION:Burnt River Somerville Centre\, 16 Somerville Centre Rd\, Burnt River\, Ontario\, K0M1C0\, Canada
CATEGORIES:SAGES
ATTACH;FMTTYPE=image/jpeg:https://ccckl.ca/wp-content/uploads/2023/03/Sages-logo-RGB.jpg
END:VEVENT
BEGIN:VEVENT
DTSTART;TZID=America/Toronto:20231221T100000
DTEND;TZID=America/Toronto:20231221T110000
DTSTAMP:20260421T162639
CREATED:20230810T190900Z
LAST-MODIFIED:20231218T163714Z
UID:10002653-1703152800-1703156400@ccckl.ca
SUMMARY:Bobcaygeon SAGES
DESCRIPTION:Join us every Monday and Thursday at 10:00 am at the Bobcaygeon Senior’s Centre for Gentle Exercise for Seniors. \n\n\n\nCost: $3 per session\, pre-registration for the Bobcaygeon SAGES program is required. First session is free! \n\n\n\nFor more information\, or to register\, call 705-324-7323 ext. 165 or email wellness@ccckl.ca
URL:https://ccckl.ca/events/bobcaygeon-sages-2/2023-12-21/
LOCATION:Bobcaygeon Senior Centre\, 100 Head Street\, Bobcaygeon\, Canada
CATEGORIES:SAGES
ATTACH;FMTTYPE=image/jpeg:https://ccckl.ca/wp-content/uploads/2023/03/Sages-logo-RGB.jpg
END:VEVENT
BEGIN:VEVENT
DTSTART;TZID=America/Toronto:20231220T104500
DTEND;TZID=America/Toronto:20231220T120000
DTSTAMP:20260421T162639
CREATED:20231005T132529Z
LAST-MODIFIED:20231218T163605Z
UID:10003082-1703069100-1703073600@ccckl.ca
SUMMARY:Lindsay SAGES
DESCRIPTION:Join us Wednesdays* at 10:45 am at Victoria Park Armoury in Lindsay for Gentle Exercise for Seniors.  \n\n\n\n*except the first Wednesday of each month. \n\n\n\nCost: Connect with the Lindsay Senior’s Association for more information. First session is free! \n\n\n\nFor more information call 705-324-7323 ext. 165 or email wellness@ccckl.ca
URL:https://ccckl.ca/events/lindsay-sages-2/2023-12-20/
LOCATION:Victoria Park Armoury\, 210 Kent St W\, Lindsay\, Ontario\, K9V 2Y8\, Canada
CATEGORIES:SAGES
END:VEVENT
BEGIN:VEVENT
DTSTART;TZID=America/Toronto:20231220T100000
DTEND;TZID=America/Toronto:20231220T110000
DTSTAMP:20260421T162639
CREATED:20230810T190727Z
LAST-MODIFIED:20231218T163457Z
UID:10002511-1703066400-1703070000@ccckl.ca
SUMMARY:Fenelon Falls SAGES
DESCRIPTION:Join us every Monday and Wednesday at 10:00 am at the Senior Citizens Club of Fenelon Falls for Gentle Exercise for Seniors. \n\n\n\nCost: $2 per session\, registration not required. First session is free! \n\n\n\nFor more information call 705-324-7323 ext. 165 or email wellness@ccckl.ca
URL:https://ccckl.ca/events/fenelon-falls-sages-3/2023-12-20/
LOCATION:Senior Citizens Club Of Fenelon Falls\, 58 Murray Street\, Fenelon Falls\, Ontario\, K0M 1N0\, Canada
CATEGORIES:SAGES
ATTACH;FMTTYPE=image/jpeg:https://ccckl.ca/wp-content/uploads/2023/03/Sages-logo-RGB.jpg
END:VEVENT
BEGIN:VEVENT
DTSTART;TZID=America/Toronto:20231219T100000
DTEND;TZID=America/Toronto:20231219T110000
DTSTAMP:20260421T162639
CREATED:20230810T191211Z
LAST-MODIFIED:20231214T212853Z
UID:10002773-1702980000-1702983600@ccckl.ca
SUMMARY:Coboconk SAGES
DESCRIPTION:Join us every Tuesdays at 10:00 am at the Coboconk Legion for Gentle Exercise for Seniors. \n\n\n\nCost: $2 per session\, registration not required. First session is free! \n\n\n\nFor more information call 705-324-7323 ext. 165 or email wellness@ccckl.ca
URL:https://ccckl.ca/events/coboconk-sages-2/2023-12-19/
LOCATION:Royal Canadian Legion\, Branch 519\, 2916 Kawartha Lakes Rd 48\, Coboconk\, Ontario\, K0M 1K0\, Canada
CATEGORIES:SAGES
ATTACH;FMTTYPE=image/jpeg:https://ccckl.ca/wp-content/uploads/2023/03/Sages-logo-RGB.jpg
END:VEVENT
BEGIN:VEVENT
DTSTART;TZID=America/Toronto:20231218T100000
DTEND;TZID=America/Toronto:20231218T110000
DTSTAMP:20260421T162639
CREATED:20230810T190900Z
LAST-MODIFIED:20231218T163714Z
UID:10002588-1702893600-1702897200@ccckl.ca
SUMMARY:Bobcaygeon SAGES
DESCRIPTION:Join us every Monday and Thursday at 10:00 am at the Bobcaygeon Senior’s Centre for Gentle Exercise for Seniors. \n\n\n\nCost: $3 per session\, pre-registration for the Bobcaygeon SAGES program is required. First session is free! \n\n\n\nFor more information\, or to register\, call 705-324-7323 ext. 165 or email wellness@ccckl.ca
URL:https://ccckl.ca/events/bobcaygeon-sages-2/2023-12-18/
LOCATION:Bobcaygeon Senior Centre\, 100 Head Street\, Bobcaygeon\, Canada
CATEGORIES:SAGES
ATTACH;FMTTYPE=image/jpeg:https://ccckl.ca/wp-content/uploads/2023/03/Sages-logo-RGB.jpg
END:VEVENT
BEGIN:VEVENT
DTSTART;TZID=America/Toronto:20231218T100000
DTEND;TZID=America/Toronto:20231218T110000
DTSTAMP:20260421T162639
CREATED:20230810T190727Z
LAST-MODIFIED:20231218T163457Z
UID:10002510-1702893600-1702897200@ccckl.ca
SUMMARY:Fenelon Falls SAGES
DESCRIPTION:Join us every Monday and Wednesday at 10:00 am at the Senior Citizens Club of Fenelon Falls for Gentle Exercise for Seniors. \n\n\n\nCost: $2 per session\, registration not required. First session is free! \n\n\n\nFor more information call 705-324-7323 ext. 165 or email wellness@ccckl.ca
URL:https://ccckl.ca/events/fenelon-falls-sages-3/2023-12-18/
LOCATION:Senior Citizens Club Of Fenelon Falls\, 58 Murray Street\, Fenelon Falls\, Ontario\, K0M 1N0\, Canada
CATEGORIES:SAGES
ATTACH;FMTTYPE=image/jpeg:https://ccckl.ca/wp-content/uploads/2023/03/Sages-logo-RGB.jpg
END:VEVENT
BEGIN:VEVENT
DTSTART;TZID=America/Toronto:20231218T093000
DTEND;TZID=America/Toronto:20231218T103000
DTSTAMP:20260421T162639
CREATED:20230810T154613Z
LAST-MODIFIED:20240421T115621Z
UID:10001631-1702891800-1702895400@ccckl.ca
SUMMARY:Burnt River SAGES
DESCRIPTION:Join us every Monday and Friday (except holidays) at 9:30 am at the Burnt River Community Centre for Gentle Exercise for Seniors. \n\n\n\nCost: $3 per session\, registration not required. First session is free! \n\n\n\nFor more information call 705-324-7323 ext. 165 or email wellness@ccckl.ca
URL:https://ccckl.ca/events/burnt-river-sages/2023-12-18/
LOCATION:Burnt River Somerville Centre\, 16 Somerville Centre Rd\, Burnt River\, Ontario\, K0M1C0\, Canada
CATEGORIES:SAGES
ATTACH;FMTTYPE=image/jpeg:https://ccckl.ca/wp-content/uploads/2023/03/Sages-logo-RGB.jpg
END:VEVENT
BEGIN:VEVENT
DTSTART;TZID=America/Toronto:20231215T093000
DTEND;TZID=America/Toronto:20231215T103000
DTSTAMP:20260421T162639
CREATED:20230810T154613Z
LAST-MODIFIED:20240421T115621Z
UID:10001630-1702632600-1702636200@ccckl.ca
SUMMARY:Burnt River SAGES
DESCRIPTION:Join us every Monday and Friday (except holidays) at 9:30 am at the Burnt River Community Centre for Gentle Exercise for Seniors. \n\n\n\nCost: $3 per session\, registration not required. First session is free! \n\n\n\nFor more information call 705-324-7323 ext. 165 or email wellness@ccckl.ca
URL:https://ccckl.ca/events/burnt-river-sages/2023-12-15/
LOCATION:Burnt River Somerville Centre\, 16 Somerville Centre Rd\, Burnt River\, Ontario\, K0M1C0\, Canada
CATEGORIES:SAGES
ATTACH;FMTTYPE=image/jpeg:https://ccckl.ca/wp-content/uploads/2023/03/Sages-logo-RGB.jpg
END:VEVENT
BEGIN:VEVENT
DTSTART;TZID=America/Toronto:20231214T100000
DTEND;TZID=America/Toronto:20231214T110000
DTSTAMP:20260421T162639
CREATED:20230810T190900Z
LAST-MODIFIED:20231218T163714Z
UID:10002652-1702548000-1702551600@ccckl.ca
SUMMARY:Bobcaygeon SAGES
DESCRIPTION:Join us every Monday and Thursday at 10:00 am at the Bobcaygeon Senior’s Centre for Gentle Exercise for Seniors. \n\n\n\nCost: $3 per session\, pre-registration for the Bobcaygeon SAGES program is required. First session is free! \n\n\n\nFor more information\, or to register\, call 705-324-7323 ext. 165 or email wellness@ccckl.ca
URL:https://ccckl.ca/events/bobcaygeon-sages-2/2023-12-14/
LOCATION:Bobcaygeon Senior Centre\, 100 Head Street\, Bobcaygeon\, Canada
CATEGORIES:SAGES
ATTACH;FMTTYPE=image/jpeg:https://ccckl.ca/wp-content/uploads/2023/03/Sages-logo-RGB.jpg
END:VEVENT
BEGIN:VEVENT
DTSTART;TZID=America/Toronto:20231214T093000
DTEND;TZID=America/Toronto:20231214T103000
DTSTAMP:20260421T162639
CREATED:20231005T131611Z
LAST-MODIFIED:20231218T163348Z
UID:10002968-1702546200-1702549800@ccckl.ca
SUMMARY:Kirkfield SAGES
DESCRIPTION:Join us every Thursday at 9:30 am at the Kirkfield District Lions Club for Gentle Exercise for Seniors. \n\n\n\nCost: $3 per session\, registration not required. First session is free! \n\n\n\nFor more information call 705-324-7323 ext. 165 or email wellness@ccckl.ca
URL:https://ccckl.ca/events/kirkfield-sages-2/2023-12-14/
LOCATION:Kirkfield & District Lions Club\, 973 Portage Rd\, Kirkfield\, Ontario\, K0M 2B0\, Canada
CATEGORIES:SAGES
ATTACH;FMTTYPE=image/jpeg:https://ccckl.ca/wp-content/uploads/2023/03/Sages-logo-RGB.jpg
END:VEVENT
BEGIN:VEVENT
DTSTART;TZID=America/Toronto:20231213T104500
DTEND;TZID=America/Toronto:20231213T120000
DTSTAMP:20260421T162639
CREATED:20231005T132529Z
LAST-MODIFIED:20231218T163605Z
UID:10003081-1702464300-1702468800@ccckl.ca
SUMMARY:Lindsay SAGES
DESCRIPTION:Join us Wednesdays* at 10:45 am at Victoria Park Armoury in Lindsay for Gentle Exercise for Seniors.  \n\n\n\n*except the first Wednesday of each month. \n\n\n\nCost: Connect with the Lindsay Senior’s Association for more information. First session is free! \n\n\n\nFor more information call 705-324-7323 ext. 165 or email wellness@ccckl.ca
URL:https://ccckl.ca/events/lindsay-sages-2/2023-12-13/
LOCATION:Victoria Park Armoury\, 210 Kent St W\, Lindsay\, Ontario\, K9V 2Y8\, Canada
CATEGORIES:SAGES
END:VEVENT
BEGIN:VEVENT
DTSTART;TZID=America/Toronto:20231213T100000
DTEND;TZID=America/Toronto:20231213T110000
DTSTAMP:20260421T162639
CREATED:20230810T190727Z
LAST-MODIFIED:20231218T163457Z
UID:10002509-1702461600-1702465200@ccckl.ca
SUMMARY:Fenelon Falls SAGES
DESCRIPTION:Join us every Monday and Wednesday at 10:00 am at the Senior Citizens Club of Fenelon Falls for Gentle Exercise for Seniors. \n\n\n\nCost: $2 per session\, registration not required. First session is free! \n\n\n\nFor more information call 705-324-7323 ext. 165 or email wellness@ccckl.ca
URL:https://ccckl.ca/events/fenelon-falls-sages-3/2023-12-13/
LOCATION:Senior Citizens Club Of Fenelon Falls\, 58 Murray Street\, Fenelon Falls\, Ontario\, K0M 1N0\, Canada
CATEGORIES:SAGES
ATTACH;FMTTYPE=image/jpeg:https://ccckl.ca/wp-content/uploads/2023/03/Sages-logo-RGB.jpg
END:VEVENT
BEGIN:VEVENT
DTSTART;TZID=America/Toronto:20231212T100000
DTEND;TZID=America/Toronto:20231212T110000
DTSTAMP:20260421T162639
CREATED:20230810T191211Z
LAST-MODIFIED:20231214T212853Z
UID:10002772-1702375200-1702378800@ccckl.ca
SUMMARY:Coboconk SAGES
DESCRIPTION:Join us every Tuesdays at 10:00 am at the Coboconk Legion for Gentle Exercise for Seniors. \n\n\n\nCost: $2 per session\, registration not required. First session is free! \n\n\n\nFor more information call 705-324-7323 ext. 165 or email wellness@ccckl.ca
URL:https://ccckl.ca/events/coboconk-sages-2/2023-12-12/
LOCATION:Royal Canadian Legion\, Branch 519\, 2916 Kawartha Lakes Rd 48\, Coboconk\, Ontario\, K0M 1K0\, Canada
CATEGORIES:SAGES
ATTACH;FMTTYPE=image/jpeg:https://ccckl.ca/wp-content/uploads/2023/03/Sages-logo-RGB.jpg
END:VEVENT
BEGIN:VEVENT
DTSTART;TZID=America/Toronto:20231212T093000
DTEND;TZID=America/Toronto:20231212T103000
DTSTAMP:20260421T162639
CREATED:20230810T191728Z
LAST-MODIFIED:20231218T163205Z
UID:10002888-1702373400-1702377000@ccckl.ca
SUMMARY:Manilla SAGES
DESCRIPTION:Join us every Tuesday at 9:30 at the Manilla Library for Gentle Exercise for Seniors. \n\n\n\nCost: $3 per session\, registration not required. First session is free! \n\n\n\nFor more information call 705-324-7323 ext. 165 or email wellness@ccckl.ca
URL:https://ccckl.ca/events/manilla-sages-2/2023-12-12/
LOCATION:Manilla Library\, 17025 Simcoe St.\, Manilla\, K0M 2J0\, Canada
CATEGORIES:SAGES
ATTACH;FMTTYPE=image/jpeg:https://ccckl.ca/wp-content/uploads/2023/03/Sages-logo-RGB.jpg
END:VEVENT
BEGIN:VEVENT
DTSTART;TZID=America/Toronto:20231211T100000
DTEND;TZID=America/Toronto:20231211T110000
DTSTAMP:20260421T162639
CREATED:20230810T190900Z
LAST-MODIFIED:20231218T163714Z
UID:10002586-1702288800-1702292400@ccckl.ca
SUMMARY:Bobcaygeon SAGES
DESCRIPTION:Join us every Monday and Thursday at 10:00 am at the Bobcaygeon Senior’s Centre for Gentle Exercise for Seniors. \n\n\n\nCost: $3 per session\, pre-registration for the Bobcaygeon SAGES program is required. First session is free! \n\n\n\nFor more information\, or to register\, call 705-324-7323 ext. 165 or email wellness@ccckl.ca
URL:https://ccckl.ca/events/bobcaygeon-sages-2/2023-12-11/
LOCATION:Bobcaygeon Senior Centre\, 100 Head Street\, Bobcaygeon\, Canada
CATEGORIES:SAGES
ATTACH;FMTTYPE=image/jpeg:https://ccckl.ca/wp-content/uploads/2023/03/Sages-logo-RGB.jpg
END:VEVENT
BEGIN:VEVENT
DTSTART;TZID=America/Toronto:20231211T100000
DTEND;TZID=America/Toronto:20231211T110000
DTSTAMP:20260421T162639
CREATED:20230810T190727Z
LAST-MODIFIED:20231218T163457Z
UID:10002508-1702288800-1702292400@ccckl.ca
SUMMARY:Fenelon Falls SAGES
DESCRIPTION:Join us every Monday and Wednesday at 10:00 am at the Senior Citizens Club of Fenelon Falls for Gentle Exercise for Seniors. \n\n\n\nCost: $2 per session\, registration not required. First session is free! \n\n\n\nFor more information call 705-324-7323 ext. 165 or email wellness@ccckl.ca
URL:https://ccckl.ca/events/fenelon-falls-sages-3/2023-12-11/
LOCATION:Senior Citizens Club Of Fenelon Falls\, 58 Murray Street\, Fenelon Falls\, Ontario\, K0M 1N0\, Canada
CATEGORIES:SAGES
ATTACH;FMTTYPE=image/jpeg:https://ccckl.ca/wp-content/uploads/2023/03/Sages-logo-RGB.jpg
END:VEVENT
END:VCALENDAR