BEGIN:VCALENDAR
VERSION:2.0
PRODID:-//Community Care City of Kawartha Lakes - ECPv6.15.13//NONSGML v1.0//EN
CALSCALE:GREGORIAN
METHOD:PUBLISH
X-WR-CALNAME:Community Care City of Kawartha Lakes
X-ORIGINAL-URL:https://ccckl.ca
X-WR-CALDESC:Events for Community Care City of Kawartha Lakes
REFRESH-INTERVAL;VALUE=DURATION:PT1H
X-Robots-Tag:noindex
X-PUBLISHED-TTL:PT1H
BEGIN:VTIMEZONE
TZID:America/Toronto
BEGIN:DAYLIGHT
TZOFFSETFROM:-0500
TZOFFSETTO:-0400
TZNAME:EDT
DTSTART:20220313T070000
END:DAYLIGHT
BEGIN:STANDARD
TZOFFSETFROM:-0400
TZOFFSETTO:-0500
TZNAME:EST
DTSTART:20221106T060000
END:STANDARD
BEGIN:DAYLIGHT
TZOFFSETFROM:-0500
TZOFFSETTO:-0400
TZNAME:EDT
DTSTART:20230312T070000
END:DAYLIGHT
BEGIN:STANDARD
TZOFFSETFROM:-0400
TZOFFSETTO:-0500
TZNAME:EST
DTSTART:20231105T060000
END:STANDARD
BEGIN:DAYLIGHT
TZOFFSETFROM:-0500
TZOFFSETTO:-0400
TZNAME:EDT
DTSTART:20240310T070000
END:DAYLIGHT
BEGIN:STANDARD
TZOFFSETFROM:-0400
TZOFFSETTO:-0500
TZNAME:EST
DTSTART:20241103T060000
END:STANDARD
END:VTIMEZONE
BEGIN:VEVENT
DTSTART;TZID=America/Toronto:20230719T100000
DTEND;TZID=America/Toronto:20230719T110000
DTSTAMP:20260422T143348
CREATED:20230324T131504Z
LAST-MODIFIED:20230324T131506Z
UID:10000837-1689760800-1689764400@ccckl.ca
SUMMARY:Fenelon Falls SAGES
DESCRIPTION:Join us every Wednesday at 10:00 am at the Senior Citizens Club of Fenelon Falls for Gentle Exercise for Seniors. \n\n\n\nCost: $3 per session\, registration not required. First session is free! \n\n\n\nFor more information call 705-324-7323 ext. 165 or email wellness@ccckl.ca
URL:https://ccckl.ca/events/fenelon-falls-sages/2023-07-19/
LOCATION:Senior Citizens Club Of Fenelon Falls\, 58 Murray Street\, Fenelon Falls\, Ontario\, K0M 1N0\, Canada
CATEGORIES:SAGES
ATTACH;FMTTYPE=image/jpeg:https://ccckl.ca/wp-content/uploads/2023/03/Sages-logo-RGB.jpg
END:VEVENT
BEGIN:VEVENT
DTSTART;TZID=America/Toronto:20230712T100000
DTEND;TZID=America/Toronto:20230712T110000
DTSTAMP:20260422T143348
CREATED:20230324T131504Z
LAST-MODIFIED:20230324T131506Z
UID:10000836-1689156000-1689159600@ccckl.ca
SUMMARY:Fenelon Falls SAGES
DESCRIPTION:Join us every Wednesday at 10:00 am at the Senior Citizens Club of Fenelon Falls for Gentle Exercise for Seniors. \n\n\n\nCost: $3 per session\, registration not required. First session is free! \n\n\n\nFor more information call 705-324-7323 ext. 165 or email wellness@ccckl.ca
URL:https://ccckl.ca/events/fenelon-falls-sages/2023-07-12/
LOCATION:Senior Citizens Club Of Fenelon Falls\, 58 Murray Street\, Fenelon Falls\, Ontario\, K0M 1N0\, Canada
CATEGORIES:SAGES
ATTACH;FMTTYPE=image/jpeg:https://ccckl.ca/wp-content/uploads/2023/03/Sages-logo-RGB.jpg
END:VEVENT
BEGIN:VEVENT
DTSTART;TZID=America/Toronto:20230705T100000
DTEND;TZID=America/Toronto:20230705T110000
DTSTAMP:20260422T143348
CREATED:20230324T131504Z
LAST-MODIFIED:20230324T131506Z
UID:10000835-1688551200-1688554800@ccckl.ca
SUMMARY:Fenelon Falls SAGES
DESCRIPTION:Join us every Wednesday at 10:00 am at the Senior Citizens Club of Fenelon Falls for Gentle Exercise for Seniors. \n\n\n\nCost: $3 per session\, registration not required. First session is free! \n\n\n\nFor more information call 705-324-7323 ext. 165 or email wellness@ccckl.ca
URL:https://ccckl.ca/events/fenelon-falls-sages/2023-07-05/
LOCATION:Senior Citizens Club Of Fenelon Falls\, 58 Murray Street\, Fenelon Falls\, Ontario\, K0M 1N0\, Canada
CATEGORIES:SAGES
ATTACH;FMTTYPE=image/jpeg:https://ccckl.ca/wp-content/uploads/2023/03/Sages-logo-RGB.jpg
END:VEVENT
BEGIN:VEVENT
DTSTART;TZID=America/Toronto:20230628T100000
DTEND;TZID=America/Toronto:20230628T110000
DTSTAMP:20260422T143348
CREATED:20220610T154331Z
LAST-MODIFIED:20230324T130903Z
UID:10001052-1687946400-1687950000@ccckl.ca
SUMMARY:Fenelon Falls SAGES
DESCRIPTION:Join us every Monday and Wednesday (excluding holidays) at 10:00 am at the Senior Citizens Club of Fenelon Falls for Gentle Exercise for Seniors. \n\n\n\nCost: $3 per session\, registration not required. First session is free! \n\n\n\nFor more information call 705-324-7323 ext. 165 or email wellness@ccckl.ca
URL:https://ccckl.ca/events/sages-program/2023-06-28/
LOCATION:Senior Citizens Club Of Fenelon Falls\, 58 Murray Street\, Fenelon Falls\, Ontario\, K0M 1N0\, Canada
CATEGORIES:SAGES
END:VEVENT
BEGIN:VEVENT
DTSTART;TZID=America/Toronto:20230626T100000
DTEND;TZID=America/Toronto:20230626T110000
DTSTAMP:20260422T143348
CREATED:20220610T154331Z
LAST-MODIFIED:20230324T130903Z
UID:10001051-1687773600-1687777200@ccckl.ca
SUMMARY:Fenelon Falls SAGES
DESCRIPTION:Join us every Monday and Wednesday (excluding holidays) at 10:00 am at the Senior Citizens Club of Fenelon Falls for Gentle Exercise for Seniors. \n\n\n\nCost: $3 per session\, registration not required. First session is free! \n\n\n\nFor more information call 705-324-7323 ext. 165 or email wellness@ccckl.ca
URL:https://ccckl.ca/events/sages-program/2023-06-26/
LOCATION:Senior Citizens Club Of Fenelon Falls\, 58 Murray Street\, Fenelon Falls\, Ontario\, K0M 1N0\, Canada
CATEGORIES:SAGES
END:VEVENT
BEGIN:VEVENT
DTSTART;TZID=America/Toronto:20230621T100000
DTEND;TZID=America/Toronto:20230621T110000
DTSTAMP:20260422T143348
CREATED:20220610T154331Z
LAST-MODIFIED:20230324T130903Z
UID:10001050-1687341600-1687345200@ccckl.ca
SUMMARY:Fenelon Falls SAGES
DESCRIPTION:Join us every Monday and Wednesday (excluding holidays) at 10:00 am at the Senior Citizens Club of Fenelon Falls for Gentle Exercise for Seniors. \n\n\n\nCost: $3 per session\, registration not required. First session is free! \n\n\n\nFor more information call 705-324-7323 ext. 165 or email wellness@ccckl.ca
URL:https://ccckl.ca/events/sages-program/2023-06-21/
LOCATION:Senior Citizens Club Of Fenelon Falls\, 58 Murray Street\, Fenelon Falls\, Ontario\, K0M 1N0\, Canada
CATEGORIES:SAGES
END:VEVENT
BEGIN:VEVENT
DTSTART;TZID=America/Toronto:20230619T100000
DTEND;TZID=America/Toronto:20230619T110000
DTSTAMP:20260422T143348
CREATED:20220610T154331Z
LAST-MODIFIED:20230324T130903Z
UID:10001049-1687168800-1687172400@ccckl.ca
SUMMARY:Fenelon Falls SAGES
DESCRIPTION:Join us every Monday and Wednesday (excluding holidays) at 10:00 am at the Senior Citizens Club of Fenelon Falls for Gentle Exercise for Seniors. \n\n\n\nCost: $3 per session\, registration not required. First session is free! \n\n\n\nFor more information call 705-324-7323 ext. 165 or email wellness@ccckl.ca
URL:https://ccckl.ca/events/sages-program/2023-06-19/
LOCATION:Senior Citizens Club Of Fenelon Falls\, 58 Murray Street\, Fenelon Falls\, Ontario\, K0M 1N0\, Canada
CATEGORIES:SAGES
END:VEVENT
BEGIN:VEVENT
DTSTART;TZID=America/Toronto:20230614T100000
DTEND;TZID=America/Toronto:20230614T110000
DTSTAMP:20260422T143348
CREATED:20220610T154331Z
LAST-MODIFIED:20230324T130903Z
UID:10001048-1686736800-1686740400@ccckl.ca
SUMMARY:Fenelon Falls SAGES
DESCRIPTION:Join us every Monday and Wednesday (excluding holidays) at 10:00 am at the Senior Citizens Club of Fenelon Falls for Gentle Exercise for Seniors. \n\n\n\nCost: $3 per session\, registration not required. First session is free! \n\n\n\nFor more information call 705-324-7323 ext. 165 or email wellness@ccckl.ca
URL:https://ccckl.ca/events/sages-program/2023-06-14/
LOCATION:Senior Citizens Club Of Fenelon Falls\, 58 Murray Street\, Fenelon Falls\, Ontario\, K0M 1N0\, Canada
CATEGORIES:SAGES
END:VEVENT
BEGIN:VEVENT
DTSTART;TZID=America/Toronto:20230612T100000
DTEND;TZID=America/Toronto:20230612T110000
DTSTAMP:20260422T143348
CREATED:20220610T154331Z
LAST-MODIFIED:20230324T130903Z
UID:10001047-1686564000-1686567600@ccckl.ca
SUMMARY:Fenelon Falls SAGES
DESCRIPTION:Join us every Monday and Wednesday (excluding holidays) at 10:00 am at the Senior Citizens Club of Fenelon Falls for Gentle Exercise for Seniors. \n\n\n\nCost: $3 per session\, registration not required. First session is free! \n\n\n\nFor more information call 705-324-7323 ext. 165 or email wellness@ccckl.ca
URL:https://ccckl.ca/events/sages-program/2023-06-12/
LOCATION:Senior Citizens Club Of Fenelon Falls\, 58 Murray Street\, Fenelon Falls\, Ontario\, K0M 1N0\, Canada
CATEGORIES:SAGES
END:VEVENT
BEGIN:VEVENT
DTSTART;TZID=America/Toronto:20230607T100000
DTEND;TZID=America/Toronto:20230607T110000
DTSTAMP:20260422T143348
CREATED:20220610T154331Z
LAST-MODIFIED:20230324T130903Z
UID:10001046-1686132000-1686135600@ccckl.ca
SUMMARY:Fenelon Falls SAGES
DESCRIPTION:Join us every Monday and Wednesday (excluding holidays) at 10:00 am at the Senior Citizens Club of Fenelon Falls for Gentle Exercise for Seniors. \n\n\n\nCost: $3 per session\, registration not required. First session is free! \n\n\n\nFor more information call 705-324-7323 ext. 165 or email wellness@ccckl.ca
URL:https://ccckl.ca/events/sages-program/2023-06-07/
LOCATION:Senior Citizens Club Of Fenelon Falls\, 58 Murray Street\, Fenelon Falls\, Ontario\, K0M 1N0\, Canada
CATEGORIES:SAGES
END:VEVENT
BEGIN:VEVENT
DTSTART;TZID=America/Toronto:20230605T100000
DTEND;TZID=America/Toronto:20230605T110000
DTSTAMP:20260422T143348
CREATED:20220610T154331Z
LAST-MODIFIED:20230324T130903Z
UID:10001045-1685959200-1685962800@ccckl.ca
SUMMARY:Fenelon Falls SAGES
DESCRIPTION:Join us every Monday and Wednesday (excluding holidays) at 10:00 am at the Senior Citizens Club of Fenelon Falls for Gentle Exercise for Seniors. \n\n\n\nCost: $3 per session\, registration not required. First session is free! \n\n\n\nFor more information call 705-324-7323 ext. 165 or email wellness@ccckl.ca
URL:https://ccckl.ca/events/sages-program/2023-06-05/
LOCATION:Senior Citizens Club Of Fenelon Falls\, 58 Murray Street\, Fenelon Falls\, Ontario\, K0M 1N0\, Canada
CATEGORIES:SAGES
END:VEVENT
BEGIN:VEVENT
DTSTART;TZID=America/Toronto:20230531T103000
DTEND;TZID=America/Toronto:20230531T120000
DTSTAMP:20260422T143348
CREATED:20230728T141912Z
LAST-MODIFIED:20230728T141912Z
UID:10001201-1685529000-1685534400@ccckl.ca
SUMMARY:Lindsay SAGES
DESCRIPTION:Join us every Wednesday (excluding the first Wednesday of every month) 10:45 am at Victoria Park Armoury in Lindsay for Gentle Exercise for Seniors. \n\n\n\nCost: First time is free\, yearly membership with the Lindsay Seniors Centre. For more information check out https://lindsayseniors.com/membership/ or call 705-878-8261 \n\n\n\nHave any questions? Call 705-324-7323 ext. 165 or email wellness@ccckl.ca
URL:https://ccckl.ca/events/lindsay-sages/2023-05-31/
LOCATION:Victoria Park Armoury\, 210 Kent St W\, Lindsay\, Ontario\, K9V 2Y8\, Canada
CATEGORIES:SAGES
END:VEVENT
BEGIN:VEVENT
DTSTART;TZID=America/Toronto:20230531T100000
DTEND;TZID=America/Toronto:20230531T110000
DTSTAMP:20260422T143348
CREATED:20220610T154331Z
LAST-MODIFIED:20230324T130903Z
UID:10001044-1685527200-1685530800@ccckl.ca
SUMMARY:Fenelon Falls SAGES
DESCRIPTION:Join us every Monday and Wednesday (excluding holidays) at 10:00 am at the Senior Citizens Club of Fenelon Falls for Gentle Exercise for Seniors. \n\n\n\nCost: $3 per session\, registration not required. First session is free! \n\n\n\nFor more information call 705-324-7323 ext. 165 or email wellness@ccckl.ca
URL:https://ccckl.ca/events/sages-program/2023-05-31/
LOCATION:Senior Citizens Club Of Fenelon Falls\, 58 Murray Street\, Fenelon Falls\, Ontario\, K0M 1N0\, Canada
CATEGORIES:SAGES
END:VEVENT
BEGIN:VEVENT
DTSTART;TZID=America/Toronto:20230530T093000
DTEND;TZID=America/Toronto:20230530T103000
DTSTAMP:20260422T143348
CREATED:20221028T204726Z
LAST-MODIFIED:20230324T130340Z
UID:10001233-1685439000-1685442600@ccckl.ca
SUMMARY:Manilla SAGES
DESCRIPTION:Join us every Tuesday at 9:30 am at the Manilla Library for Gentle Exercise for Seniors. \n\n\n\nCost: $3 per session\, registration not required. First session is free! \n\n\n\nFor more information call 705-324-7323 ext. 165 or email wellness@ccckl.ca
URL:https://ccckl.ca/events/manilla-sages/2023-05-30/
LOCATION:Manilla Library\, 17025 Simcoe St.\, Manilla\, K0M 2J0\, Canada
CATEGORIES:SAGES
END:VEVENT
BEGIN:VEVENT
DTSTART;TZID=America/Toronto:20230529T100000
DTEND;TZID=America/Toronto:20230529T110000
DTSTAMP:20260422T143348
CREATED:20221028T195444Z
LAST-MODIFIED:20230324T162814Z
UID:10001127-1685354400-1685358000@ccckl.ca
SUMMARY:Bobcaygeon SAGES
DESCRIPTION:Join us every Monday and Thursday at 10:00 am at the Bobcaygeon Senior Centre for Gentle Exercise for Seniors. \n\n\n\nCost: $3 per session. \n\n\n\nFor more information call 705-324-7323 ext. 165 or email wellness@ccckl.ca
URL:https://ccckl.ca/events/bobcaygeon-sages/2023-05-29/
LOCATION:Bobcaygeon Senior Centre\, 100 Head Street\, Bobcaygeon\, Canada
CATEGORIES:SAGES
END:VEVENT
BEGIN:VEVENT
DTSTART;TZID=America/Toronto:20230529T100000
DTEND;TZID=America/Toronto:20230529T110000
DTSTAMP:20260422T143348
CREATED:20220610T154331Z
LAST-MODIFIED:20230324T130903Z
UID:10001043-1685354400-1685358000@ccckl.ca
SUMMARY:Fenelon Falls SAGES
DESCRIPTION:Join us every Monday and Wednesday (excluding holidays) at 10:00 am at the Senior Citizens Club of Fenelon Falls for Gentle Exercise for Seniors. \n\n\n\nCost: $3 per session\, registration not required. First session is free! \n\n\n\nFor more information call 705-324-7323 ext. 165 or email wellness@ccckl.ca
URL:https://ccckl.ca/events/sages-program/2023-05-29/
LOCATION:Senior Citizens Club Of Fenelon Falls\, 58 Murray Street\, Fenelon Falls\, Ontario\, K0M 1N0\, Canada
CATEGORIES:SAGES
END:VEVENT
BEGIN:VEVENT
DTSTART;TZID=America/Toronto:20230525T100000
DTEND;TZID=America/Toronto:20230525T110000
DTSTAMP:20260422T143348
CREATED:20221028T195444Z
LAST-MODIFIED:20230324T162814Z
UID:10001126-1685008800-1685012400@ccckl.ca
SUMMARY:Bobcaygeon SAGES
DESCRIPTION:Join us every Monday and Thursday at 10:00 am at the Bobcaygeon Senior Centre for Gentle Exercise for Seniors. \n\n\n\nCost: $3 per session. \n\n\n\nFor more information call 705-324-7323 ext. 165 or email wellness@ccckl.ca
URL:https://ccckl.ca/events/bobcaygeon-sages/2023-05-25/
LOCATION:Bobcaygeon Senior Centre\, 100 Head Street\, Bobcaygeon\, Canada
CATEGORIES:SAGES
END:VEVENT
BEGIN:VEVENT
DTSTART;TZID=America/Toronto:20230525T093000
DTEND;TZID=America/Toronto:20230525T103000
DTSTAMP:20260422T143348
CREATED:20221028T203411Z
LAST-MODIFIED:20230324T130558Z
UID:10001179-1685007000-1685010600@ccckl.ca
SUMMARY:Kirkfield SAGES
DESCRIPTION:Join us every Thursday at 9:30 am at the Kirkfield and District Lions Club for Gentle Exercise for Seniors. \n\n\n\nCost: $3 per session\, registration not required. First session is free! \n\n\n\nFor more information call 705-324-7323 ext. 165 or email wellness@ccckl.ca
URL:https://ccckl.ca/events/kirkfield-sages/2023-05-25/
LOCATION:Kirkfield & District Lions Club\, 973 Portage Rd\, Kirkfield\, Ontario\, K0M 2B0\, Canada
CATEGORIES:SAGES
END:VEVENT
BEGIN:VEVENT
DTSTART;TZID=America/Toronto:20230524T103000
DTEND;TZID=America/Toronto:20230524T120000
DTSTAMP:20260422T143348
CREATED:20221028T204306Z
LAST-MODIFIED:20230324T125559Z
UID:10001186-1684924200-1684929600@ccckl.ca
SUMMARY:Lindsay SAGES
DESCRIPTION:Join us every Wednesday (excluding the first Wednesday of every month) 10:45 am at Victoria Park Armoury in Lindsay for Gentle Exercise for Seniors. \n\n\n\nCost: First time is free\, yearly membership with the Lindsay Seniors Centre. For more information check out https://lindsayseniors.com/membership/ or call 705-878-8261 \n\n\n\nHave any questions? Call 705-324-7323 ext. 165 or email wellness@ccckl.ca
URL:https://ccckl.ca/events/lindsay-sages/2023-05-24/
LOCATION:Victoria Park Armoury\, 210 Kent St W\, Lindsay\, Ontario\, K9V 2Y8\, Canada
CATEGORIES:SAGES
END:VEVENT
BEGIN:VEVENT
DTSTART;TZID=America/Toronto:20230524T100000
DTEND;TZID=America/Toronto:20230524T110000
DTSTAMP:20260422T143348
CREATED:20220610T154331Z
LAST-MODIFIED:20230324T130903Z
UID:10001042-1684922400-1684926000@ccckl.ca
SUMMARY:Fenelon Falls SAGES
DESCRIPTION:Join us every Monday and Wednesday (excluding holidays) at 10:00 am at the Senior Citizens Club of Fenelon Falls for Gentle Exercise for Seniors. \n\n\n\nCost: $3 per session\, registration not required. First session is free! \n\n\n\nFor more information call 705-324-7323 ext. 165 or email wellness@ccckl.ca
URL:https://ccckl.ca/events/sages-program/2023-05-24/
LOCATION:Senior Citizens Club Of Fenelon Falls\, 58 Murray Street\, Fenelon Falls\, Ontario\, K0M 1N0\, Canada
CATEGORIES:SAGES
END:VEVENT
BEGIN:VEVENT
DTSTART;TZID=America/Toronto:20230523T093000
DTEND;TZID=America/Toronto:20230523T103000
DTSTAMP:20260422T143348
CREATED:20221028T204726Z
LAST-MODIFIED:20230324T130340Z
UID:10001232-1684834200-1684837800@ccckl.ca
SUMMARY:Manilla SAGES
DESCRIPTION:Join us every Tuesday at 9:30 am at the Manilla Library for Gentle Exercise for Seniors. \n\n\n\nCost: $3 per session\, registration not required. First session is free! \n\n\n\nFor more information call 705-324-7323 ext. 165 or email wellness@ccckl.ca
URL:https://ccckl.ca/events/manilla-sages/2023-05-23/
LOCATION:Manilla Library\, 17025 Simcoe St.\, Manilla\, K0M 2J0\, Canada
CATEGORIES:SAGES
END:VEVENT
BEGIN:VEVENT
DTSTART;TZID=America/Toronto:20230522T100000
DTEND;TZID=America/Toronto:20230522T110000
DTSTAMP:20260422T143348
CREATED:20221028T195444Z
LAST-MODIFIED:20230324T162814Z
UID:10001125-1684749600-1684753200@ccckl.ca
SUMMARY:Bobcaygeon SAGES
DESCRIPTION:Join us every Monday and Thursday at 10:00 am at the Bobcaygeon Senior Centre for Gentle Exercise for Seniors. \n\n\n\nCost: $3 per session. \n\n\n\nFor more information call 705-324-7323 ext. 165 or email wellness@ccckl.ca
URL:https://ccckl.ca/events/bobcaygeon-sages/2023-05-22/
LOCATION:Bobcaygeon Senior Centre\, 100 Head Street\, Bobcaygeon\, Canada
CATEGORIES:SAGES
END:VEVENT
BEGIN:VEVENT
DTSTART;TZID=America/Toronto:20230522T100000
DTEND;TZID=America/Toronto:20230522T110000
DTSTAMP:20260422T143348
CREATED:20220610T154331Z
LAST-MODIFIED:20230324T130903Z
UID:10001041-1684749600-1684753200@ccckl.ca
SUMMARY:Fenelon Falls SAGES
DESCRIPTION:Join us every Monday and Wednesday (excluding holidays) at 10:00 am at the Senior Citizens Club of Fenelon Falls for Gentle Exercise for Seniors. \n\n\n\nCost: $3 per session\, registration not required. First session is free! \n\n\n\nFor more information call 705-324-7323 ext. 165 or email wellness@ccckl.ca
URL:https://ccckl.ca/events/sages-program/2023-05-22/
LOCATION:Senior Citizens Club Of Fenelon Falls\, 58 Murray Street\, Fenelon Falls\, Ontario\, K0M 1N0\, Canada
CATEGORIES:SAGES
END:VEVENT
BEGIN:VEVENT
DTSTART;TZID=America/Toronto:20230518T100000
DTEND;TZID=America/Toronto:20230518T110000
DTSTAMP:20260422T143348
CREATED:20221028T195444Z
LAST-MODIFIED:20230324T162814Z
UID:10001124-1684404000-1684407600@ccckl.ca
SUMMARY:Bobcaygeon SAGES
DESCRIPTION:Join us every Monday and Thursday at 10:00 am at the Bobcaygeon Senior Centre for Gentle Exercise for Seniors. \n\n\n\nCost: $3 per session. \n\n\n\nFor more information call 705-324-7323 ext. 165 or email wellness@ccckl.ca
URL:https://ccckl.ca/events/bobcaygeon-sages/2023-05-18/
LOCATION:Bobcaygeon Senior Centre\, 100 Head Street\, Bobcaygeon\, Canada
CATEGORIES:SAGES
END:VEVENT
BEGIN:VEVENT
DTSTART;TZID=America/Toronto:20230518T093000
DTEND;TZID=America/Toronto:20230518T103000
DTSTAMP:20260422T143348
CREATED:20221028T203411Z
LAST-MODIFIED:20230324T130558Z
UID:10001178-1684402200-1684405800@ccckl.ca
SUMMARY:Kirkfield SAGES
DESCRIPTION:Join us every Thursday at 9:30 am at the Kirkfield and District Lions Club for Gentle Exercise for Seniors. \n\n\n\nCost: $3 per session\, registration not required. First session is free! \n\n\n\nFor more information call 705-324-7323 ext. 165 or email wellness@ccckl.ca
URL:https://ccckl.ca/events/kirkfield-sages/2023-05-18/
LOCATION:Kirkfield & District Lions Club\, 973 Portage Rd\, Kirkfield\, Ontario\, K0M 2B0\, Canada
CATEGORIES:SAGES
END:VEVENT
BEGIN:VEVENT
DTSTART;TZID=America/Toronto:20230517T103000
DTEND;TZID=America/Toronto:20230517T120000
DTSTAMP:20260422T143348
CREATED:20230728T141912Z
LAST-MODIFIED:20230728T141912Z
UID:10001198-1684319400-1684324800@ccckl.ca
SUMMARY:Lindsay SAGES
DESCRIPTION:Join us every Wednesday (excluding the first Wednesday of every month) 10:45 am at Victoria Park Armoury in Lindsay for Gentle Exercise for Seniors. \n\n\n\nCost: First time is free\, yearly membership with the Lindsay Seniors Centre. For more information check out https://lindsayseniors.com/membership/ or call 705-878-8261 \n\n\n\nHave any questions? Call 705-324-7323 ext. 165 or email wellness@ccckl.ca
URL:https://ccckl.ca/events/lindsay-sages/2023-05-17/
LOCATION:Victoria Park Armoury\, 210 Kent St W\, Lindsay\, Ontario\, K9V 2Y8\, Canada
CATEGORIES:SAGES
END:VEVENT
BEGIN:VEVENT
DTSTART;TZID=America/Toronto:20230517T100000
DTEND;TZID=America/Toronto:20230517T110000
DTSTAMP:20260422T143348
CREATED:20220610T154331Z
LAST-MODIFIED:20230324T130903Z
UID:10001040-1684317600-1684321200@ccckl.ca
SUMMARY:Fenelon Falls SAGES
DESCRIPTION:Join us every Monday and Wednesday (excluding holidays) at 10:00 am at the Senior Citizens Club of Fenelon Falls for Gentle Exercise for Seniors. \n\n\n\nCost: $3 per session\, registration not required. First session is free! \n\n\n\nFor more information call 705-324-7323 ext. 165 or email wellness@ccckl.ca
URL:https://ccckl.ca/events/sages-program/2023-05-17/
LOCATION:Senior Citizens Club Of Fenelon Falls\, 58 Murray Street\, Fenelon Falls\, Ontario\, K0M 1N0\, Canada
CATEGORIES:SAGES
END:VEVENT
BEGIN:VEVENT
DTSTART;TZID=America/Toronto:20230516T100000
DTEND;TZID=America/Toronto:20230516T110000
DTSTAMP:20260422T143348
CREATED:20221028T202425Z
LAST-MODIFIED:20221028T202649Z
UID:10001154-1684231200-1684234800@ccckl.ca
SUMMARY:Coboconk SAGES
DESCRIPTION:
URL:https://ccckl.ca/events/coboconk-sages/2023-05-16/
LOCATION:Royal Canadian Legion\, Branch 519\, 2916 Kawartha Lakes Rd 48\, Coboconk\, Ontario\, K0M 1K0\, Canada
CATEGORIES:SAGES
END:VEVENT
BEGIN:VEVENT
DTSTART;TZID=America/Toronto:20230516T093000
DTEND;TZID=America/Toronto:20230516T103000
DTSTAMP:20260422T143348
CREATED:20221028T204726Z
LAST-MODIFIED:20230324T130340Z
UID:10001231-1684229400-1684233000@ccckl.ca
SUMMARY:Manilla SAGES
DESCRIPTION:Join us every Tuesday at 9:30 am at the Manilla Library for Gentle Exercise for Seniors. \n\n\n\nCost: $3 per session\, registration not required. First session is free! \n\n\n\nFor more information call 705-324-7323 ext. 165 or email wellness@ccckl.ca
URL:https://ccckl.ca/events/manilla-sages/2023-05-16/
LOCATION:Manilla Library\, 17025 Simcoe St.\, Manilla\, K0M 2J0\, Canada
CATEGORIES:SAGES
END:VEVENT
BEGIN:VEVENT
DTSTART;TZID=America/Toronto:20230515T100000
DTEND;TZID=America/Toronto:20230515T110000
DTSTAMP:20260422T143348
CREATED:20221028T195444Z
LAST-MODIFIED:20230324T162814Z
UID:10001123-1684144800-1684148400@ccckl.ca
SUMMARY:Bobcaygeon SAGES
DESCRIPTION:Join us every Monday and Thursday at 10:00 am at the Bobcaygeon Senior Centre for Gentle Exercise for Seniors. \n\n\n\nCost: $3 per session. \n\n\n\nFor more information call 705-324-7323 ext. 165 or email wellness@ccckl.ca
URL:https://ccckl.ca/events/bobcaygeon-sages/2023-05-15/
LOCATION:Bobcaygeon Senior Centre\, 100 Head Street\, Bobcaygeon\, Canada
CATEGORIES:SAGES
END:VEVENT
END:VCALENDAR