BEGIN:VCALENDAR
VERSION:2.0
PRODID:-//Community Care City of Kawartha Lakes - ECPv6.15.13//NONSGML v1.0//EN
CALSCALE:GREGORIAN
METHOD:PUBLISH
X-WR-CALNAME:Community Care City of Kawartha Lakes
X-ORIGINAL-URL:https://ccckl.ca
X-WR-CALDESC:Events for Community Care City of Kawartha Lakes
REFRESH-INTERVAL;VALUE=DURATION:PT1H
X-Robots-Tag:noindex
X-PUBLISHED-TTL:PT1H
BEGIN:VTIMEZONE
TZID:America/Toronto
BEGIN:DAYLIGHT
TZOFFSETFROM:-0500
TZOFFSETTO:-0400
TZNAME:EDT
DTSTART:20220313T070000
END:DAYLIGHT
BEGIN:STANDARD
TZOFFSETFROM:-0400
TZOFFSETTO:-0500
TZNAME:EST
DTSTART:20221106T060000
END:STANDARD
BEGIN:DAYLIGHT
TZOFFSETFROM:-0500
TZOFFSETTO:-0400
TZNAME:EDT
DTSTART:20230312T070000
END:DAYLIGHT
BEGIN:STANDARD
TZOFFSETFROM:-0400
TZOFFSETTO:-0500
TZNAME:EST
DTSTART:20231105T060000
END:STANDARD
BEGIN:DAYLIGHT
TZOFFSETFROM:-0500
TZOFFSETTO:-0400
TZNAME:EDT
DTSTART:20240310T070000
END:DAYLIGHT
BEGIN:STANDARD
TZOFFSETFROM:-0400
TZOFFSETTO:-0500
TZNAME:EST
DTSTART:20241103T060000
END:STANDARD
END:VTIMEZONE
BEGIN:VEVENT
DTSTART;TZID=America/Toronto:20230306T100000
DTEND;TZID=America/Toronto:20230306T110000
DTSTAMP:20260423T033109
CREATED:20220610T154331Z
LAST-MODIFIED:20230324T130903Z
UID:10001019-1678096800-1678100400@ccckl.ca
SUMMARY:Fenelon Falls SAGES
DESCRIPTION:Join us every Monday and Wednesday (excluding holidays) at 10:00 am at the Senior Citizens Club of Fenelon Falls for Gentle Exercise for Seniors. \n\n\n\nCost: $3 per session\, registration not required. First session is free! \n\n\n\nFor more information call 705-324-7323 ext. 165 or email wellness@ccckl.ca
URL:https://ccckl.ca/events/sages-program/2023-03-06/
LOCATION:Senior Citizens Club Of Fenelon Falls\, 58 Murray Street\, Fenelon Falls\, Ontario\, K0M 1N0\, Canada
CATEGORIES:SAGES
END:VEVENT
BEGIN:VEVENT
DTSTART;TZID=America/Toronto:20230302T100000
DTEND;TZID=America/Toronto:20230302T110000
DTSTAMP:20260423T033109
CREATED:20221028T195444Z
LAST-MODIFIED:20230324T162814Z
UID:10001102-1677751200-1677754800@ccckl.ca
SUMMARY:Bobcaygeon SAGES
DESCRIPTION:Join us every Monday and Thursday at 10:00 am at the Bobcaygeon Senior Centre for Gentle Exercise for Seniors. \n\n\n\nCost: $3 per session. \n\n\n\nFor more information call 705-324-7323 ext. 165 or email wellness@ccckl.ca
URL:https://ccckl.ca/events/bobcaygeon-sages/2023-03-02/
LOCATION:Bobcaygeon Senior Centre\, 100 Head Street\, Bobcaygeon\, Canada
CATEGORIES:SAGES
END:VEVENT
BEGIN:VEVENT
DTSTART;TZID=America/Toronto:20230302T093000
DTEND;TZID=America/Toronto:20230302T103000
DTSTAMP:20260423T033109
CREATED:20221028T203411Z
LAST-MODIFIED:20230324T130558Z
UID:10001167-1677749400-1677753000@ccckl.ca
SUMMARY:Kirkfield SAGES
DESCRIPTION:Join us every Thursday at 9:30 am at the Kirkfield and District Lions Club for Gentle Exercise for Seniors. \n\n\n\nCost: $3 per session\, registration not required. First session is free! \n\n\n\nFor more information call 705-324-7323 ext. 165 or email wellness@ccckl.ca
URL:https://ccckl.ca/events/kirkfield-sages/2023-03-02/
LOCATION:Kirkfield & District Lions Club\, 973 Portage Rd\, Kirkfield\, Ontario\, K0M 2B0\, Canada
CATEGORIES:SAGES
END:VEVENT
BEGIN:VEVENT
DTSTART;TZID=America/Toronto:20230301T100000
DTEND;TZID=America/Toronto:20230301T110000
DTSTAMP:20260423T033109
CREATED:20220610T154331Z
LAST-MODIFIED:20230324T130903Z
UID:10001018-1677664800-1677668400@ccckl.ca
SUMMARY:Fenelon Falls SAGES
DESCRIPTION:Join us every Monday and Wednesday (excluding holidays) at 10:00 am at the Senior Citizens Club of Fenelon Falls for Gentle Exercise for Seniors. \n\n\n\nCost: $3 per session\, registration not required. First session is free! \n\n\n\nFor more information call 705-324-7323 ext. 165 or email wellness@ccckl.ca
URL:https://ccckl.ca/events/sages-program/2023-03-01/
LOCATION:Senior Citizens Club Of Fenelon Falls\, 58 Murray Street\, Fenelon Falls\, Ontario\, K0M 1N0\, Canada
CATEGORIES:SAGES
END:VEVENT
BEGIN:VEVENT
DTSTART;TZID=America/Toronto:20230228T100000
DTEND;TZID=America/Toronto:20230228T110000
DTSTAMP:20260423T033109
CREATED:20221028T202425Z
LAST-MODIFIED:20221028T202649Z
UID:10001143-1677578400-1677582000@ccckl.ca
SUMMARY:Coboconk SAGES
DESCRIPTION:
URL:https://ccckl.ca/events/coboconk-sages/2023-02-28/
LOCATION:Royal Canadian Legion\, Branch 519\, 2916 Kawartha Lakes Rd 48\, Coboconk\, Ontario\, K0M 1K0\, Canada
CATEGORIES:SAGES
END:VEVENT
BEGIN:VEVENT
DTSTART;TZID=America/Toronto:20230228T093000
DTEND;TZID=America/Toronto:20230228T103000
DTSTAMP:20260423T033109
CREATED:20221028T204726Z
LAST-MODIFIED:20230324T130340Z
UID:10001220-1677576600-1677580200@ccckl.ca
SUMMARY:Manilla SAGES
DESCRIPTION:Join us every Tuesday at 9:30 am at the Manilla Library for Gentle Exercise for Seniors. \n\n\n\nCost: $3 per session\, registration not required. First session is free! \n\n\n\nFor more information call 705-324-7323 ext. 165 or email wellness@ccckl.ca
URL:https://ccckl.ca/events/manilla-sages/2023-02-28/
LOCATION:Manilla Library\, 17025 Simcoe St.\, Manilla\, K0M 2J0\, Canada
CATEGORIES:SAGES
END:VEVENT
BEGIN:VEVENT
DTSTART;TZID=America/Toronto:20230227T100000
DTEND;TZID=America/Toronto:20230227T110000
DTSTAMP:20260423T033109
CREATED:20221028T195444Z
LAST-MODIFIED:20230324T162814Z
UID:10001101-1677492000-1677495600@ccckl.ca
SUMMARY:Bobcaygeon SAGES
DESCRIPTION:Join us every Monday and Thursday at 10:00 am at the Bobcaygeon Senior Centre for Gentle Exercise for Seniors. \n\n\n\nCost: $3 per session. \n\n\n\nFor more information call 705-324-7323 ext. 165 or email wellness@ccckl.ca
URL:https://ccckl.ca/events/bobcaygeon-sages/2023-02-27/
LOCATION:Bobcaygeon Senior Centre\, 100 Head Street\, Bobcaygeon\, Canada
CATEGORIES:SAGES
END:VEVENT
BEGIN:VEVENT
DTSTART;TZID=America/Toronto:20230227T100000
DTEND;TZID=America/Toronto:20230227T110000
DTSTAMP:20260423T033109
CREATED:20220610T154331Z
LAST-MODIFIED:20230324T130903Z
UID:10001017-1677492000-1677495600@ccckl.ca
SUMMARY:Fenelon Falls SAGES
DESCRIPTION:Join us every Monday and Wednesday (excluding holidays) at 10:00 am at the Senior Citizens Club of Fenelon Falls for Gentle Exercise for Seniors. \n\n\n\nCost: $3 per session\, registration not required. First session is free! \n\n\n\nFor more information call 705-324-7323 ext. 165 or email wellness@ccckl.ca
URL:https://ccckl.ca/events/sages-program/2023-02-27/
LOCATION:Senior Citizens Club Of Fenelon Falls\, 58 Murray Street\, Fenelon Falls\, Ontario\, K0M 1N0\, Canada
CATEGORIES:SAGES
END:VEVENT
BEGIN:VEVENT
DTSTART;TZID=America/Toronto:20230223T100000
DTEND;TZID=America/Toronto:20230223T110000
DTSTAMP:20260423T033109
CREATED:20221028T195444Z
LAST-MODIFIED:20230324T162814Z
UID:10001100-1677146400-1677150000@ccckl.ca
SUMMARY:Bobcaygeon SAGES
DESCRIPTION:Join us every Monday and Thursday at 10:00 am at the Bobcaygeon Senior Centre for Gentle Exercise for Seniors. \n\n\n\nCost: $3 per session. \n\n\n\nFor more information call 705-324-7323 ext. 165 or email wellness@ccckl.ca
URL:https://ccckl.ca/events/bobcaygeon-sages/2023-02-23/
LOCATION:Bobcaygeon Senior Centre\, 100 Head Street\, Bobcaygeon\, Canada
CATEGORIES:SAGES
END:VEVENT
BEGIN:VEVENT
DTSTART;TZID=America/Toronto:20230223T093000
DTEND;TZID=America/Toronto:20230223T103000
DTSTAMP:20260423T033109
CREATED:20221028T203411Z
LAST-MODIFIED:20230324T130558Z
UID:10001166-1677144600-1677148200@ccckl.ca
SUMMARY:Kirkfield SAGES
DESCRIPTION:Join us every Thursday at 9:30 am at the Kirkfield and District Lions Club for Gentle Exercise for Seniors. \n\n\n\nCost: $3 per session\, registration not required. First session is free! \n\n\n\nFor more information call 705-324-7323 ext. 165 or email wellness@ccckl.ca
URL:https://ccckl.ca/events/kirkfield-sages/2023-02-23/
LOCATION:Kirkfield & District Lions Club\, 973 Portage Rd\, Kirkfield\, Ontario\, K0M 2B0\, Canada
CATEGORIES:SAGES
END:VEVENT
BEGIN:VEVENT
DTSTART;TZID=America/Toronto:20230222T103000
DTEND;TZID=America/Toronto:20230222T120000
DTSTAMP:20260423T033109
CREATED:20221028T204306Z
LAST-MODIFIED:20230324T125559Z
UID:10001183-1677061800-1677067200@ccckl.ca
SUMMARY:Lindsay SAGES
DESCRIPTION:Join us every Wednesday (excluding the first Wednesday of every month) 10:45 am at Victoria Park Armoury in Lindsay for Gentle Exercise for Seniors. \n\n\n\nCost: First time is free\, yearly membership with the Lindsay Seniors Centre. For more information check out https://lindsayseniors.com/membership/ or call 705-878-8261 \n\n\n\nHave any questions? Call 705-324-7323 ext. 165 or email wellness@ccckl.ca
URL:https://ccckl.ca/events/lindsay-sages/2023-02-22/
LOCATION:Victoria Park Armoury\, 210 Kent St W\, Lindsay\, Ontario\, K9V 2Y8\, Canada
CATEGORIES:SAGES
END:VEVENT
BEGIN:VEVENT
DTSTART;TZID=America/Toronto:20230222T100000
DTEND;TZID=America/Toronto:20230222T110000
DTSTAMP:20260423T033109
CREATED:20220610T154331Z
LAST-MODIFIED:20230324T130903Z
UID:10001016-1677060000-1677063600@ccckl.ca
SUMMARY:Fenelon Falls SAGES
DESCRIPTION:Join us every Monday and Wednesday (excluding holidays) at 10:00 am at the Senior Citizens Club of Fenelon Falls for Gentle Exercise for Seniors. \n\n\n\nCost: $3 per session\, registration not required. First session is free! \n\n\n\nFor more information call 705-324-7323 ext. 165 or email wellness@ccckl.ca
URL:https://ccckl.ca/events/sages-program/2023-02-22/
LOCATION:Senior Citizens Club Of Fenelon Falls\, 58 Murray Street\, Fenelon Falls\, Ontario\, K0M 1N0\, Canada
CATEGORIES:SAGES
END:VEVENT
BEGIN:VEVENT
DTSTART;TZID=America/Toronto:20230221T100000
DTEND;TZID=America/Toronto:20230221T110000
DTSTAMP:20260423T033109
CREATED:20221028T202425Z
LAST-MODIFIED:20221028T202649Z
UID:10001142-1676973600-1676977200@ccckl.ca
SUMMARY:Coboconk SAGES
DESCRIPTION:
URL:https://ccckl.ca/events/coboconk-sages/2023-02-21/
LOCATION:Royal Canadian Legion\, Branch 519\, 2916 Kawartha Lakes Rd 48\, Coboconk\, Ontario\, K0M 1K0\, Canada
CATEGORIES:SAGES
END:VEVENT
BEGIN:VEVENT
DTSTART;TZID=America/Toronto:20230221T093000
DTEND;TZID=America/Toronto:20230221T103000
DTSTAMP:20260423T033109
CREATED:20221028T204726Z
LAST-MODIFIED:20230324T130340Z
UID:10001219-1676971800-1676975400@ccckl.ca
SUMMARY:Manilla SAGES
DESCRIPTION:Join us every Tuesday at 9:30 am at the Manilla Library for Gentle Exercise for Seniors. \n\n\n\nCost: $3 per session\, registration not required. First session is free! \n\n\n\nFor more information call 705-324-7323 ext. 165 or email wellness@ccckl.ca
URL:https://ccckl.ca/events/manilla-sages/2023-02-21/
LOCATION:Manilla Library\, 17025 Simcoe St.\, Manilla\, K0M 2J0\, Canada
CATEGORIES:SAGES
END:VEVENT
BEGIN:VEVENT
DTSTART;TZID=America/Toronto:20230220T100000
DTEND;TZID=America/Toronto:20230220T110000
DTSTAMP:20260423T033109
CREATED:20221028T195444Z
LAST-MODIFIED:20230324T162814Z
UID:10001099-1676887200-1676890800@ccckl.ca
SUMMARY:Bobcaygeon SAGES
DESCRIPTION:Join us every Monday and Thursday at 10:00 am at the Bobcaygeon Senior Centre for Gentle Exercise for Seniors. \n\n\n\nCost: $3 per session. \n\n\n\nFor more information call 705-324-7323 ext. 165 or email wellness@ccckl.ca
URL:https://ccckl.ca/events/bobcaygeon-sages/2023-02-20/
LOCATION:Bobcaygeon Senior Centre\, 100 Head Street\, Bobcaygeon\, Canada
CATEGORIES:SAGES
END:VEVENT
BEGIN:VEVENT
DTSTART;TZID=America/Toronto:20230220T100000
DTEND;TZID=America/Toronto:20230220T110000
DTSTAMP:20260423T033109
CREATED:20220610T154331Z
LAST-MODIFIED:20230324T130903Z
UID:10001015-1676887200-1676890800@ccckl.ca
SUMMARY:Fenelon Falls SAGES
DESCRIPTION:Join us every Monday and Wednesday (excluding holidays) at 10:00 am at the Senior Citizens Club of Fenelon Falls for Gentle Exercise for Seniors. \n\n\n\nCost: $3 per session\, registration not required. First session is free! \n\n\n\nFor more information call 705-324-7323 ext. 165 or email wellness@ccckl.ca
URL:https://ccckl.ca/events/sages-program/2023-02-20/
LOCATION:Senior Citizens Club Of Fenelon Falls\, 58 Murray Street\, Fenelon Falls\, Ontario\, K0M 1N0\, Canada
CATEGORIES:SAGES
END:VEVENT
BEGIN:VEVENT
DTSTART;TZID=America/Toronto:20230216T100000
DTEND;TZID=America/Toronto:20230216T110000
DTSTAMP:20260423T033109
CREATED:20221028T195444Z
LAST-MODIFIED:20230324T162814Z
UID:10001098-1676541600-1676545200@ccckl.ca
SUMMARY:Bobcaygeon SAGES
DESCRIPTION:Join us every Monday and Thursday at 10:00 am at the Bobcaygeon Senior Centre for Gentle Exercise for Seniors. \n\n\n\nCost: $3 per session. \n\n\n\nFor more information call 705-324-7323 ext. 165 or email wellness@ccckl.ca
URL:https://ccckl.ca/events/bobcaygeon-sages/2023-02-16/
LOCATION:Bobcaygeon Senior Centre\, 100 Head Street\, Bobcaygeon\, Canada
CATEGORIES:SAGES
END:VEVENT
BEGIN:VEVENT
DTSTART;TZID=America/Toronto:20230216T093000
DTEND;TZID=America/Toronto:20230216T103000
DTSTAMP:20260423T033109
CREATED:20221028T203411Z
LAST-MODIFIED:20230324T130558Z
UID:10001165-1676539800-1676543400@ccckl.ca
SUMMARY:Kirkfield SAGES
DESCRIPTION:Join us every Thursday at 9:30 am at the Kirkfield and District Lions Club for Gentle Exercise for Seniors. \n\n\n\nCost: $3 per session\, registration not required. First session is free! \n\n\n\nFor more information call 705-324-7323 ext. 165 or email wellness@ccckl.ca
URL:https://ccckl.ca/events/kirkfield-sages/2023-02-16/
LOCATION:Kirkfield & District Lions Club\, 973 Portage Rd\, Kirkfield\, Ontario\, K0M 2B0\, Canada
CATEGORIES:SAGES
END:VEVENT
BEGIN:VEVENT
DTSTART;TZID=America/Toronto:20230215T103000
DTEND;TZID=America/Toronto:20230215T120000
DTSTAMP:20260423T033109
CREATED:20230728T141912Z
LAST-MODIFIED:20230728T141912Z
UID:10001195-1676457000-1676462400@ccckl.ca
SUMMARY:Lindsay SAGES
DESCRIPTION:Join us every Wednesday (excluding the first Wednesday of every month) 10:45 am at Victoria Park Armoury in Lindsay for Gentle Exercise for Seniors. \n\n\n\nCost: First time is free\, yearly membership with the Lindsay Seniors Centre. For more information check out https://lindsayseniors.com/membership/ or call 705-878-8261 \n\n\n\nHave any questions? Call 705-324-7323 ext. 165 or email wellness@ccckl.ca
URL:https://ccckl.ca/events/lindsay-sages/2023-02-15/
LOCATION:Victoria Park Armoury\, 210 Kent St W\, Lindsay\, Ontario\, K9V 2Y8\, Canada
CATEGORIES:SAGES
END:VEVENT
BEGIN:VEVENT
DTSTART;TZID=America/Toronto:20230215T100000
DTEND;TZID=America/Toronto:20230215T110000
DTSTAMP:20260423T033109
CREATED:20220610T154331Z
LAST-MODIFIED:20230324T130903Z
UID:10001014-1676455200-1676458800@ccckl.ca
SUMMARY:Fenelon Falls SAGES
DESCRIPTION:Join us every Monday and Wednesday (excluding holidays) at 10:00 am at the Senior Citizens Club of Fenelon Falls for Gentle Exercise for Seniors. \n\n\n\nCost: $3 per session\, registration not required. First session is free! \n\n\n\nFor more information call 705-324-7323 ext. 165 or email wellness@ccckl.ca
URL:https://ccckl.ca/events/sages-program/2023-02-15/
LOCATION:Senior Citizens Club Of Fenelon Falls\, 58 Murray Street\, Fenelon Falls\, Ontario\, K0M 1N0\, Canada
CATEGORIES:SAGES
END:VEVENT
BEGIN:VEVENT
DTSTART;TZID=America/Toronto:20230214T100000
DTEND;TZID=America/Toronto:20230214T110000
DTSTAMP:20260423T033109
CREATED:20221028T202425Z
LAST-MODIFIED:20221028T202649Z
UID:10001141-1676368800-1676372400@ccckl.ca
SUMMARY:Coboconk SAGES
DESCRIPTION:
URL:https://ccckl.ca/events/coboconk-sages/2023-02-14/
LOCATION:Royal Canadian Legion\, Branch 519\, 2916 Kawartha Lakes Rd 48\, Coboconk\, Ontario\, K0M 1K0\, Canada
CATEGORIES:SAGES
END:VEVENT
BEGIN:VEVENT
DTSTART;TZID=America/Toronto:20230214T093000
DTEND;TZID=America/Toronto:20230214T103000
DTSTAMP:20260423T033109
CREATED:20221028T204726Z
LAST-MODIFIED:20230324T130340Z
UID:10001218-1676367000-1676370600@ccckl.ca
SUMMARY:Manilla SAGES
DESCRIPTION:Join us every Tuesday at 9:30 am at the Manilla Library for Gentle Exercise for Seniors. \n\n\n\nCost: $3 per session\, registration not required. First session is free! \n\n\n\nFor more information call 705-324-7323 ext. 165 or email wellness@ccckl.ca
URL:https://ccckl.ca/events/manilla-sages/2023-02-14/
LOCATION:Manilla Library\, 17025 Simcoe St.\, Manilla\, K0M 2J0\, Canada
CATEGORIES:SAGES
END:VEVENT
BEGIN:VEVENT
DTSTART;TZID=America/Toronto:20230213T100000
DTEND;TZID=America/Toronto:20230213T110000
DTSTAMP:20260423T033109
CREATED:20221028T195444Z
LAST-MODIFIED:20230324T162814Z
UID:10001097-1676282400-1676286000@ccckl.ca
SUMMARY:Bobcaygeon SAGES
DESCRIPTION:Join us every Monday and Thursday at 10:00 am at the Bobcaygeon Senior Centre for Gentle Exercise for Seniors. \n\n\n\nCost: $3 per session. \n\n\n\nFor more information call 705-324-7323 ext. 165 or email wellness@ccckl.ca
URL:https://ccckl.ca/events/bobcaygeon-sages/2023-02-13/
LOCATION:Bobcaygeon Senior Centre\, 100 Head Street\, Bobcaygeon\, Canada
CATEGORIES:SAGES
END:VEVENT
BEGIN:VEVENT
DTSTART;TZID=America/Toronto:20230213T100000
DTEND;TZID=America/Toronto:20230213T110000
DTSTAMP:20260423T033109
CREATED:20220610T154331Z
LAST-MODIFIED:20230324T130903Z
UID:10001013-1676282400-1676286000@ccckl.ca
SUMMARY:Fenelon Falls SAGES
DESCRIPTION:Join us every Monday and Wednesday (excluding holidays) at 10:00 am at the Senior Citizens Club of Fenelon Falls for Gentle Exercise for Seniors. \n\n\n\nCost: $3 per session\, registration not required. First session is free! \n\n\n\nFor more information call 705-324-7323 ext. 165 or email wellness@ccckl.ca
URL:https://ccckl.ca/events/sages-program/2023-02-13/
LOCATION:Senior Citizens Club Of Fenelon Falls\, 58 Murray Street\, Fenelon Falls\, Ontario\, K0M 1N0\, Canada
CATEGORIES:SAGES
END:VEVENT
BEGIN:VEVENT
DTSTART;TZID=America/Toronto:20230209T100000
DTEND;TZID=America/Toronto:20230209T110000
DTSTAMP:20260423T033109
CREATED:20221028T195444Z
LAST-MODIFIED:20230324T162814Z
UID:10001096-1675936800-1675940400@ccckl.ca
SUMMARY:Bobcaygeon SAGES
DESCRIPTION:Join us every Monday and Thursday at 10:00 am at the Bobcaygeon Senior Centre for Gentle Exercise for Seniors. \n\n\n\nCost: $3 per session. \n\n\n\nFor more information call 705-324-7323 ext. 165 or email wellness@ccckl.ca
URL:https://ccckl.ca/events/bobcaygeon-sages/2023-02-09/
LOCATION:Bobcaygeon Senior Centre\, 100 Head Street\, Bobcaygeon\, Canada
CATEGORIES:SAGES
END:VEVENT
BEGIN:VEVENT
DTSTART;TZID=America/Toronto:20230209T093000
DTEND;TZID=America/Toronto:20230209T103000
DTSTAMP:20260423T033109
CREATED:20221028T203411Z
LAST-MODIFIED:20230324T130558Z
UID:10001164-1675935000-1675938600@ccckl.ca
SUMMARY:Kirkfield SAGES
DESCRIPTION:Join us every Thursday at 9:30 am at the Kirkfield and District Lions Club for Gentle Exercise for Seniors. \n\n\n\nCost: $3 per session\, registration not required. First session is free! \n\n\n\nFor more information call 705-324-7323 ext. 165 or email wellness@ccckl.ca
URL:https://ccckl.ca/events/kirkfield-sages/2023-02-09/
LOCATION:Kirkfield & District Lions Club\, 973 Portage Rd\, Kirkfield\, Ontario\, K0M 2B0\, Canada
CATEGORIES:SAGES
END:VEVENT
BEGIN:VEVENT
DTSTART;TZID=America/Toronto:20230208T103000
DTEND;TZID=America/Toronto:20230208T120000
DTSTAMP:20260423T033109
CREATED:20230728T141912Z
LAST-MODIFIED:20230728T141912Z
UID:10001189-1675852200-1675857600@ccckl.ca
SUMMARY:Lindsay SAGES
DESCRIPTION:Join us every Wednesday (excluding the first Wednesday of every month) 10:45 am at Victoria Park Armoury in Lindsay for Gentle Exercise for Seniors. \n\n\n\nCost: First time is free\, yearly membership with the Lindsay Seniors Centre. For more information check out https://lindsayseniors.com/membership/ or call 705-878-8261 \n\n\n\nHave any questions? Call 705-324-7323 ext. 165 or email wellness@ccckl.ca
URL:https://ccckl.ca/events/lindsay-sages/2023-02-08/
LOCATION:Victoria Park Armoury\, 210 Kent St W\, Lindsay\, Ontario\, K9V 2Y8\, Canada
CATEGORIES:SAGES
END:VEVENT
BEGIN:VEVENT
DTSTART;TZID=America/Toronto:20230208T100000
DTEND;TZID=America/Toronto:20230208T110000
DTSTAMP:20260423T033109
CREATED:20220610T154331Z
LAST-MODIFIED:20230324T130903Z
UID:10001012-1675850400-1675854000@ccckl.ca
SUMMARY:Fenelon Falls SAGES
DESCRIPTION:Join us every Monday and Wednesday (excluding holidays) at 10:00 am at the Senior Citizens Club of Fenelon Falls for Gentle Exercise for Seniors. \n\n\n\nCost: $3 per session\, registration not required. First session is free! \n\n\n\nFor more information call 705-324-7323 ext. 165 or email wellness@ccckl.ca
URL:https://ccckl.ca/events/sages-program/2023-02-08/
LOCATION:Senior Citizens Club Of Fenelon Falls\, 58 Murray Street\, Fenelon Falls\, Ontario\, K0M 1N0\, Canada
CATEGORIES:SAGES
END:VEVENT
BEGIN:VEVENT
DTSTART;TZID=America/Toronto:20230207T100000
DTEND;TZID=America/Toronto:20230207T110000
DTSTAMP:20260423T033109
CREATED:20221028T202425Z
LAST-MODIFIED:20221028T202649Z
UID:10001140-1675764000-1675767600@ccckl.ca
SUMMARY:Coboconk SAGES
DESCRIPTION:
URL:https://ccckl.ca/events/coboconk-sages/2023-02-07/
LOCATION:Royal Canadian Legion\, Branch 519\, 2916 Kawartha Lakes Rd 48\, Coboconk\, Ontario\, K0M 1K0\, Canada
CATEGORIES:SAGES
END:VEVENT
BEGIN:VEVENT
DTSTART;TZID=America/Toronto:20230207T093000
DTEND;TZID=America/Toronto:20230207T103000
DTSTAMP:20260423T033109
CREATED:20221028T204726Z
LAST-MODIFIED:20230324T130340Z
UID:10001217-1675762200-1675765800@ccckl.ca
SUMMARY:Manilla SAGES
DESCRIPTION:Join us every Tuesday at 9:30 am at the Manilla Library for Gentle Exercise for Seniors. \n\n\n\nCost: $3 per session\, registration not required. First session is free! \n\n\n\nFor more information call 705-324-7323 ext. 165 or email wellness@ccckl.ca
URL:https://ccckl.ca/events/manilla-sages/2023-02-07/
LOCATION:Manilla Library\, 17025 Simcoe St.\, Manilla\, K0M 2J0\, Canada
CATEGORIES:SAGES
END:VEVENT
END:VCALENDAR