BEGIN:VCALENDAR
VERSION:2.0
PRODID:-//Community Care City of Kawartha Lakes - ECPv6.15.13//NONSGML v1.0//EN
CALSCALE:GREGORIAN
METHOD:PUBLISH
X-ORIGINAL-URL:https://ccckl.ca
X-WR-CALDESC:Events for Community Care City of Kawartha Lakes
REFRESH-INTERVAL;VALUE=DURATION:PT1H
X-Robots-Tag:noindex
X-PUBLISHED-TTL:PT1H
BEGIN:VTIMEZONE
TZID:America/Toronto
BEGIN:DAYLIGHT
TZOFFSETFROM:-0500
TZOFFSETTO:-0400
TZNAME:EDT
DTSTART:20210314T070000
END:DAYLIGHT
BEGIN:STANDARD
TZOFFSETFROM:-0400
TZOFFSETTO:-0500
TZNAME:EST
DTSTART:20211107T060000
END:STANDARD
BEGIN:DAYLIGHT
TZOFFSETFROM:-0500
TZOFFSETTO:-0400
TZNAME:EDT
DTSTART:20220313T070000
END:DAYLIGHT
BEGIN:STANDARD
TZOFFSETFROM:-0400
TZOFFSETTO:-0500
TZNAME:EST
DTSTART:20221106T060000
END:STANDARD
BEGIN:DAYLIGHT
TZOFFSETFROM:-0500
TZOFFSETTO:-0400
TZNAME:EDT
DTSTART:20230312T070000
END:DAYLIGHT
BEGIN:STANDARD
TZOFFSETFROM:-0400
TZOFFSETTO:-0500
TZNAME:EST
DTSTART:20231105T060000
END:STANDARD
BEGIN:DAYLIGHT
TZOFFSETFROM:-0500
TZOFFSETTO:-0400
TZNAME:EDT
DTSTART:20240310T070000
END:DAYLIGHT
BEGIN:STANDARD
TZOFFSETFROM:-0400
TZOFFSETTO:-0500
TZNAME:EST
DTSTART:20241103T060000
END:STANDARD
END:VTIMEZONE
BEGIN:VEVENT
DTSTART;TZID=America/Toronto:20230119T093000
DTEND;TZID=America/Toronto:20230119T103000
DTSTAMP:20260423T085015
CREATED:20221028T203411Z
LAST-MODIFIED:20230324T130558Z
UID:10001161-1674120600-1674124200@ccckl.ca
SUMMARY:Kirkfield SAGES
DESCRIPTION:Join us every Thursday at 9:30 am at the Kirkfield and District Lions Club for Gentle Exercise for Seniors. \n\n\n\nCost: $3 per session\, registration not required. First session is free! \n\n\n\nFor more information call 705-324-7323 ext. 165 or email wellness@ccckl.ca
URL:https://ccckl.ca/events/kirkfield-sages/2023-01-19/
LOCATION:Kirkfield & District Lions Club\, 973 Portage Rd\, Kirkfield\, Ontario\, K0M 2B0\, Canada
CATEGORIES:SAGES
END:VEVENT
BEGIN:VEVENT
DTSTART;TZID=America/Toronto:20230118T103000
DTEND;TZID=America/Toronto:20230118T120000
DTSTAMP:20260423T085015
CREATED:20230728T141912Z
LAST-MODIFIED:20230728T141912Z
UID:10001194-1674037800-1674043200@ccckl.ca
SUMMARY:Lindsay SAGES
DESCRIPTION:Join us every Wednesday (excluding the first Wednesday of every month) 10:45 am at Victoria Park Armoury in Lindsay for Gentle Exercise for Seniors. \n\n\n\nCost: First time is free\, yearly membership with the Lindsay Seniors Centre. For more information check out https://lindsayseniors.com/membership/ or call 705-878-8261 \n\n\n\nHave any questions? Call 705-324-7323 ext. 165 or email wellness@ccckl.ca
URL:https://ccckl.ca/events/lindsay-sages/2023-01-18/
LOCATION:Victoria Park Armoury\, 210 Kent St W\, Lindsay\, Ontario\, K9V 2Y8\, Canada
CATEGORIES:SAGES
END:VEVENT
BEGIN:VEVENT
DTSTART;TZID=America/Toronto:20230118T100000
DTEND;TZID=America/Toronto:20230118T110000
DTSTAMP:20260423T085015
CREATED:20220610T154331Z
LAST-MODIFIED:20230324T130903Z
UID:10001006-1674036000-1674039600@ccckl.ca
SUMMARY:Fenelon Falls SAGES
DESCRIPTION:Join us every Monday and Wednesday (excluding holidays) at 10:00 am at the Senior Citizens Club of Fenelon Falls for Gentle Exercise for Seniors. \n\n\n\nCost: $3 per session\, registration not required. First session is free! \n\n\n\nFor more information call 705-324-7323 ext. 165 or email wellness@ccckl.ca
URL:https://ccckl.ca/events/sages-program/2023-01-18/
LOCATION:Senior Citizens Club Of Fenelon Falls\, 58 Murray Street\, Fenelon Falls\, Ontario\, K0M 1N0\, Canada
CATEGORIES:SAGES
END:VEVENT
BEGIN:VEVENT
DTSTART;TZID=America/Toronto:20230117T100000
DTEND;TZID=America/Toronto:20230117T110000
DTSTAMP:20260423T085015
CREATED:20221028T202425Z
LAST-MODIFIED:20221028T202649Z
UID:10001137-1673949600-1673953200@ccckl.ca
SUMMARY:Coboconk SAGES
DESCRIPTION:
URL:https://ccckl.ca/events/coboconk-sages/2023-01-17/
LOCATION:Royal Canadian Legion\, Branch 519\, 2916 Kawartha Lakes Rd 48\, Coboconk\, Ontario\, K0M 1K0\, Canada
CATEGORIES:SAGES
END:VEVENT
BEGIN:VEVENT
DTSTART;TZID=America/Toronto:20230117T093000
DTEND;TZID=America/Toronto:20230117T103000
DTSTAMP:20260423T085015
CREATED:20221028T204726Z
LAST-MODIFIED:20230324T130340Z
UID:10001214-1673947800-1673951400@ccckl.ca
SUMMARY:Manilla SAGES
DESCRIPTION:Join us every Tuesday at 9:30 am at the Manilla Library for Gentle Exercise for Seniors. \n\n\n\nCost: $3 per session\, registration not required. First session is free! \n\n\n\nFor more information call 705-324-7323 ext. 165 or email wellness@ccckl.ca
URL:https://ccckl.ca/events/manilla-sages/2023-01-17/
LOCATION:Manilla Library\, 17025 Simcoe St.\, Manilla\, K0M 2J0\, Canada
CATEGORIES:SAGES
END:VEVENT
BEGIN:VEVENT
DTSTART;TZID=America/Toronto:20230116T100000
DTEND;TZID=America/Toronto:20230116T110000
DTSTAMP:20260423T085015
CREATED:20221028T195444Z
LAST-MODIFIED:20230324T162814Z
UID:10001089-1673863200-1673866800@ccckl.ca
SUMMARY:Bobcaygeon SAGES
DESCRIPTION:Join us every Monday and Thursday at 10:00 am at the Bobcaygeon Senior Centre for Gentle Exercise for Seniors. \n\n\n\nCost: $3 per session. \n\n\n\nFor more information call 705-324-7323 ext. 165 or email wellness@ccckl.ca
URL:https://ccckl.ca/events/bobcaygeon-sages/2023-01-16/
LOCATION:Bobcaygeon Senior Centre\, 100 Head Street\, Bobcaygeon\, Canada
CATEGORIES:SAGES
END:VEVENT
BEGIN:VEVENT
DTSTART;TZID=America/Toronto:20230116T100000
DTEND;TZID=America/Toronto:20230116T110000
DTSTAMP:20260423T085015
CREATED:20220610T154331Z
LAST-MODIFIED:20230324T130903Z
UID:10001005-1673863200-1673866800@ccckl.ca
SUMMARY:Fenelon Falls SAGES
DESCRIPTION:Join us every Monday and Wednesday (excluding holidays) at 10:00 am at the Senior Citizens Club of Fenelon Falls for Gentle Exercise for Seniors. \n\n\n\nCost: $3 per session\, registration not required. First session is free! \n\n\n\nFor more information call 705-324-7323 ext. 165 or email wellness@ccckl.ca
URL:https://ccckl.ca/events/sages-program/2023-01-16/
LOCATION:Senior Citizens Club Of Fenelon Falls\, 58 Murray Street\, Fenelon Falls\, Ontario\, K0M 1N0\, Canada
CATEGORIES:SAGES
END:VEVENT
BEGIN:VEVENT
DTSTART;TZID=America/Toronto:20230112T100000
DTEND;TZID=America/Toronto:20230112T110000
DTSTAMP:20260423T085015
CREATED:20221028T195444Z
LAST-MODIFIED:20230324T162814Z
UID:10001088-1673517600-1673521200@ccckl.ca
SUMMARY:Bobcaygeon SAGES
DESCRIPTION:Join us every Monday and Thursday at 10:00 am at the Bobcaygeon Senior Centre for Gentle Exercise for Seniors. \n\n\n\nCost: $3 per session. \n\n\n\nFor more information call 705-324-7323 ext. 165 or email wellness@ccckl.ca
URL:https://ccckl.ca/events/bobcaygeon-sages/2023-01-12/
LOCATION:Bobcaygeon Senior Centre\, 100 Head Street\, Bobcaygeon\, Canada
CATEGORIES:SAGES
END:VEVENT
BEGIN:VEVENT
DTSTART;TZID=America/Toronto:20230112T093000
DTEND;TZID=America/Toronto:20230112T103000
DTSTAMP:20260423T085015
CREATED:20221028T203411Z
LAST-MODIFIED:20230324T130558Z
UID:10001160-1673515800-1673519400@ccckl.ca
SUMMARY:Kirkfield SAGES
DESCRIPTION:Join us every Thursday at 9:30 am at the Kirkfield and District Lions Club for Gentle Exercise for Seniors. \n\n\n\nCost: $3 per session\, registration not required. First session is free! \n\n\n\nFor more information call 705-324-7323 ext. 165 or email wellness@ccckl.ca
URL:https://ccckl.ca/events/kirkfield-sages/2023-01-12/
LOCATION:Kirkfield & District Lions Club\, 973 Portage Rd\, Kirkfield\, Ontario\, K0M 2B0\, Canada
CATEGORIES:SAGES
END:VEVENT
BEGIN:VEVENT
DTSTART;TZID=America/Toronto:20230111T103000
DTEND;TZID=America/Toronto:20230111T120000
DTSTAMP:20260423T085015
CREATED:20230728T141912Z
LAST-MODIFIED:20230728T141912Z
UID:10001188-1673433000-1673438400@ccckl.ca
SUMMARY:Lindsay SAGES
DESCRIPTION:Join us every Wednesday (excluding the first Wednesday of every month) 10:45 am at Victoria Park Armoury in Lindsay for Gentle Exercise for Seniors. \n\n\n\nCost: First time is free\, yearly membership with the Lindsay Seniors Centre. For more information check out https://lindsayseniors.com/membership/ or call 705-878-8261 \n\n\n\nHave any questions? Call 705-324-7323 ext. 165 or email wellness@ccckl.ca
URL:https://ccckl.ca/events/lindsay-sages/2023-01-11/
LOCATION:Victoria Park Armoury\, 210 Kent St W\, Lindsay\, Ontario\, K9V 2Y8\, Canada
CATEGORIES:SAGES
END:VEVENT
BEGIN:VEVENT
DTSTART;TZID=America/Toronto:20230111T100000
DTEND;TZID=America/Toronto:20230111T110000
DTSTAMP:20260423T085015
CREATED:20220610T154331Z
LAST-MODIFIED:20230324T130903Z
UID:10001004-1673431200-1673434800@ccckl.ca
SUMMARY:Fenelon Falls SAGES
DESCRIPTION:Join us every Monday and Wednesday (excluding holidays) at 10:00 am at the Senior Citizens Club of Fenelon Falls for Gentle Exercise for Seniors. \n\n\n\nCost: $3 per session\, registration not required. First session is free! \n\n\n\nFor more information call 705-324-7323 ext. 165 or email wellness@ccckl.ca
URL:https://ccckl.ca/events/sages-program/2023-01-11/
LOCATION:Senior Citizens Club Of Fenelon Falls\, 58 Murray Street\, Fenelon Falls\, Ontario\, K0M 1N0\, Canada
CATEGORIES:SAGES
END:VEVENT
BEGIN:VEVENT
DTSTART;TZID=America/Toronto:20230110T100000
DTEND;TZID=America/Toronto:20230110T110000
DTSTAMP:20260423T085015
CREATED:20221028T202425Z
LAST-MODIFIED:20221028T202649Z
UID:10001136-1673344800-1673348400@ccckl.ca
SUMMARY:Coboconk SAGES
DESCRIPTION:
URL:https://ccckl.ca/events/coboconk-sages/2023-01-10/
LOCATION:Royal Canadian Legion\, Branch 519\, 2916 Kawartha Lakes Rd 48\, Coboconk\, Ontario\, K0M 1K0\, Canada
CATEGORIES:SAGES
END:VEVENT
BEGIN:VEVENT
DTSTART;TZID=America/Toronto:20230110T093000
DTEND;TZID=America/Toronto:20230110T103000
DTSTAMP:20260423T085015
CREATED:20221028T204726Z
LAST-MODIFIED:20230324T130340Z
UID:10001213-1673343000-1673346600@ccckl.ca
SUMMARY:Manilla SAGES
DESCRIPTION:Join us every Tuesday at 9:30 am at the Manilla Library for Gentle Exercise for Seniors. \n\n\n\nCost: $3 per session\, registration not required. First session is free! \n\n\n\nFor more information call 705-324-7323 ext. 165 or email wellness@ccckl.ca
URL:https://ccckl.ca/events/manilla-sages/2023-01-10/
LOCATION:Manilla Library\, 17025 Simcoe St.\, Manilla\, K0M 2J0\, Canada
CATEGORIES:SAGES
END:VEVENT
BEGIN:VEVENT
DTSTART;TZID=America/Toronto:20230109T100000
DTEND;TZID=America/Toronto:20230109T110000
DTSTAMP:20260423T085015
CREATED:20221028T195444Z
LAST-MODIFIED:20230324T162814Z
UID:10001087-1673258400-1673262000@ccckl.ca
SUMMARY:Bobcaygeon SAGES
DESCRIPTION:Join us every Monday and Thursday at 10:00 am at the Bobcaygeon Senior Centre for Gentle Exercise for Seniors. \n\n\n\nCost: $3 per session. \n\n\n\nFor more information call 705-324-7323 ext. 165 or email wellness@ccckl.ca
URL:https://ccckl.ca/events/bobcaygeon-sages/2023-01-09/
LOCATION:Bobcaygeon Senior Centre\, 100 Head Street\, Bobcaygeon\, Canada
CATEGORIES:SAGES
END:VEVENT
BEGIN:VEVENT
DTSTART;TZID=America/Toronto:20230109T100000
DTEND;TZID=America/Toronto:20230109T110000
DTSTAMP:20260423T085015
CREATED:20220610T154331Z
LAST-MODIFIED:20230324T130903Z
UID:10001003-1673258400-1673262000@ccckl.ca
SUMMARY:Fenelon Falls SAGES
DESCRIPTION:Join us every Monday and Wednesday (excluding holidays) at 10:00 am at the Senior Citizens Club of Fenelon Falls for Gentle Exercise for Seniors. \n\n\n\nCost: $3 per session\, registration not required. First session is free! \n\n\n\nFor more information call 705-324-7323 ext. 165 or email wellness@ccckl.ca
URL:https://ccckl.ca/events/sages-program/2023-01-09/
LOCATION:Senior Citizens Club Of Fenelon Falls\, 58 Murray Street\, Fenelon Falls\, Ontario\, K0M 1N0\, Canada
CATEGORIES:SAGES
END:VEVENT
BEGIN:VEVENT
DTSTART;TZID=America/Toronto:20230105T100000
DTEND;TZID=America/Toronto:20230105T110000
DTSTAMP:20260423T085015
CREATED:20221028T195444Z
LAST-MODIFIED:20230324T162814Z
UID:10001086-1672912800-1672916400@ccckl.ca
SUMMARY:Bobcaygeon SAGES
DESCRIPTION:Join us every Monday and Thursday at 10:00 am at the Bobcaygeon Senior Centre for Gentle Exercise for Seniors. \n\n\n\nCost: $3 per session. \n\n\n\nFor more information call 705-324-7323 ext. 165 or email wellness@ccckl.ca
URL:https://ccckl.ca/events/bobcaygeon-sages/2023-01-05/
LOCATION:Bobcaygeon Senior Centre\, 100 Head Street\, Bobcaygeon\, Canada
CATEGORIES:SAGES
END:VEVENT
BEGIN:VEVENT
DTSTART;TZID=America/Toronto:20230105T093000
DTEND;TZID=America/Toronto:20230105T103000
DTSTAMP:20260423T085015
CREATED:20221028T203411Z
LAST-MODIFIED:20230324T130558Z
UID:10001159-1672911000-1672914600@ccckl.ca
SUMMARY:Kirkfield SAGES
DESCRIPTION:Join us every Thursday at 9:30 am at the Kirkfield and District Lions Club for Gentle Exercise for Seniors. \n\n\n\nCost: $3 per session\, registration not required. First session is free! \n\n\n\nFor more information call 705-324-7323 ext. 165 or email wellness@ccckl.ca
URL:https://ccckl.ca/events/kirkfield-sages/2023-01-05/
LOCATION:Kirkfield & District Lions Club\, 973 Portage Rd\, Kirkfield\, Ontario\, K0M 2B0\, Canada
CATEGORIES:SAGES
END:VEVENT
BEGIN:VEVENT
DTSTART;TZID=America/Toronto:20230104T100000
DTEND;TZID=America/Toronto:20230104T110000
DTSTAMP:20260423T085015
CREATED:20220610T154331Z
LAST-MODIFIED:20230324T130903Z
UID:10001002-1672826400-1672830000@ccckl.ca
SUMMARY:Fenelon Falls SAGES
DESCRIPTION:Join us every Monday and Wednesday (excluding holidays) at 10:00 am at the Senior Citizens Club of Fenelon Falls for Gentle Exercise for Seniors. \n\n\n\nCost: $3 per session\, registration not required. First session is free! \n\n\n\nFor more information call 705-324-7323 ext. 165 or email wellness@ccckl.ca
URL:https://ccckl.ca/events/sages-program/2023-01-04/
LOCATION:Senior Citizens Club Of Fenelon Falls\, 58 Murray Street\, Fenelon Falls\, Ontario\, K0M 1N0\, Canada
CATEGORIES:SAGES
END:VEVENT
BEGIN:VEVENT
DTSTART;TZID=America/Toronto:20230103T093000
DTEND;TZID=America/Toronto:20230103T103000
DTSTAMP:20260423T085015
CREATED:20221028T204726Z
LAST-MODIFIED:20230324T130340Z
UID:10001212-1672738200-1672741800@ccckl.ca
SUMMARY:Manilla SAGES
DESCRIPTION:Join us every Tuesday at 9:30 am at the Manilla Library for Gentle Exercise for Seniors. \n\n\n\nCost: $3 per session\, registration not required. First session is free! \n\n\n\nFor more information call 705-324-7323 ext. 165 or email wellness@ccckl.ca
URL:https://ccckl.ca/events/manilla-sages/2023-01-03/
LOCATION:Manilla Library\, 17025 Simcoe St.\, Manilla\, K0M 2J0\, Canada
CATEGORIES:SAGES
END:VEVENT
BEGIN:VEVENT
DTSTART;TZID=America/Toronto:20230102T100000
DTEND;TZID=America/Toronto:20230102T110000
DTSTAMP:20260423T085015
CREATED:20221028T195444Z
LAST-MODIFIED:20230324T162814Z
UID:10001085-1672653600-1672657200@ccckl.ca
SUMMARY:Bobcaygeon SAGES
DESCRIPTION:Join us every Monday and Thursday at 10:00 am at the Bobcaygeon Senior Centre for Gentle Exercise for Seniors. \n\n\n\nCost: $3 per session. \n\n\n\nFor more information call 705-324-7323 ext. 165 or email wellness@ccckl.ca
URL:https://ccckl.ca/events/bobcaygeon-sages/2023-01-02/
LOCATION:Bobcaygeon Senior Centre\, 100 Head Street\, Bobcaygeon\, Canada
CATEGORIES:SAGES
END:VEVENT
BEGIN:VEVENT
DTSTART;TZID=America/Toronto:20230102T100000
DTEND;TZID=America/Toronto:20230102T110000
DTSTAMP:20260423T085015
CREATED:20220610T154331Z
LAST-MODIFIED:20230324T130903Z
UID:10001001-1672653600-1672657200@ccckl.ca
SUMMARY:Fenelon Falls SAGES
DESCRIPTION:Join us every Monday and Wednesday (excluding holidays) at 10:00 am at the Senior Citizens Club of Fenelon Falls for Gentle Exercise for Seniors. \n\n\n\nCost: $3 per session\, registration not required. First session is free! \n\n\n\nFor more information call 705-324-7323 ext. 165 or email wellness@ccckl.ca
URL:https://ccckl.ca/events/sages-program/2023-01-02/
LOCATION:Senior Citizens Club Of Fenelon Falls\, 58 Murray Street\, Fenelon Falls\, Ontario\, K0M 1N0\, Canada
CATEGORIES:SAGES
END:VEVENT
BEGIN:VEVENT
DTSTART;TZID=America/Toronto:20221229T100000
DTEND;TZID=America/Toronto:20221229T110000
DTSTAMP:20260423T085015
CREATED:20221028T195444Z
LAST-MODIFIED:20230324T162814Z
UID:10001084-1672308000-1672311600@ccckl.ca
SUMMARY:Bobcaygeon SAGES
DESCRIPTION:Join us every Monday and Thursday at 10:00 am at the Bobcaygeon Senior Centre for Gentle Exercise for Seniors. \n\n\n\nCost: $3 per session. \n\n\n\nFor more information call 705-324-7323 ext. 165 or email wellness@ccckl.ca
URL:https://ccckl.ca/events/bobcaygeon-sages/2022-12-29/
LOCATION:Bobcaygeon Senior Centre\, 100 Head Street\, Bobcaygeon\, Canada
CATEGORIES:SAGES
END:VEVENT
BEGIN:VEVENT
DTSTART;TZID=America/Toronto:20221228T100000
DTEND;TZID=America/Toronto:20221228T110000
DTSTAMP:20260423T085015
CREATED:20220610T154331Z
LAST-MODIFIED:20230324T130903Z
UID:10001000-1672221600-1672225200@ccckl.ca
SUMMARY:Fenelon Falls SAGES
DESCRIPTION:Join us every Monday and Wednesday (excluding holidays) at 10:00 am at the Senior Citizens Club of Fenelon Falls for Gentle Exercise for Seniors. \n\n\n\nCost: $3 per session\, registration not required. First session is free! \n\n\n\nFor more information call 705-324-7323 ext. 165 or email wellness@ccckl.ca
URL:https://ccckl.ca/events/sages-program/2022-12-28/
LOCATION:Senior Citizens Club Of Fenelon Falls\, 58 Murray Street\, Fenelon Falls\, Ontario\, K0M 1N0\, Canada
CATEGORIES:SAGES
END:VEVENT
BEGIN:VEVENT
DTSTART;TZID=America/Toronto:20221227T093000
DTEND;TZID=America/Toronto:20221227T103000
DTSTAMP:20260423T085015
CREATED:20221028T204726Z
LAST-MODIFIED:20230324T130340Z
UID:10001211-1672133400-1672137000@ccckl.ca
SUMMARY:Manilla SAGES
DESCRIPTION:Join us every Tuesday at 9:30 am at the Manilla Library for Gentle Exercise for Seniors. \n\n\n\nCost: $3 per session\, registration not required. First session is free! \n\n\n\nFor more information call 705-324-7323 ext. 165 or email wellness@ccckl.ca
URL:https://ccckl.ca/events/manilla-sages/2022-12-27/
LOCATION:Manilla Library\, 17025 Simcoe St.\, Manilla\, K0M 2J0\, Canada
CATEGORIES:SAGES
END:VEVENT
BEGIN:VEVENT
DTSTART;TZID=America/Toronto:20221226T100000
DTEND;TZID=America/Toronto:20221226T110000
DTSTAMP:20260423T085015
CREATED:20221028T195444Z
LAST-MODIFIED:20230324T162814Z
UID:10001083-1672048800-1672052400@ccckl.ca
SUMMARY:Bobcaygeon SAGES
DESCRIPTION:Join us every Monday and Thursday at 10:00 am at the Bobcaygeon Senior Centre for Gentle Exercise for Seniors. \n\n\n\nCost: $3 per session. \n\n\n\nFor more information call 705-324-7323 ext. 165 or email wellness@ccckl.ca
URL:https://ccckl.ca/events/bobcaygeon-sages/2022-12-26/
LOCATION:Bobcaygeon Senior Centre\, 100 Head Street\, Bobcaygeon\, Canada
CATEGORIES:SAGES
END:VEVENT
BEGIN:VEVENT
DTSTART;TZID=America/Toronto:20221226T100000
DTEND;TZID=America/Toronto:20221226T110000
DTSTAMP:20260423T085015
CREATED:20220610T154331Z
LAST-MODIFIED:20230324T130903Z
UID:10000999-1672048800-1672052400@ccckl.ca
SUMMARY:Fenelon Falls SAGES
DESCRIPTION:Join us every Monday and Wednesday (excluding holidays) at 10:00 am at the Senior Citizens Club of Fenelon Falls for Gentle Exercise for Seniors. \n\n\n\nCost: $3 per session\, registration not required. First session is free! \n\n\n\nFor more information call 705-324-7323 ext. 165 or email wellness@ccckl.ca
URL:https://ccckl.ca/events/sages-program/2022-12-26/
LOCATION:Senior Citizens Club Of Fenelon Falls\, 58 Murray Street\, Fenelon Falls\, Ontario\, K0M 1N0\, Canada
CATEGORIES:SAGES
END:VEVENT
BEGIN:VEVENT
DTSTART;TZID=America/Toronto:20221222T100000
DTEND;TZID=America/Toronto:20221222T110000
DTSTAMP:20260423T085015
CREATED:20221028T195444Z
LAST-MODIFIED:20230324T162814Z
UID:10001082-1671703200-1671706800@ccckl.ca
SUMMARY:Bobcaygeon SAGES
DESCRIPTION:Join us every Monday and Thursday at 10:00 am at the Bobcaygeon Senior Centre for Gentle Exercise for Seniors. \n\n\n\nCost: $3 per session. \n\n\n\nFor more information call 705-324-7323 ext. 165 or email wellness@ccckl.ca
URL:https://ccckl.ca/events/bobcaygeon-sages/2022-12-22/
LOCATION:Bobcaygeon Senior Centre\, 100 Head Street\, Bobcaygeon\, Canada
CATEGORIES:SAGES
END:VEVENT
BEGIN:VEVENT
DTSTART;TZID=America/Toronto:20221221T100000
DTEND;TZID=America/Toronto:20221221T110000
DTSTAMP:20260423T085015
CREATED:20220610T154331Z
LAST-MODIFIED:20230324T130903Z
UID:10000998-1671616800-1671620400@ccckl.ca
SUMMARY:Fenelon Falls SAGES
DESCRIPTION:Join us every Monday and Wednesday (excluding holidays) at 10:00 am at the Senior Citizens Club of Fenelon Falls for Gentle Exercise for Seniors. \n\n\n\nCost: $3 per session\, registration not required. First session is free! \n\n\n\nFor more information call 705-324-7323 ext. 165 or email wellness@ccckl.ca
URL:https://ccckl.ca/events/sages-program/2022-12-21/
LOCATION:Senior Citizens Club Of Fenelon Falls\, 58 Murray Street\, Fenelon Falls\, Ontario\, K0M 1N0\, Canada
CATEGORIES:SAGES
END:VEVENT
BEGIN:VEVENT
DTSTART;TZID=America/Toronto:20221220T100000
DTEND;TZID=America/Toronto:20221220T110000
DTSTAMP:20260423T085015
CREATED:20221028T202425Z
LAST-MODIFIED:20221028T202649Z
UID:10001135-1671530400-1671534000@ccckl.ca
SUMMARY:Coboconk SAGES
DESCRIPTION:
URL:https://ccckl.ca/events/coboconk-sages/2022-12-20/
LOCATION:Royal Canadian Legion\, Branch 519\, 2916 Kawartha Lakes Rd 48\, Coboconk\, Ontario\, K0M 1K0\, Canada
CATEGORIES:SAGES
END:VEVENT
BEGIN:VEVENT
DTSTART;TZID=America/Toronto:20221220T093000
DTEND;TZID=America/Toronto:20221220T103000
DTSTAMP:20260423T085015
CREATED:20221028T204726Z
LAST-MODIFIED:20230324T130340Z
UID:10001210-1671528600-1671532200@ccckl.ca
SUMMARY:Manilla SAGES
DESCRIPTION:Join us every Tuesday at 9:30 am at the Manilla Library for Gentle Exercise for Seniors. \n\n\n\nCost: $3 per session\, registration not required. First session is free! \n\n\n\nFor more information call 705-324-7323 ext. 165 or email wellness@ccckl.ca
URL:https://ccckl.ca/events/manilla-sages/2022-12-20/
LOCATION:Manilla Library\, 17025 Simcoe St.\, Manilla\, K0M 2J0\, Canada
CATEGORIES:SAGES
END:VEVENT
END:VCALENDAR