BEGIN:VCALENDAR
VERSION:2.0
PRODID:-//Community Care City of Kawartha Lakes - ECPv6.15.13//NONSGML v1.0//EN
CALSCALE:GREGORIAN
METHOD:PUBLISH
X-ORIGINAL-URL:https://ccckl.ca
X-WR-CALDESC:Events for Community Care City of Kawartha Lakes
REFRESH-INTERVAL;VALUE=DURATION:PT1H
X-Robots-Tag:noindex
X-PUBLISHED-TTL:PT1H
BEGIN:VTIMEZONE
TZID:America/Toronto
BEGIN:DAYLIGHT
TZOFFSETFROM:-0500
TZOFFSETTO:-0400
TZNAME:EDT
DTSTART:20210314T070000
END:DAYLIGHT
BEGIN:STANDARD
TZOFFSETFROM:-0400
TZOFFSETTO:-0500
TZNAME:EST
DTSTART:20211107T060000
END:STANDARD
BEGIN:DAYLIGHT
TZOFFSETFROM:-0500
TZOFFSETTO:-0400
TZNAME:EDT
DTSTART:20220313T070000
END:DAYLIGHT
BEGIN:STANDARD
TZOFFSETFROM:-0400
TZOFFSETTO:-0500
TZNAME:EST
DTSTART:20221106T060000
END:STANDARD
BEGIN:DAYLIGHT
TZOFFSETFROM:-0500
TZOFFSETTO:-0400
TZNAME:EDT
DTSTART:20230312T070000
END:DAYLIGHT
BEGIN:STANDARD
TZOFFSETFROM:-0400
TZOFFSETTO:-0500
TZNAME:EST
DTSTART:20231105T060000
END:STANDARD
END:VTIMEZONE
BEGIN:VEVENT
DTSTART;TZID=America/Toronto:20221226T100000
DTEND;TZID=America/Toronto:20221226T110000
DTSTAMP:20260423T114943
CREATED:20221028T195444Z
LAST-MODIFIED:20230324T162814Z
UID:10001083-1672048800-1672052400@ccckl.ca
SUMMARY:Bobcaygeon SAGES
DESCRIPTION:Join us every Monday and Thursday at 10:00 am at the Bobcaygeon Senior Centre for Gentle Exercise for Seniors. \n\n\n\nCost: $3 per session. \n\n\n\nFor more information call 705-324-7323 ext. 165 or email wellness@ccckl.ca
URL:https://ccckl.ca/events/bobcaygeon-sages/2022-12-26/
LOCATION:Bobcaygeon Senior Centre\, 100 Head Street\, Bobcaygeon\, Canada
CATEGORIES:SAGES
END:VEVENT
BEGIN:VEVENT
DTSTART;TZID=America/Toronto:20221226T100000
DTEND;TZID=America/Toronto:20221226T110000
DTSTAMP:20260423T114943
CREATED:20220610T154331Z
LAST-MODIFIED:20230324T130903Z
UID:10000999-1672048800-1672052400@ccckl.ca
SUMMARY:Fenelon Falls SAGES
DESCRIPTION:Join us every Monday and Wednesday (excluding holidays) at 10:00 am at the Senior Citizens Club of Fenelon Falls for Gentle Exercise for Seniors. \n\n\n\nCost: $3 per session\, registration not required. First session is free! \n\n\n\nFor more information call 705-324-7323 ext. 165 or email wellness@ccckl.ca
URL:https://ccckl.ca/events/sages-program/2022-12-26/
LOCATION:Senior Citizens Club Of Fenelon Falls\, 58 Murray Street\, Fenelon Falls\, Ontario\, K0M 1N0\, Canada
CATEGORIES:SAGES
END:VEVENT
BEGIN:VEVENT
DTSTART;TZID=America/Toronto:20221222T100000
DTEND;TZID=America/Toronto:20221222T110000
DTSTAMP:20260423T114943
CREATED:20221028T195444Z
LAST-MODIFIED:20230324T162814Z
UID:10001082-1671703200-1671706800@ccckl.ca
SUMMARY:Bobcaygeon SAGES
DESCRIPTION:Join us every Monday and Thursday at 10:00 am at the Bobcaygeon Senior Centre for Gentle Exercise for Seniors. \n\n\n\nCost: $3 per session. \n\n\n\nFor more information call 705-324-7323 ext. 165 or email wellness@ccckl.ca
URL:https://ccckl.ca/events/bobcaygeon-sages/2022-12-22/
LOCATION:Bobcaygeon Senior Centre\, 100 Head Street\, Bobcaygeon\, Canada
CATEGORIES:SAGES
END:VEVENT
BEGIN:VEVENT
DTSTART;TZID=America/Toronto:20221221T100000
DTEND;TZID=America/Toronto:20221221T110000
DTSTAMP:20260423T114943
CREATED:20220610T154331Z
LAST-MODIFIED:20230324T130903Z
UID:10000998-1671616800-1671620400@ccckl.ca
SUMMARY:Fenelon Falls SAGES
DESCRIPTION:Join us every Monday and Wednesday (excluding holidays) at 10:00 am at the Senior Citizens Club of Fenelon Falls for Gentle Exercise for Seniors. \n\n\n\nCost: $3 per session\, registration not required. First session is free! \n\n\n\nFor more information call 705-324-7323 ext. 165 or email wellness@ccckl.ca
URL:https://ccckl.ca/events/sages-program/2022-12-21/
LOCATION:Senior Citizens Club Of Fenelon Falls\, 58 Murray Street\, Fenelon Falls\, Ontario\, K0M 1N0\, Canada
CATEGORIES:SAGES
END:VEVENT
BEGIN:VEVENT
DTSTART;TZID=America/Toronto:20221220T100000
DTEND;TZID=America/Toronto:20221220T110000
DTSTAMP:20260423T114943
CREATED:20221028T202425Z
LAST-MODIFIED:20221028T202649Z
UID:10001135-1671530400-1671534000@ccckl.ca
SUMMARY:Coboconk SAGES
DESCRIPTION:
URL:https://ccckl.ca/events/coboconk-sages/2022-12-20/
LOCATION:Royal Canadian Legion\, Branch 519\, 2916 Kawartha Lakes Rd 48\, Coboconk\, Ontario\, K0M 1K0\, Canada
CATEGORIES:SAGES
END:VEVENT
BEGIN:VEVENT
DTSTART;TZID=America/Toronto:20221220T093000
DTEND;TZID=America/Toronto:20221220T103000
DTSTAMP:20260423T114943
CREATED:20221028T204726Z
LAST-MODIFIED:20230324T130340Z
UID:10001210-1671528600-1671532200@ccckl.ca
SUMMARY:Manilla SAGES
DESCRIPTION:Join us every Tuesday at 9:30 am at the Manilla Library for Gentle Exercise for Seniors. \n\n\n\nCost: $3 per session\, registration not required. First session is free! \n\n\n\nFor more information call 705-324-7323 ext. 165 or email wellness@ccckl.ca
URL:https://ccckl.ca/events/manilla-sages/2022-12-20/
LOCATION:Manilla Library\, 17025 Simcoe St.\, Manilla\, K0M 2J0\, Canada
CATEGORIES:SAGES
END:VEVENT
BEGIN:VEVENT
DTSTART;TZID=America/Toronto:20221219T100000
DTEND;TZID=America/Toronto:20221219T110000
DTSTAMP:20260423T114943
CREATED:20221028T195444Z
LAST-MODIFIED:20230324T162814Z
UID:10001081-1671444000-1671447600@ccckl.ca
SUMMARY:Bobcaygeon SAGES
DESCRIPTION:Join us every Monday and Thursday at 10:00 am at the Bobcaygeon Senior Centre for Gentle Exercise for Seniors. \n\n\n\nCost: $3 per session. \n\n\n\nFor more information call 705-324-7323 ext. 165 or email wellness@ccckl.ca
URL:https://ccckl.ca/events/bobcaygeon-sages/2022-12-19/
LOCATION:Bobcaygeon Senior Centre\, 100 Head Street\, Bobcaygeon\, Canada
CATEGORIES:SAGES
END:VEVENT
BEGIN:VEVENT
DTSTART;TZID=America/Toronto:20221219T100000
DTEND;TZID=America/Toronto:20221219T110000
DTSTAMP:20260423T114943
CREATED:20220610T154331Z
LAST-MODIFIED:20230324T130903Z
UID:10000997-1671444000-1671447600@ccckl.ca
SUMMARY:Fenelon Falls SAGES
DESCRIPTION:Join us every Monday and Wednesday (excluding holidays) at 10:00 am at the Senior Citizens Club of Fenelon Falls for Gentle Exercise for Seniors. \n\n\n\nCost: $3 per session\, registration not required. First session is free! \n\n\n\nFor more information call 705-324-7323 ext. 165 or email wellness@ccckl.ca
URL:https://ccckl.ca/events/sages-program/2022-12-19/
LOCATION:Senior Citizens Club Of Fenelon Falls\, 58 Murray Street\, Fenelon Falls\, Ontario\, K0M 1N0\, Canada
CATEGORIES:SAGES
END:VEVENT
BEGIN:VEVENT
DTSTART;TZID=America/Toronto:20221215T100000
DTEND;TZID=America/Toronto:20221215T110000
DTSTAMP:20260423T114943
CREATED:20221028T195444Z
LAST-MODIFIED:20230324T162814Z
UID:10001080-1671098400-1671102000@ccckl.ca
SUMMARY:Bobcaygeon SAGES
DESCRIPTION:Join us every Monday and Thursday at 10:00 am at the Bobcaygeon Senior Centre for Gentle Exercise for Seniors. \n\n\n\nCost: $3 per session. \n\n\n\nFor more information call 705-324-7323 ext. 165 or email wellness@ccckl.ca
URL:https://ccckl.ca/events/bobcaygeon-sages/2022-12-15/
LOCATION:Bobcaygeon Senior Centre\, 100 Head Street\, Bobcaygeon\, Canada
CATEGORIES:SAGES
END:VEVENT
BEGIN:VEVENT
DTSTART;TZID=America/Toronto:20221214T100000
DTEND;TZID=America/Toronto:20221214T110000
DTSTAMP:20260423T114943
CREATED:20220610T154331Z
LAST-MODIFIED:20230324T130903Z
UID:10000996-1671012000-1671015600@ccckl.ca
SUMMARY:Fenelon Falls SAGES
DESCRIPTION:Join us every Monday and Wednesday (excluding holidays) at 10:00 am at the Senior Citizens Club of Fenelon Falls for Gentle Exercise for Seniors. \n\n\n\nCost: $3 per session\, registration not required. First session is free! \n\n\n\nFor more information call 705-324-7323 ext. 165 or email wellness@ccckl.ca
URL:https://ccckl.ca/events/sages-program/2022-12-14/
LOCATION:Senior Citizens Club Of Fenelon Falls\, 58 Murray Street\, Fenelon Falls\, Ontario\, K0M 1N0\, Canada
CATEGORIES:SAGES
END:VEVENT
BEGIN:VEVENT
DTSTART;TZID=America/Toronto:20221213T100000
DTEND;TZID=America/Toronto:20221213T110000
DTSTAMP:20260423T114943
CREATED:20221028T202425Z
LAST-MODIFIED:20221028T202649Z
UID:10001134-1670925600-1670929200@ccckl.ca
SUMMARY:Coboconk SAGES
DESCRIPTION:
URL:https://ccckl.ca/events/coboconk-sages/2022-12-13/
LOCATION:Royal Canadian Legion\, Branch 519\, 2916 Kawartha Lakes Rd 48\, Coboconk\, Ontario\, K0M 1K0\, Canada
CATEGORIES:SAGES
END:VEVENT
BEGIN:VEVENT
DTSTART;TZID=America/Toronto:20221213T093000
DTEND;TZID=America/Toronto:20221213T103000
DTSTAMP:20260423T114943
CREATED:20221028T204726Z
LAST-MODIFIED:20230324T130340Z
UID:10001209-1670923800-1670927400@ccckl.ca
SUMMARY:Manilla SAGES
DESCRIPTION:Join us every Tuesday at 9:30 am at the Manilla Library for Gentle Exercise for Seniors. \n\n\n\nCost: $3 per session\, registration not required. First session is free! \n\n\n\nFor more information call 705-324-7323 ext. 165 or email wellness@ccckl.ca
URL:https://ccckl.ca/events/manilla-sages/2022-12-13/
LOCATION:Manilla Library\, 17025 Simcoe St.\, Manilla\, K0M 2J0\, Canada
CATEGORIES:SAGES
END:VEVENT
BEGIN:VEVENT
DTSTART;TZID=America/Toronto:20221212T100000
DTEND;TZID=America/Toronto:20221212T110000
DTSTAMP:20260423T114943
CREATED:20221028T195444Z
LAST-MODIFIED:20230324T162814Z
UID:10001079-1670839200-1670842800@ccckl.ca
SUMMARY:Bobcaygeon SAGES
DESCRIPTION:Join us every Monday and Thursday at 10:00 am at the Bobcaygeon Senior Centre for Gentle Exercise for Seniors. \n\n\n\nCost: $3 per session. \n\n\n\nFor more information call 705-324-7323 ext. 165 or email wellness@ccckl.ca
URL:https://ccckl.ca/events/bobcaygeon-sages/2022-12-12/
LOCATION:Bobcaygeon Senior Centre\, 100 Head Street\, Bobcaygeon\, Canada
CATEGORIES:SAGES
END:VEVENT
BEGIN:VEVENT
DTSTART;TZID=America/Toronto:20221212T100000
DTEND;TZID=America/Toronto:20221212T110000
DTSTAMP:20260423T114943
CREATED:20220610T154331Z
LAST-MODIFIED:20230324T130903Z
UID:10000995-1670839200-1670842800@ccckl.ca
SUMMARY:Fenelon Falls SAGES
DESCRIPTION:Join us every Monday and Wednesday (excluding holidays) at 10:00 am at the Senior Citizens Club of Fenelon Falls for Gentle Exercise for Seniors. \n\n\n\nCost: $3 per session\, registration not required. First session is free! \n\n\n\nFor more information call 705-324-7323 ext. 165 or email wellness@ccckl.ca
URL:https://ccckl.ca/events/sages-program/2022-12-12/
LOCATION:Senior Citizens Club Of Fenelon Falls\, 58 Murray Street\, Fenelon Falls\, Ontario\, K0M 1N0\, Canada
CATEGORIES:SAGES
END:VEVENT
BEGIN:VEVENT
DTSTART;TZID=America/Toronto:20221208T100000
DTEND;TZID=America/Toronto:20221208T110000
DTSTAMP:20260423T114943
CREATED:20221028T195444Z
LAST-MODIFIED:20230324T162814Z
UID:10001078-1670493600-1670497200@ccckl.ca
SUMMARY:Bobcaygeon SAGES
DESCRIPTION:Join us every Monday and Thursday at 10:00 am at the Bobcaygeon Senior Centre for Gentle Exercise for Seniors. \n\n\n\nCost: $3 per session. \n\n\n\nFor more information call 705-324-7323 ext. 165 or email wellness@ccckl.ca
URL:https://ccckl.ca/events/bobcaygeon-sages/2022-12-08/
LOCATION:Bobcaygeon Senior Centre\, 100 Head Street\, Bobcaygeon\, Canada
CATEGORIES:SAGES
END:VEVENT
BEGIN:VEVENT
DTSTART;TZID=America/Toronto:20221207T100000
DTEND;TZID=America/Toronto:20221207T110000
DTSTAMP:20260423T114943
CREATED:20220610T154331Z
LAST-MODIFIED:20230324T130903Z
UID:10000994-1670407200-1670410800@ccckl.ca
SUMMARY:Fenelon Falls SAGES
DESCRIPTION:Join us every Monday and Wednesday (excluding holidays) at 10:00 am at the Senior Citizens Club of Fenelon Falls for Gentle Exercise for Seniors. \n\n\n\nCost: $3 per session\, registration not required. First session is free! \n\n\n\nFor more information call 705-324-7323 ext. 165 or email wellness@ccckl.ca
URL:https://ccckl.ca/events/sages-program/2022-12-07/
LOCATION:Senior Citizens Club Of Fenelon Falls\, 58 Murray Street\, Fenelon Falls\, Ontario\, K0M 1N0\, Canada
CATEGORIES:SAGES
END:VEVENT
BEGIN:VEVENT
DTSTART;TZID=America/Toronto:20221206T100000
DTEND;TZID=America/Toronto:20221206T110000
DTSTAMP:20260423T114943
CREATED:20221028T202425Z
LAST-MODIFIED:20221028T202649Z
UID:10001133-1670320800-1670324400@ccckl.ca
SUMMARY:Coboconk SAGES
DESCRIPTION:
URL:https://ccckl.ca/events/coboconk-sages/2022-12-06/
LOCATION:Royal Canadian Legion\, Branch 519\, 2916 Kawartha Lakes Rd 48\, Coboconk\, Ontario\, K0M 1K0\, Canada
CATEGORIES:SAGES
END:VEVENT
BEGIN:VEVENT
DTSTART;TZID=America/Toronto:20221206T093000
DTEND;TZID=America/Toronto:20221206T103000
DTSTAMP:20260423T114943
CREATED:20221028T204726Z
LAST-MODIFIED:20230324T130340Z
UID:10001208-1670319000-1670322600@ccckl.ca
SUMMARY:Manilla SAGES
DESCRIPTION:Join us every Tuesday at 9:30 am at the Manilla Library for Gentle Exercise for Seniors. \n\n\n\nCost: $3 per session\, registration not required. First session is free! \n\n\n\nFor more information call 705-324-7323 ext. 165 or email wellness@ccckl.ca
URL:https://ccckl.ca/events/manilla-sages/2022-12-06/
LOCATION:Manilla Library\, 17025 Simcoe St.\, Manilla\, K0M 2J0\, Canada
CATEGORIES:SAGES
END:VEVENT
BEGIN:VEVENT
DTSTART;TZID=America/Toronto:20221205T100000
DTEND;TZID=America/Toronto:20221205T110000
DTSTAMP:20260423T114943
CREATED:20221028T195444Z
LAST-MODIFIED:20230324T162814Z
UID:10001077-1670234400-1670238000@ccckl.ca
SUMMARY:Bobcaygeon SAGES
DESCRIPTION:Join us every Monday and Thursday at 10:00 am at the Bobcaygeon Senior Centre for Gentle Exercise for Seniors. \n\n\n\nCost: $3 per session. \n\n\n\nFor more information call 705-324-7323 ext. 165 or email wellness@ccckl.ca
URL:https://ccckl.ca/events/bobcaygeon-sages/2022-12-05/
LOCATION:Bobcaygeon Senior Centre\, 100 Head Street\, Bobcaygeon\, Canada
CATEGORIES:SAGES
END:VEVENT
BEGIN:VEVENT
DTSTART;TZID=America/Toronto:20221205T100000
DTEND;TZID=America/Toronto:20221205T110000
DTSTAMP:20260423T114943
CREATED:20220610T154331Z
LAST-MODIFIED:20230324T130903Z
UID:10000993-1670234400-1670238000@ccckl.ca
SUMMARY:Fenelon Falls SAGES
DESCRIPTION:Join us every Monday and Wednesday (excluding holidays) at 10:00 am at the Senior Citizens Club of Fenelon Falls for Gentle Exercise for Seniors. \n\n\n\nCost: $3 per session\, registration not required. First session is free! \n\n\n\nFor more information call 705-324-7323 ext. 165 or email wellness@ccckl.ca
URL:https://ccckl.ca/events/sages-program/2022-12-05/
LOCATION:Senior Citizens Club Of Fenelon Falls\, 58 Murray Street\, Fenelon Falls\, Ontario\, K0M 1N0\, Canada
CATEGORIES:SAGES
END:VEVENT
BEGIN:VEVENT
DTSTART;TZID=America/Toronto:20221201T100000
DTEND;TZID=America/Toronto:20221201T110000
DTSTAMP:20260423T114943
CREATED:20221028T195444Z
LAST-MODIFIED:20230324T162814Z
UID:10001076-1669888800-1669892400@ccckl.ca
SUMMARY:Bobcaygeon SAGES
DESCRIPTION:Join us every Monday and Thursday at 10:00 am at the Bobcaygeon Senior Centre for Gentle Exercise for Seniors. \n\n\n\nCost: $3 per session. \n\n\n\nFor more information call 705-324-7323 ext. 165 or email wellness@ccckl.ca
URL:https://ccckl.ca/events/bobcaygeon-sages/2022-12-01/
LOCATION:Bobcaygeon Senior Centre\, 100 Head Street\, Bobcaygeon\, Canada
CATEGORIES:SAGES
END:VEVENT
BEGIN:VEVENT
DTSTART;TZID=America/Toronto:20221130T103000
DTEND;TZID=America/Toronto:20221130T120000
DTSTAMP:20260423T114943
CREATED:20230728T141912Z
LAST-MODIFIED:20230728T141912Z
UID:10001199-1669804200-1669809600@ccckl.ca
SUMMARY:Lindsay SAGES
DESCRIPTION:Join us every Wednesday (excluding the first Wednesday of every month) 10:45 am at Victoria Park Armoury in Lindsay for Gentle Exercise for Seniors. \n\n\n\nCost: First time is free\, yearly membership with the Lindsay Seniors Centre. For more information check out https://lindsayseniors.com/membership/ or call 705-878-8261 \n\n\n\nHave any questions? Call 705-324-7323 ext. 165 or email wellness@ccckl.ca
URL:https://ccckl.ca/events/lindsay-sages/2022-11-30/
LOCATION:Victoria Park Armoury\, 210 Kent St W\, Lindsay\, Ontario\, K9V 2Y8\, Canada
CATEGORIES:SAGES
END:VEVENT
BEGIN:VEVENT
DTSTART;TZID=America/Toronto:20221130T100000
DTEND;TZID=America/Toronto:20221130T110000
DTSTAMP:20260423T114943
CREATED:20220610T154331Z
LAST-MODIFIED:20230324T130903Z
UID:10000992-1669802400-1669806000@ccckl.ca
SUMMARY:Fenelon Falls SAGES
DESCRIPTION:Join us every Monday and Wednesday (excluding holidays) at 10:00 am at the Senior Citizens Club of Fenelon Falls for Gentle Exercise for Seniors. \n\n\n\nCost: $3 per session\, registration not required. First session is free! \n\n\n\nFor more information call 705-324-7323 ext. 165 or email wellness@ccckl.ca
URL:https://ccckl.ca/events/sages-program/2022-11-30/
LOCATION:Senior Citizens Club Of Fenelon Falls\, 58 Murray Street\, Fenelon Falls\, Ontario\, K0M 1N0\, Canada
CATEGORIES:SAGES
END:VEVENT
BEGIN:VEVENT
DTSTART;TZID=America/Toronto:20221129T100000
DTEND;TZID=America/Toronto:20221129T110000
DTSTAMP:20260423T114943
CREATED:20221028T202425Z
LAST-MODIFIED:20221028T202649Z
UID:10001132-1669716000-1669719600@ccckl.ca
SUMMARY:Coboconk SAGES
DESCRIPTION:
URL:https://ccckl.ca/events/coboconk-sages/2022-11-29/
LOCATION:Royal Canadian Legion\, Branch 519\, 2916 Kawartha Lakes Rd 48\, Coboconk\, Ontario\, K0M 1K0\, Canada
CATEGORIES:SAGES
END:VEVENT
BEGIN:VEVENT
DTSTART;TZID=America/Toronto:20221129T093000
DTEND;TZID=America/Toronto:20221129T103000
DTSTAMP:20260423T114943
CREATED:20221028T204726Z
LAST-MODIFIED:20230324T130340Z
UID:10001207-1669714200-1669717800@ccckl.ca
SUMMARY:Manilla SAGES
DESCRIPTION:Join us every Tuesday at 9:30 am at the Manilla Library for Gentle Exercise for Seniors. \n\n\n\nCost: $3 per session\, registration not required. First session is free! \n\n\n\nFor more information call 705-324-7323 ext. 165 or email wellness@ccckl.ca
URL:https://ccckl.ca/events/manilla-sages/2022-11-29/
LOCATION:Manilla Library\, 17025 Simcoe St.\, Manilla\, K0M 2J0\, Canada
CATEGORIES:SAGES
END:VEVENT
BEGIN:VEVENT
DTSTART;TZID=America/Toronto:20221128T100000
DTEND;TZID=America/Toronto:20221128T110000
DTSTAMP:20260423T114943
CREATED:20221028T195444Z
LAST-MODIFIED:20230324T162814Z
UID:10001075-1669629600-1669633200@ccckl.ca
SUMMARY:Bobcaygeon SAGES
DESCRIPTION:Join us every Monday and Thursday at 10:00 am at the Bobcaygeon Senior Centre for Gentle Exercise for Seniors. \n\n\n\nCost: $3 per session. \n\n\n\nFor more information call 705-324-7323 ext. 165 or email wellness@ccckl.ca
URL:https://ccckl.ca/events/bobcaygeon-sages/2022-11-28/
LOCATION:Bobcaygeon Senior Centre\, 100 Head Street\, Bobcaygeon\, Canada
CATEGORIES:SAGES
END:VEVENT
BEGIN:VEVENT
DTSTART;TZID=America/Toronto:20221128T100000
DTEND;TZID=America/Toronto:20221128T110000
DTSTAMP:20260423T114943
CREATED:20220610T154331Z
LAST-MODIFIED:20230324T130903Z
UID:10000991-1669629600-1669633200@ccckl.ca
SUMMARY:Fenelon Falls SAGES
DESCRIPTION:Join us every Monday and Wednesday (excluding holidays) at 10:00 am at the Senior Citizens Club of Fenelon Falls for Gentle Exercise for Seniors. \n\n\n\nCost: $3 per session\, registration not required. First session is free! \n\n\n\nFor more information call 705-324-7323 ext. 165 or email wellness@ccckl.ca
URL:https://ccckl.ca/events/sages-program/2022-11-28/
LOCATION:Senior Citizens Club Of Fenelon Falls\, 58 Murray Street\, Fenelon Falls\, Ontario\, K0M 1N0\, Canada
CATEGORIES:SAGES
END:VEVENT
BEGIN:VEVENT
DTSTART;TZID=America/Toronto:20221124T100000
DTEND;TZID=America/Toronto:20221124T110000
DTSTAMP:20260423T114943
CREATED:20221028T195444Z
LAST-MODIFIED:20230324T162814Z
UID:10001074-1669284000-1669287600@ccckl.ca
SUMMARY:Bobcaygeon SAGES
DESCRIPTION:Join us every Monday and Thursday at 10:00 am at the Bobcaygeon Senior Centre for Gentle Exercise for Seniors. \n\n\n\nCost: $3 per session. \n\n\n\nFor more information call 705-324-7323 ext. 165 or email wellness@ccckl.ca
URL:https://ccckl.ca/events/bobcaygeon-sages/2022-11-24/
LOCATION:Bobcaygeon Senior Centre\, 100 Head Street\, Bobcaygeon\, Canada
CATEGORIES:SAGES
END:VEVENT
BEGIN:VEVENT
DTSTART;TZID=America/Toronto:20221124T093000
DTEND;TZID=America/Toronto:20221124T103000
DTSTAMP:20260423T114943
CREATED:20221028T203411Z
LAST-MODIFIED:20230324T130558Z
UID:10001158-1669282200-1669285800@ccckl.ca
SUMMARY:Kirkfield SAGES
DESCRIPTION:Join us every Thursday at 9:30 am at the Kirkfield and District Lions Club for Gentle Exercise for Seniors. \n\n\n\nCost: $3 per session\, registration not required. First session is free! \n\n\n\nFor more information call 705-324-7323 ext. 165 or email wellness@ccckl.ca
URL:https://ccckl.ca/events/kirkfield-sages/2022-11-24/
LOCATION:Kirkfield & District Lions Club\, 973 Portage Rd\, Kirkfield\, Ontario\, K0M 2B0\, Canada
CATEGORIES:SAGES
END:VEVENT
BEGIN:VEVENT
DTSTART;TZID=America/Toronto:20221123T103000
DTEND;TZID=America/Toronto:20221123T120000
DTSTAMP:20260423T114943
CREATED:20221028T204306Z
LAST-MODIFIED:20230324T125559Z
UID:10001181-1669199400-1669204800@ccckl.ca
SUMMARY:Lindsay SAGES
DESCRIPTION:Join us every Wednesday (excluding the first Wednesday of every month) 10:45 am at Victoria Park Armoury in Lindsay for Gentle Exercise for Seniors. \n\n\n\nCost: First time is free\, yearly membership with the Lindsay Seniors Centre. For more information check out https://lindsayseniors.com/membership/ or call 705-878-8261 \n\n\n\nHave any questions? Call 705-324-7323 ext. 165 or email wellness@ccckl.ca
URL:https://ccckl.ca/events/lindsay-sages/2022-11-23/
LOCATION:Victoria Park Armoury\, 210 Kent St W\, Lindsay\, Ontario\, K9V 2Y8\, Canada
CATEGORIES:SAGES
END:VEVENT
END:VCALENDAR