BEGIN:VCALENDAR
VERSION:2.0
PRODID:-//Community Care City of Kawartha Lakes - ECPv6.15.13//NONSGML v1.0//EN
CALSCALE:GREGORIAN
METHOD:PUBLISH
X-ORIGINAL-URL:https://ccckl.ca
X-WR-CALDESC:Events for Community Care City of Kawartha Lakes
REFRESH-INTERVAL;VALUE=DURATION:PT1H
X-Robots-Tag:noindex
X-PUBLISHED-TTL:PT1H
BEGIN:VTIMEZONE
TZID:America/Toronto
BEGIN:DAYLIGHT
TZOFFSETFROM:-0500
TZOFFSETTO:-0400
TZNAME:EDT
DTSTART:20210314T070000
END:DAYLIGHT
BEGIN:STANDARD
TZOFFSETFROM:-0400
TZOFFSETTO:-0500
TZNAME:EST
DTSTART:20211107T060000
END:STANDARD
BEGIN:DAYLIGHT
TZOFFSETFROM:-0500
TZOFFSETTO:-0400
TZNAME:EDT
DTSTART:20220313T070000
END:DAYLIGHT
BEGIN:STANDARD
TZOFFSETFROM:-0400
TZOFFSETTO:-0500
TZNAME:EST
DTSTART:20221106T060000
END:STANDARD
BEGIN:DAYLIGHT
TZOFFSETFROM:-0500
TZOFFSETTO:-0400
TZNAME:EDT
DTSTART:20230312T070000
END:DAYLIGHT
BEGIN:STANDARD
TZOFFSETFROM:-0400
TZOFFSETTO:-0500
TZNAME:EST
DTSTART:20231105T060000
END:STANDARD
END:VTIMEZONE
BEGIN:VEVENT
DTSTART;TZID=America/Toronto:20221129T093000
DTEND;TZID=America/Toronto:20221129T103000
DTSTAMP:20260423T143300
CREATED:20221028T204726Z
LAST-MODIFIED:20230324T130340Z
UID:10001207-1669714200-1669717800@ccckl.ca
SUMMARY:Manilla SAGES
DESCRIPTION:Join us every Tuesday at 9:30 am at the Manilla Library for Gentle Exercise for Seniors. \n\n\n\nCost: $3 per session\, registration not required. First session is free! \n\n\n\nFor more information call 705-324-7323 ext. 165 or email wellness@ccckl.ca
URL:https://ccckl.ca/events/manilla-sages/2022-11-29/
LOCATION:Manilla Library\, 17025 Simcoe St.\, Manilla\, K0M 2J0\, Canada
CATEGORIES:SAGES
END:VEVENT
BEGIN:VEVENT
DTSTART;TZID=America/Toronto:20221128T100000
DTEND;TZID=America/Toronto:20221128T110000
DTSTAMP:20260423T143300
CREATED:20221028T195444Z
LAST-MODIFIED:20230324T162814Z
UID:10001075-1669629600-1669633200@ccckl.ca
SUMMARY:Bobcaygeon SAGES
DESCRIPTION:Join us every Monday and Thursday at 10:00 am at the Bobcaygeon Senior Centre for Gentle Exercise for Seniors. \n\n\n\nCost: $3 per session. \n\n\n\nFor more information call 705-324-7323 ext. 165 or email wellness@ccckl.ca
URL:https://ccckl.ca/events/bobcaygeon-sages/2022-11-28/
LOCATION:Bobcaygeon Senior Centre\, 100 Head Street\, Bobcaygeon\, Canada
CATEGORIES:SAGES
END:VEVENT
BEGIN:VEVENT
DTSTART;TZID=America/Toronto:20221128T100000
DTEND;TZID=America/Toronto:20221128T110000
DTSTAMP:20260423T143300
CREATED:20220610T154331Z
LAST-MODIFIED:20230324T130903Z
UID:10000991-1669629600-1669633200@ccckl.ca
SUMMARY:Fenelon Falls SAGES
DESCRIPTION:Join us every Monday and Wednesday (excluding holidays) at 10:00 am at the Senior Citizens Club of Fenelon Falls for Gentle Exercise for Seniors. \n\n\n\nCost: $3 per session\, registration not required. First session is free! \n\n\n\nFor more information call 705-324-7323 ext. 165 or email wellness@ccckl.ca
URL:https://ccckl.ca/events/sages-program/2022-11-28/
LOCATION:Senior Citizens Club Of Fenelon Falls\, 58 Murray Street\, Fenelon Falls\, Ontario\, K0M 1N0\, Canada
CATEGORIES:SAGES
END:VEVENT
BEGIN:VEVENT
DTSTART;TZID=America/Toronto:20221124T100000
DTEND;TZID=America/Toronto:20221124T110000
DTSTAMP:20260423T143300
CREATED:20221028T195444Z
LAST-MODIFIED:20230324T162814Z
UID:10001074-1669284000-1669287600@ccckl.ca
SUMMARY:Bobcaygeon SAGES
DESCRIPTION:Join us every Monday and Thursday at 10:00 am at the Bobcaygeon Senior Centre for Gentle Exercise for Seniors. \n\n\n\nCost: $3 per session. \n\n\n\nFor more information call 705-324-7323 ext. 165 or email wellness@ccckl.ca
URL:https://ccckl.ca/events/bobcaygeon-sages/2022-11-24/
LOCATION:Bobcaygeon Senior Centre\, 100 Head Street\, Bobcaygeon\, Canada
CATEGORIES:SAGES
END:VEVENT
BEGIN:VEVENT
DTSTART;TZID=America/Toronto:20221124T093000
DTEND;TZID=America/Toronto:20221124T103000
DTSTAMP:20260423T143300
CREATED:20221028T203411Z
LAST-MODIFIED:20230324T130558Z
UID:10001158-1669282200-1669285800@ccckl.ca
SUMMARY:Kirkfield SAGES
DESCRIPTION:Join us every Thursday at 9:30 am at the Kirkfield and District Lions Club for Gentle Exercise for Seniors. \n\n\n\nCost: $3 per session\, registration not required. First session is free! \n\n\n\nFor more information call 705-324-7323 ext. 165 or email wellness@ccckl.ca
URL:https://ccckl.ca/events/kirkfield-sages/2022-11-24/
LOCATION:Kirkfield & District Lions Club\, 973 Portage Rd\, Kirkfield\, Ontario\, K0M 2B0\, Canada
CATEGORIES:SAGES
END:VEVENT
BEGIN:VEVENT
DTSTART;TZID=America/Toronto:20221123T103000
DTEND;TZID=America/Toronto:20221123T120000
DTSTAMP:20260423T143300
CREATED:20221028T204306Z
LAST-MODIFIED:20230324T125559Z
UID:10001181-1669199400-1669204800@ccckl.ca
SUMMARY:Lindsay SAGES
DESCRIPTION:Join us every Wednesday (excluding the first Wednesday of every month) 10:45 am at Victoria Park Armoury in Lindsay for Gentle Exercise for Seniors. \n\n\n\nCost: First time is free\, yearly membership with the Lindsay Seniors Centre. For more information check out https://lindsayseniors.com/membership/ or call 705-878-8261 \n\n\n\nHave any questions? Call 705-324-7323 ext. 165 or email wellness@ccckl.ca
URL:https://ccckl.ca/events/lindsay-sages/2022-11-23/
LOCATION:Victoria Park Armoury\, 210 Kent St W\, Lindsay\, Ontario\, K9V 2Y8\, Canada
CATEGORIES:SAGES
END:VEVENT
BEGIN:VEVENT
DTSTART;TZID=America/Toronto:20221123T100000
DTEND;TZID=America/Toronto:20221123T110000
DTSTAMP:20260423T143300
CREATED:20220610T154331Z
LAST-MODIFIED:20230324T130903Z
UID:10000990-1669197600-1669201200@ccckl.ca
SUMMARY:Fenelon Falls SAGES
DESCRIPTION:Join us every Monday and Wednesday (excluding holidays) at 10:00 am at the Senior Citizens Club of Fenelon Falls for Gentle Exercise for Seniors. \n\n\n\nCost: $3 per session\, registration not required. First session is free! \n\n\n\nFor more information call 705-324-7323 ext. 165 or email wellness@ccckl.ca
URL:https://ccckl.ca/events/sages-program/2022-11-23/
LOCATION:Senior Citizens Club Of Fenelon Falls\, 58 Murray Street\, Fenelon Falls\, Ontario\, K0M 1N0\, Canada
CATEGORIES:SAGES
END:VEVENT
BEGIN:VEVENT
DTSTART;TZID=America/Toronto:20221122T100000
DTEND;TZID=America/Toronto:20221122T110000
DTSTAMP:20260423T143300
CREATED:20221028T202425Z
LAST-MODIFIED:20221028T202649Z
UID:10001131-1669111200-1669114800@ccckl.ca
SUMMARY:Coboconk SAGES
DESCRIPTION:
URL:https://ccckl.ca/events/coboconk-sages/2022-11-22/
LOCATION:Royal Canadian Legion\, Branch 519\, 2916 Kawartha Lakes Rd 48\, Coboconk\, Ontario\, K0M 1K0\, Canada
CATEGORIES:SAGES
END:VEVENT
BEGIN:VEVENT
DTSTART;TZID=America/Toronto:20221122T093000
DTEND;TZID=America/Toronto:20221122T103000
DTSTAMP:20260423T143300
CREATED:20221028T204726Z
LAST-MODIFIED:20230324T130340Z
UID:10001206-1669109400-1669113000@ccckl.ca
SUMMARY:Manilla SAGES
DESCRIPTION:Join us every Tuesday at 9:30 am at the Manilla Library for Gentle Exercise for Seniors. \n\n\n\nCost: $3 per session\, registration not required. First session is free! \n\n\n\nFor more information call 705-324-7323 ext. 165 or email wellness@ccckl.ca
URL:https://ccckl.ca/events/manilla-sages/2022-11-22/
LOCATION:Manilla Library\, 17025 Simcoe St.\, Manilla\, K0M 2J0\, Canada
CATEGORIES:SAGES
END:VEVENT
BEGIN:VEVENT
DTSTART;TZID=America/Toronto:20221121T100000
DTEND;TZID=America/Toronto:20221121T110000
DTSTAMP:20260423T143300
CREATED:20221028T195444Z
LAST-MODIFIED:20230324T162814Z
UID:10001073-1669024800-1669028400@ccckl.ca
SUMMARY:Bobcaygeon SAGES
DESCRIPTION:Join us every Monday and Thursday at 10:00 am at the Bobcaygeon Senior Centre for Gentle Exercise for Seniors. \n\n\n\nCost: $3 per session. \n\n\n\nFor more information call 705-324-7323 ext. 165 or email wellness@ccckl.ca
URL:https://ccckl.ca/events/bobcaygeon-sages/2022-11-21/
LOCATION:Bobcaygeon Senior Centre\, 100 Head Street\, Bobcaygeon\, Canada
CATEGORIES:SAGES
END:VEVENT
BEGIN:VEVENT
DTSTART;TZID=America/Toronto:20221121T100000
DTEND;TZID=America/Toronto:20221121T110000
DTSTAMP:20260423T143300
CREATED:20220610T154331Z
LAST-MODIFIED:20230324T130903Z
UID:10000989-1669024800-1669028400@ccckl.ca
SUMMARY:Fenelon Falls SAGES
DESCRIPTION:Join us every Monday and Wednesday (excluding holidays) at 10:00 am at the Senior Citizens Club of Fenelon Falls for Gentle Exercise for Seniors. \n\n\n\nCost: $3 per session\, registration not required. First session is free! \n\n\n\nFor more information call 705-324-7323 ext. 165 or email wellness@ccckl.ca
URL:https://ccckl.ca/events/sages-program/2022-11-21/
LOCATION:Senior Citizens Club Of Fenelon Falls\, 58 Murray Street\, Fenelon Falls\, Ontario\, K0M 1N0\, Canada
CATEGORIES:SAGES
END:VEVENT
BEGIN:VEVENT
DTSTART;TZID=America/Toronto:20221117T100000
DTEND;TZID=America/Toronto:20221117T110000
DTSTAMP:20260423T143300
CREATED:20221028T195444Z
LAST-MODIFIED:20230324T162814Z
UID:10001072-1668679200-1668682800@ccckl.ca
SUMMARY:Bobcaygeon SAGES
DESCRIPTION:Join us every Monday and Thursday at 10:00 am at the Bobcaygeon Senior Centre for Gentle Exercise for Seniors. \n\n\n\nCost: $3 per session. \n\n\n\nFor more information call 705-324-7323 ext. 165 or email wellness@ccckl.ca
URL:https://ccckl.ca/events/bobcaygeon-sages/2022-11-17/
LOCATION:Bobcaygeon Senior Centre\, 100 Head Street\, Bobcaygeon\, Canada
CATEGORIES:SAGES
END:VEVENT
BEGIN:VEVENT
DTSTART;TZID=America/Toronto:20221117T093000
DTEND;TZID=America/Toronto:20221117T103000
DTSTAMP:20260423T143300
CREATED:20221028T203411Z
LAST-MODIFIED:20230324T130558Z
UID:10001157-1668677400-1668681000@ccckl.ca
SUMMARY:Kirkfield SAGES
DESCRIPTION:Join us every Thursday at 9:30 am at the Kirkfield and District Lions Club for Gentle Exercise for Seniors. \n\n\n\nCost: $3 per session\, registration not required. First session is free! \n\n\n\nFor more information call 705-324-7323 ext. 165 or email wellness@ccckl.ca
URL:https://ccckl.ca/events/kirkfield-sages/2022-11-17/
LOCATION:Kirkfield & District Lions Club\, 973 Portage Rd\, Kirkfield\, Ontario\, K0M 2B0\, Canada
CATEGORIES:SAGES
END:VEVENT
BEGIN:VEVENT
DTSTART;TZID=America/Toronto:20221116T103000
DTEND;TZID=America/Toronto:20221116T120000
DTSTAMP:20260423T143300
CREATED:20230728T141912Z
LAST-MODIFIED:20230728T141912Z
UID:10001193-1668594600-1668600000@ccckl.ca
SUMMARY:Lindsay SAGES
DESCRIPTION:Join us every Wednesday (excluding the first Wednesday of every month) 10:45 am at Victoria Park Armoury in Lindsay for Gentle Exercise for Seniors. \n\n\n\nCost: First time is free\, yearly membership with the Lindsay Seniors Centre. For more information check out https://lindsayseniors.com/membership/ or call 705-878-8261 \n\n\n\nHave any questions? Call 705-324-7323 ext. 165 or email wellness@ccckl.ca
URL:https://ccckl.ca/events/lindsay-sages/2022-11-16/
LOCATION:Victoria Park Armoury\, 210 Kent St W\, Lindsay\, Ontario\, K9V 2Y8\, Canada
CATEGORIES:SAGES
END:VEVENT
BEGIN:VEVENT
DTSTART;TZID=America/Toronto:20221116T100000
DTEND;TZID=America/Toronto:20221116T110000
DTSTAMP:20260423T143300
CREATED:20220610T154331Z
LAST-MODIFIED:20230324T130903Z
UID:10000988-1668592800-1668596400@ccckl.ca
SUMMARY:Fenelon Falls SAGES
DESCRIPTION:Join us every Monday and Wednesday (excluding holidays) at 10:00 am at the Senior Citizens Club of Fenelon Falls for Gentle Exercise for Seniors. \n\n\n\nCost: $3 per session\, registration not required. First session is free! \n\n\n\nFor more information call 705-324-7323 ext. 165 or email wellness@ccckl.ca
URL:https://ccckl.ca/events/sages-program/2022-11-16/
LOCATION:Senior Citizens Club Of Fenelon Falls\, 58 Murray Street\, Fenelon Falls\, Ontario\, K0M 1N0\, Canada
CATEGORIES:SAGES
END:VEVENT
BEGIN:VEVENT
DTSTART;TZID=America/Toronto:20221115T100000
DTEND;TZID=America/Toronto:20221115T110000
DTSTAMP:20260423T143300
CREATED:20221028T202425Z
LAST-MODIFIED:20221028T202649Z
UID:10001130-1668506400-1668510000@ccckl.ca
SUMMARY:Coboconk SAGES
DESCRIPTION:
URL:https://ccckl.ca/events/coboconk-sages/2022-11-15/
LOCATION:Royal Canadian Legion\, Branch 519\, 2916 Kawartha Lakes Rd 48\, Coboconk\, Ontario\, K0M 1K0\, Canada
CATEGORIES:SAGES
END:VEVENT
BEGIN:VEVENT
DTSTART;TZID=America/Toronto:20221115T093000
DTEND;TZID=America/Toronto:20221115T103000
DTSTAMP:20260423T143300
CREATED:20221028T204726Z
LAST-MODIFIED:20230324T130340Z
UID:10001205-1668504600-1668508200@ccckl.ca
SUMMARY:Manilla SAGES
DESCRIPTION:Join us every Tuesday at 9:30 am at the Manilla Library for Gentle Exercise for Seniors. \n\n\n\nCost: $3 per session\, registration not required. First session is free! \n\n\n\nFor more information call 705-324-7323 ext. 165 or email wellness@ccckl.ca
URL:https://ccckl.ca/events/manilla-sages/2022-11-15/
LOCATION:Manilla Library\, 17025 Simcoe St.\, Manilla\, K0M 2J0\, Canada
CATEGORIES:SAGES
END:VEVENT
BEGIN:VEVENT
DTSTART;TZID=America/Toronto:20221114T100000
DTEND;TZID=America/Toronto:20221114T110000
DTSTAMP:20260423T143300
CREATED:20221028T195444Z
LAST-MODIFIED:20230324T162814Z
UID:10001071-1668420000-1668423600@ccckl.ca
SUMMARY:Bobcaygeon SAGES
DESCRIPTION:Join us every Monday and Thursday at 10:00 am at the Bobcaygeon Senior Centre for Gentle Exercise for Seniors. \n\n\n\nCost: $3 per session. \n\n\n\nFor more information call 705-324-7323 ext. 165 or email wellness@ccckl.ca
URL:https://ccckl.ca/events/bobcaygeon-sages/2022-11-14/
LOCATION:Bobcaygeon Senior Centre\, 100 Head Street\, Bobcaygeon\, Canada
CATEGORIES:SAGES
END:VEVENT
BEGIN:VEVENT
DTSTART;TZID=America/Toronto:20221114T100000
DTEND;TZID=America/Toronto:20221114T110000
DTSTAMP:20260423T143300
CREATED:20220610T154331Z
LAST-MODIFIED:20230324T130903Z
UID:10000987-1668420000-1668423600@ccckl.ca
SUMMARY:Fenelon Falls SAGES
DESCRIPTION:Join us every Monday and Wednesday (excluding holidays) at 10:00 am at the Senior Citizens Club of Fenelon Falls for Gentle Exercise for Seniors. \n\n\n\nCost: $3 per session\, registration not required. First session is free! \n\n\n\nFor more information call 705-324-7323 ext. 165 or email wellness@ccckl.ca
URL:https://ccckl.ca/events/sages-program/2022-11-14/
LOCATION:Senior Citizens Club Of Fenelon Falls\, 58 Murray Street\, Fenelon Falls\, Ontario\, K0M 1N0\, Canada
CATEGORIES:SAGES
END:VEVENT
BEGIN:VEVENT
DTSTART;TZID=America/Toronto:20221110T100000
DTEND;TZID=America/Toronto:20221110T110000
DTSTAMP:20260423T143301
CREATED:20221028T195444Z
LAST-MODIFIED:20230324T162814Z
UID:10001070-1668074400-1668078000@ccckl.ca
SUMMARY:Bobcaygeon SAGES
DESCRIPTION:Join us every Monday and Thursday at 10:00 am at the Bobcaygeon Senior Centre for Gentle Exercise for Seniors. \n\n\n\nCost: $3 per session. \n\n\n\nFor more information call 705-324-7323 ext. 165 or email wellness@ccckl.ca
URL:https://ccckl.ca/events/bobcaygeon-sages/2022-11-10/
LOCATION:Bobcaygeon Senior Centre\, 100 Head Street\, Bobcaygeon\, Canada
CATEGORIES:SAGES
END:VEVENT
BEGIN:VEVENT
DTSTART;TZID=America/Toronto:20221110T093000
DTEND;TZID=America/Toronto:20221110T103000
DTSTAMP:20260423T143301
CREATED:20221028T203411Z
LAST-MODIFIED:20230324T130558Z
UID:10001156-1668072600-1668076200@ccckl.ca
SUMMARY:Kirkfield SAGES
DESCRIPTION:Join us every Thursday at 9:30 am at the Kirkfield and District Lions Club for Gentle Exercise for Seniors. \n\n\n\nCost: $3 per session\, registration not required. First session is free! \n\n\n\nFor more information call 705-324-7323 ext. 165 or email wellness@ccckl.ca
URL:https://ccckl.ca/events/kirkfield-sages/2022-11-10/
LOCATION:Kirkfield & District Lions Club\, 973 Portage Rd\, Kirkfield\, Ontario\, K0M 2B0\, Canada
CATEGORIES:SAGES
END:VEVENT
BEGIN:VEVENT
DTSTART;TZID=America/Toronto:20221109T103000
DTEND;TZID=America/Toronto:20221109T120000
DTSTAMP:20260423T143301
CREATED:20230728T141912Z
LAST-MODIFIED:20230728T141912Z
UID:10001187-1667989800-1667995200@ccckl.ca
SUMMARY:Lindsay SAGES
DESCRIPTION:Join us every Wednesday (excluding the first Wednesday of every month) 10:45 am at Victoria Park Armoury in Lindsay for Gentle Exercise for Seniors. \n\n\n\nCost: First time is free\, yearly membership with the Lindsay Seniors Centre. For more information check out https://lindsayseniors.com/membership/ or call 705-878-8261 \n\n\n\nHave any questions? Call 705-324-7323 ext. 165 or email wellness@ccckl.ca
URL:https://ccckl.ca/events/lindsay-sages/2022-11-09/
LOCATION:Victoria Park Armoury\, 210 Kent St W\, Lindsay\, Ontario\, K9V 2Y8\, Canada
CATEGORIES:SAGES
END:VEVENT
BEGIN:VEVENT
DTSTART;TZID=America/Toronto:20221109T100000
DTEND;TZID=America/Toronto:20221109T110000
DTSTAMP:20260423T143301
CREATED:20220610T154331Z
LAST-MODIFIED:20230324T130903Z
UID:10000986-1667988000-1667991600@ccckl.ca
SUMMARY:Fenelon Falls SAGES
DESCRIPTION:Join us every Monday and Wednesday (excluding holidays) at 10:00 am at the Senior Citizens Club of Fenelon Falls for Gentle Exercise for Seniors. \n\n\n\nCost: $3 per session\, registration not required. First session is free! \n\n\n\nFor more information call 705-324-7323 ext. 165 or email wellness@ccckl.ca
URL:https://ccckl.ca/events/sages-program/2022-11-09/
LOCATION:Senior Citizens Club Of Fenelon Falls\, 58 Murray Street\, Fenelon Falls\, Ontario\, K0M 1N0\, Canada
CATEGORIES:SAGES
END:VEVENT
BEGIN:VEVENT
DTSTART;TZID=America/Toronto:20221108T100000
DTEND;TZID=America/Toronto:20221108T110000
DTSTAMP:20260423T143301
CREATED:20221028T202425Z
LAST-MODIFIED:20221028T202649Z
UID:10001129-1667901600-1667905200@ccckl.ca
SUMMARY:Coboconk SAGES
DESCRIPTION:
URL:https://ccckl.ca/events/coboconk-sages/2022-11-08/
LOCATION:Royal Canadian Legion\, Branch 519\, 2916 Kawartha Lakes Rd 48\, Coboconk\, Ontario\, K0M 1K0\, Canada
CATEGORIES:SAGES
END:VEVENT
BEGIN:VEVENT
DTSTART;TZID=America/Toronto:20221108T093000
DTEND;TZID=America/Toronto:20221108T103000
DTSTAMP:20260423T143301
CREATED:20221028T204726Z
LAST-MODIFIED:20230324T130340Z
UID:10001204-1667899800-1667903400@ccckl.ca
SUMMARY:Manilla SAGES
DESCRIPTION:Join us every Tuesday at 9:30 am at the Manilla Library for Gentle Exercise for Seniors. \n\n\n\nCost: $3 per session\, registration not required. First session is free! \n\n\n\nFor more information call 705-324-7323 ext. 165 or email wellness@ccckl.ca
URL:https://ccckl.ca/events/manilla-sages/2022-11-08/
LOCATION:Manilla Library\, 17025 Simcoe St.\, Manilla\, K0M 2J0\, Canada
CATEGORIES:SAGES
END:VEVENT
BEGIN:VEVENT
DTSTART;TZID=America/Toronto:20221107T100000
DTEND;TZID=America/Toronto:20221107T110000
DTSTAMP:20260423T143301
CREATED:20221028T195444Z
LAST-MODIFIED:20230324T162814Z
UID:10001069-1667815200-1667818800@ccckl.ca
SUMMARY:Bobcaygeon SAGES
DESCRIPTION:Join us every Monday and Thursday at 10:00 am at the Bobcaygeon Senior Centre for Gentle Exercise for Seniors. \n\n\n\nCost: $3 per session. \n\n\n\nFor more information call 705-324-7323 ext. 165 or email wellness@ccckl.ca
URL:https://ccckl.ca/events/bobcaygeon-sages/2022-11-07/
LOCATION:Bobcaygeon Senior Centre\, 100 Head Street\, Bobcaygeon\, Canada
CATEGORIES:SAGES
END:VEVENT
BEGIN:VEVENT
DTSTART;TZID=America/Toronto:20221107T100000
DTEND;TZID=America/Toronto:20221107T110000
DTSTAMP:20260423T143301
CREATED:20220610T154331Z
LAST-MODIFIED:20230324T130903Z
UID:10000985-1667815200-1667818800@ccckl.ca
SUMMARY:Fenelon Falls SAGES
DESCRIPTION:Join us every Monday and Wednesday (excluding holidays) at 10:00 am at the Senior Citizens Club of Fenelon Falls for Gentle Exercise for Seniors. \n\n\n\nCost: $3 per session\, registration not required. First session is free! \n\n\n\nFor more information call 705-324-7323 ext. 165 or email wellness@ccckl.ca
URL:https://ccckl.ca/events/sages-program/2022-11-07/
LOCATION:Senior Citizens Club Of Fenelon Falls\, 58 Murray Street\, Fenelon Falls\, Ontario\, K0M 1N0\, Canada
CATEGORIES:SAGES
END:VEVENT
BEGIN:VEVENT
DTSTART;TZID=America/Toronto:20221103T100000
DTEND;TZID=America/Toronto:20221103T110000
DTSTAMP:20260423T143301
CREATED:20221028T195444Z
LAST-MODIFIED:20230324T162814Z
UID:10001068-1667469600-1667473200@ccckl.ca
SUMMARY:Bobcaygeon SAGES
DESCRIPTION:Join us every Monday and Thursday at 10:00 am at the Bobcaygeon Senior Centre for Gentle Exercise for Seniors. \n\n\n\nCost: $3 per session. \n\n\n\nFor more information call 705-324-7323 ext. 165 or email wellness@ccckl.ca
URL:https://ccckl.ca/events/bobcaygeon-sages/2022-11-03/
LOCATION:Bobcaygeon Senior Centre\, 100 Head Street\, Bobcaygeon\, Canada
CATEGORIES:SAGES
END:VEVENT
BEGIN:VEVENT
DTSTART;TZID=America/Toronto:20221103T093000
DTEND;TZID=America/Toronto:20221103T103000
DTSTAMP:20260423T143301
CREATED:20221028T203411Z
LAST-MODIFIED:20230324T130558Z
UID:10001155-1667467800-1667471400@ccckl.ca
SUMMARY:Kirkfield SAGES
DESCRIPTION:Join us every Thursday at 9:30 am at the Kirkfield and District Lions Club for Gentle Exercise for Seniors. \n\n\n\nCost: $3 per session\, registration not required. First session is free! \n\n\n\nFor more information call 705-324-7323 ext. 165 or email wellness@ccckl.ca
URL:https://ccckl.ca/events/kirkfield-sages/2022-11-03/
LOCATION:Kirkfield & District Lions Club\, 973 Portage Rd\, Kirkfield\, Ontario\, K0M 2B0\, Canada
CATEGORIES:SAGES
END:VEVENT
BEGIN:VEVENT
DTSTART;TZID=America/Toronto:20221101T100000
DTEND;TZID=America/Toronto:20221101T110000
DTSTAMP:20260423T143301
CREATED:20221028T202425Z
LAST-MODIFIED:20221028T202649Z
UID:10001128-1667296800-1667300400@ccckl.ca
SUMMARY:Coboconk SAGES
DESCRIPTION:
URL:https://ccckl.ca/events/coboconk-sages/2022-11-01/
LOCATION:Royal Canadian Legion\, Branch 519\, 2916 Kawartha Lakes Rd 48\, Coboconk\, Ontario\, K0M 1K0\, Canada
CATEGORIES:SAGES
END:VEVENT
END:VCALENDAR