BEGIN:VCALENDAR
VERSION:2.0
PRODID:-//Community Care City of Kawartha Lakes - ECPv6.15.13//NONSGML v1.0//EN
CALSCALE:GREGORIAN
METHOD:PUBLISH
X-ORIGINAL-URL:https://ccckl.ca
X-WR-CALDESC:Events for Community Care City of Kawartha Lakes
REFRESH-INTERVAL;VALUE=DURATION:PT1H
X-Robots-Tag:noindex
X-PUBLISHED-TTL:PT1H
BEGIN:VTIMEZONE
TZID:America/Toronto
BEGIN:DAYLIGHT
TZOFFSETFROM:-0500
TZOFFSETTO:-0400
TZNAME:EDT
DTSTART:20240310T070000
END:DAYLIGHT
BEGIN:STANDARD
TZOFFSETFROM:-0400
TZOFFSETTO:-0500
TZNAME:EST
DTSTART:20241103T060000
END:STANDARD
BEGIN:DAYLIGHT
TZOFFSETFROM:-0500
TZOFFSETTO:-0400
TZNAME:EDT
DTSTART:20250309T070000
END:DAYLIGHT
BEGIN:STANDARD
TZOFFSETFROM:-0400
TZOFFSETTO:-0500
TZNAME:EST
DTSTART:20251102T060000
END:STANDARD
BEGIN:DAYLIGHT
TZOFFSETFROM:-0500
TZOFFSETTO:-0400
TZNAME:EDT
DTSTART:20260308T070000
END:DAYLIGHT
BEGIN:STANDARD
TZOFFSETFROM:-0400
TZOFFSETTO:-0500
TZNAME:EST
DTSTART:20261101T060000
END:STANDARD
END:VTIMEZONE
BEGIN:VEVENT
DTSTART;TZID=America/Toronto:20250909T120000
DTEND;TZID=America/Toronto:20250909T140000
DTSTAMP:20260420T205340
CREATED:20240904T135216Z
LAST-MODIFIED:20250630T152344Z
UID:10003880-1757419200-1757426400@ccckl.ca
SUMMARY:Diners Club (Fenelon Falls)
DESCRIPTION:Join us for some great food in good company! \n\n\n\nPre-registration is required and doors open at noon. Please call us at 705-324-7323 ext. 654 to reserve your spot!
URL:https://ccckl.ca/events/diners-club-fenelon-falls/2025-09-09/
LOCATION:70 Murray St\, 70 Murray St\, Fenelon Falls\, Ontario\, K0M 1N0\, Canada
CATEGORIES:Diner's Club
END:VEVENT
BEGIN:VEVENT
DTSTART;TZID=America/Toronto:20250908T093000
DTEND;TZID=America/Toronto:20250908T103000
DTSTAMP:20260420T205340
CREATED:20230810T154613Z
LAST-MODIFIED:20240421T115621Z
UID:10001805-1757323800-1757327400@ccckl.ca
SUMMARY:Burnt River SAGES
DESCRIPTION:Join us every Monday and Friday (except holidays) at 9:30 am at the Burnt River Community Centre for Gentle Exercise for Seniors. \n\n\n\nCost: $3 per session\, registration not required. First session is free! \n\n\n\nFor more information call 705-324-7323 ext. 165 or email wellness@ccckl.ca
URL:https://ccckl.ca/events/burnt-river-sages/2025-09-08/
LOCATION:Burnt River Somerville Centre\, 16 Somerville Centre Rd\, Burnt River\, Ontario\, K0M1C0\, Canada
CATEGORIES:SAGES
ATTACH;FMTTYPE=image/jpeg:https://ccckl.ca/wp-content/uploads/2023/03/Sages-logo-RGB.jpg
END:VEVENT
BEGIN:VEVENT
DTSTART;TZID=America/Toronto:20250905T093000
DTEND;TZID=America/Toronto:20250905T103000
DTSTAMP:20260420T205340
CREATED:20230810T154613Z
LAST-MODIFIED:20240421T115621Z
UID:10001804-1757064600-1757068200@ccckl.ca
SUMMARY:Burnt River SAGES
DESCRIPTION:Join us every Monday and Friday (except holidays) at 9:30 am at the Burnt River Community Centre for Gentle Exercise for Seniors. \n\n\n\nCost: $3 per session\, registration not required. First session is free! \n\n\n\nFor more information call 705-324-7323 ext. 165 or email wellness@ccckl.ca
URL:https://ccckl.ca/events/burnt-river-sages/2025-09-05/
LOCATION:Burnt River Somerville Centre\, 16 Somerville Centre Rd\, Burnt River\, Ontario\, K0M1C0\, Canada
CATEGORIES:SAGES
ATTACH;FMTTYPE=image/jpeg:https://ccckl.ca/wp-content/uploads/2023/03/Sages-logo-RGB.jpg
END:VEVENT
BEGIN:VEVENT
DTSTART;TZID=America/Toronto:20250904T120000
DTEND;TZID=America/Toronto:20250904T140000
DTSTAMP:20260420T205340
CREATED:20230810T133725Z
LAST-MODIFIED:20250630T152430Z
UID:10001279-1756987200-1756994400@ccckl.ca
SUMMARY:Diners Club (Bethany)
DESCRIPTION:Join us for some great food in good company! \n\n\n\nPre-registration is required and doors open at noon. Please call us at 705-324-7323 ext. 654 to reserve your spot!
URL:https://ccckl.ca/events/diners-club-bethany/2025-09-04/
LOCATION:Bethany United Church\, 3 George St\, Bethany\, Ontario\, L0A 1A0\, Canada
CATEGORIES:Diner's Club
END:VEVENT
BEGIN:VEVENT
DTSTART;TZID=America/Toronto:20250902T120000
DTEND;TZID=America/Toronto:20250902T140000
DTSTAMP:20260420T205340
CREATED:20221026T143705Z
LAST-MODIFIED:20250630T152535Z
UID:10001496-1756814400-1756821600@ccckl.ca
SUMMARY:Diners Club (Lindsay)
DESCRIPTION:Join us for some great food in good company! \n\n\n\nPre-registration is required and doors open at noon. Please call us at 705-324-7323 ext. 654 to reserve your spot!
URL:https://ccckl.ca/events/diners-club-11/2025-09-02/
LOCATION:65 Melbourne St W\, 65 Melbourne St W\, Lindsay\, Ontario\, K9V 0G4\, Canada
CATEGORIES:Diner's Club
END:VEVENT
BEGIN:VEVENT
DTSTART;TZID=America/Toronto:20250901T093000
DTEND;TZID=America/Toronto:20250901T103000
DTSTAMP:20260420T205340
CREATED:20230810T154613Z
LAST-MODIFIED:20240421T115621Z
UID:10001803-1756719000-1756722600@ccckl.ca
SUMMARY:Burnt River SAGES
DESCRIPTION:Join us every Monday and Friday (except holidays) at 9:30 am at the Burnt River Community Centre for Gentle Exercise for Seniors. \n\n\n\nCost: $3 per session\, registration not required. First session is free! \n\n\n\nFor more information call 705-324-7323 ext. 165 or email wellness@ccckl.ca
URL:https://ccckl.ca/events/burnt-river-sages/2025-09-01/
LOCATION:Burnt River Somerville Centre\, 16 Somerville Centre Rd\, Burnt River\, Ontario\, K0M1C0\, Canada
CATEGORIES:SAGES
ATTACH;FMTTYPE=image/jpeg:https://ccckl.ca/wp-content/uploads/2023/03/Sages-logo-RGB.jpg
END:VEVENT
BEGIN:VEVENT
DTSTART;TZID=America/Toronto:20250829T100000
DTEND;TZID=America/Toronto:20250829T140000
DTSTAMP:20260420T205340
CREATED:20250820T175217Z
LAST-MODIFIED:20250821T194632Z
UID:10004224-1756461600-1756476000@ccckl.ca
SUMMARY:International Overdose Awareness Day 2025
DESCRIPTION:Join us as we gather in our community to honour the lives lost to accidental drug poisoning\, support loved ones who grieve\, and raise awareness around the impact of overdose. \n\n\n\n📍 Main Event at Old Mill Park\n\n\n\nFriday\, August 29 | 10:00 AM – 2:00 PMOld Mill Park\, Lindsay \n\n\n\nOur main gathering will include a memorial vase ceremony\, where community members are invited to write the name of a loved one on a rock and place it in the vase. Hospice will host a table with resources on grief support\, and music will be shared throughout the day: \n\n\n\n\n10:00 AM – Opening welcome\, moment of silence\, and live music with volunteer Charlie Bellerby\n\n\n\n12:00 PM – Midday music by Ryan Burton\n\n\n\n1:00 PM – Performance by Supportive Care Counsellor Brian Farmer\n\n\n\n\n📍 Proclamation & Flag Ceremony\n\n\n\nFriday\, August 29 | 1:00 PMKawartha Lakes City Hall \n\n\n\nA formal proclamation will be read and flags will be lowered in recognition of International Overdose Awareness Day. Kawartha Lakes Police Service will also lower their flags from dawn until dusk. \n\n\n\n📍 Community Reading\n\n\n\nSaturday\, August 30 | 10:30 AMLindsay–Kawartha Lakes Public Library \n\n\n\nFamilies are invited to a reading of The Invisible String\, a story that helps children and adults alike explore love\, loss\, and connection.
URL:https://ccckl.ca/events/ioad2025/
LOCATION:Old Mill Park\, 16 Kent Street E\, Lindsay\, Ontario\, K9V 2C1\, Canada
CATEGORIES:Community Event
ATTACH;FMTTYPE=image/png:https://ccckl.ca/wp-content/uploads/2025/08/IOAD-2025-Featured-Photo.png
END:VEVENT
BEGIN:VEVENT
DTSTART;TZID=America/Toronto:20250829T093000
DTEND;TZID=America/Toronto:20250829T103000
DTSTAMP:20260420T205340
CREATED:20230810T154613Z
LAST-MODIFIED:20240421T115621Z
UID:10001802-1756459800-1756463400@ccckl.ca
SUMMARY:Burnt River SAGES
DESCRIPTION:Join us every Monday and Friday (except holidays) at 9:30 am at the Burnt River Community Centre for Gentle Exercise for Seniors. \n\n\n\nCost: $3 per session\, registration not required. First session is free! \n\n\n\nFor more information call 705-324-7323 ext. 165 or email wellness@ccckl.ca
URL:https://ccckl.ca/events/burnt-river-sages/2025-08-29/
LOCATION:Burnt River Somerville Centre\, 16 Somerville Centre Rd\, Burnt River\, Ontario\, K0M1C0\, Canada
CATEGORIES:SAGES
ATTACH;FMTTYPE=image/jpeg:https://ccckl.ca/wp-content/uploads/2023/03/Sages-logo-RGB.jpg
END:VEVENT
BEGIN:VEVENT
DTSTART;TZID=America/Toronto:20250828T120000
DTEND;TZID=America/Toronto:20250828T140000
DTSTAMP:20260420T205340
CREATED:20230810T134223Z
LAST-MODIFIED:20250630T152407Z
UID:10001556-1756382400-1756389600@ccckl.ca
SUMMARY:Diners Club (Coboconk)
DESCRIPTION:Join us for some great food in good company! \n\n\n\nPre-registration is required and doors open at noon. Please call us at 705-324-7323 ext. 654 to reserve your spot!
URL:https://ccckl.ca/events/diners-club-coboconk/2025-08-28/
LOCATION:Coboconk Service Centre\, 9 Grandy Rd\, Coboconk\, Ontario\, Canada
CATEGORIES:Diner's Club
END:VEVENT
BEGIN:VEVENT
DTSTART;TZID=America/Toronto:20250826T120000
DTEND;TZID=America/Toronto:20250826T140000
DTSTAMP:20260420T205340
CREATED:20221205T164816Z
LAST-MODIFIED:20250630T152521Z
UID:10001333-1756209600-1756216800@ccckl.ca
SUMMARY:Diners Club (Fenelon Falls)
DESCRIPTION:Join us for some great food in good company! \n\n\n\nPre-registration is required and doors open at noon. Please call us at 705-324-7323 ext. 654 to reserve your spot!
URL:https://ccckl.ca/events/diners-club-fenelon-falls-2/2025-08-26/
LOCATION:70 Murray St\, 70 Murray St\, Fenelon Falls\, Ontario\, K0M 1N0\, Canada
CATEGORIES:Diner's Club
END:VEVENT
BEGIN:VEVENT
DTSTART;TZID=America/Toronto:20250825T093000
DTEND;TZID=America/Toronto:20250825T103000
DTSTAMP:20260420T205340
CREATED:20230810T154613Z
LAST-MODIFIED:20240421T115621Z
UID:10001801-1756114200-1756117800@ccckl.ca
SUMMARY:Burnt River SAGES
DESCRIPTION:Join us every Monday and Friday (except holidays) at 9:30 am at the Burnt River Community Centre for Gentle Exercise for Seniors. \n\n\n\nCost: $3 per session\, registration not required. First session is free! \n\n\n\nFor more information call 705-324-7323 ext. 165 or email wellness@ccckl.ca
URL:https://ccckl.ca/events/burnt-river-sages/2025-08-25/
LOCATION:Burnt River Somerville Centre\, 16 Somerville Centre Rd\, Burnt River\, Ontario\, K0M1C0\, Canada
CATEGORIES:SAGES
ATTACH;FMTTYPE=image/jpeg:https://ccckl.ca/wp-content/uploads/2023/03/Sages-logo-RGB.jpg
END:VEVENT
BEGIN:VEVENT
DTSTART;TZID=America/Toronto:20250822T093000
DTEND;TZID=America/Toronto:20250822T103000
DTSTAMP:20260420T205340
CREATED:20230810T154613Z
LAST-MODIFIED:20240421T115621Z
UID:10001800-1755855000-1755858600@ccckl.ca
SUMMARY:Burnt River SAGES
DESCRIPTION:Join us every Monday and Friday (except holidays) at 9:30 am at the Burnt River Community Centre for Gentle Exercise for Seniors. \n\n\n\nCost: $3 per session\, registration not required. First session is free! \n\n\n\nFor more information call 705-324-7323 ext. 165 or email wellness@ccckl.ca
URL:https://ccckl.ca/events/burnt-river-sages/2025-08-22/
LOCATION:Burnt River Somerville Centre\, 16 Somerville Centre Rd\, Burnt River\, Ontario\, K0M1C0\, Canada
CATEGORIES:SAGES
ATTACH;FMTTYPE=image/jpeg:https://ccckl.ca/wp-content/uploads/2023/03/Sages-logo-RGB.jpg
END:VEVENT
BEGIN:VEVENT
DTSTART;TZID=America/Toronto:20250821T120000
DTEND;TZID=America/Toronto:20250821T140000
DTSTAMP:20260420T205340
CREATED:20221205T171748Z
LAST-MODIFIED:20250630T152445Z
UID:10001441-1755777600-1755784800@ccckl.ca
SUMMARY:Diners Club (Burnt River)
DESCRIPTION:Join us for some great food in good company! \n\n\n\nPre-registration is required and doors open at noon. Please call us at 705-324-7323 ext. 654 to reserve your spot!
URL:https://ccckl.ca/events/diners-club-burnt-river/2025-08-21/
LOCATION:Burnt River Somerville Centre\, 16 Somerville Centre Rd\, Burnt River\, Ontario\, K0M1C0\, Canada
CATEGORIES:Diner's Club
END:VEVENT
BEGIN:VEVENT
DTSTART;TZID=America/Toronto:20250819T133000
DTEND;TZID=America/Toronto:20250819T163000
DTSTAMP:20260420T205340
CREATED:20231130T200248Z
LAST-MODIFIED:20231130T200628Z
UID:10003173-1755610200-1755621000@ccckl.ca
SUMMARY:Good Food Box
DESCRIPTION:No garden? No problem! The Good Food Box program brings accessible\, affordable\, fresh and healthy food to the City of Kawartha Lakes. Anyone can purchase a Good Food Box\, with the season’s finest fresh fruits and vegetables from as many local growers as possible. \n\n\n\nA large box costs $20 and comes with healthy recipe ideas. \n\n\n\nCustomers pre-register by the second Tuesday of the month. \n\n\n\nPick up on the third Tuesday of the month at the Community Health Centre (21 Angeline St. Lindsay) between 1:30 and 4:30 p.m. \n\n\n\nTo register\, or for more information\, contact us at 705-324-7323 ext 165 or gfb@ccckl.ca.
URL:https://ccckl.ca/events/good-food-box-3/2025-08-19/
LOCATION:Ontario
END:VEVENT
BEGIN:VEVENT
DTSTART;TZID=America/Toronto:20250819T120000
DTEND;TZID=America/Toronto:20250819T140000
DTSTAMP:20260420T205340
CREATED:20221205T170845Z
LAST-MODIFIED:20250630T152507Z
UID:10001387-1755604800-1755612000@ccckl.ca
SUMMARY:Diners Club (Lindsay)
DESCRIPTION:Join us for some great food in good company! \n\n\n\nPre-registration is required and doors open at noon. Please call us at 705-324-7323 ext. 654 to reserve your spot!
URL:https://ccckl.ca/events/diners-club-lindsay/2025-08-19/
LOCATION:65 Melbourne St W\, 65 Melbourne St W\, Lindsay\, Ontario\, K9V 0G4\, Canada
CATEGORIES:Diner's Club
END:VEVENT
BEGIN:VEVENT
DTSTART;TZID=America/Toronto:20250818T093000
DTEND;TZID=America/Toronto:20250818T103000
DTSTAMP:20260420T205340
CREATED:20230810T154613Z
LAST-MODIFIED:20240421T115621Z
UID:10001799-1755509400-1755513000@ccckl.ca
SUMMARY:Burnt River SAGES
DESCRIPTION:Join us every Monday and Friday (except holidays) at 9:30 am at the Burnt River Community Centre for Gentle Exercise for Seniors. \n\n\n\nCost: $3 per session\, registration not required. First session is free! \n\n\n\nFor more information call 705-324-7323 ext. 165 or email wellness@ccckl.ca
URL:https://ccckl.ca/events/burnt-river-sages/2025-08-18/
LOCATION:Burnt River Somerville Centre\, 16 Somerville Centre Rd\, Burnt River\, Ontario\, K0M1C0\, Canada
CATEGORIES:SAGES
ATTACH;FMTTYPE=image/jpeg:https://ccckl.ca/wp-content/uploads/2023/03/Sages-logo-RGB.jpg
END:VEVENT
BEGIN:VEVENT
DTSTART;TZID=America/Toronto:20250815T093000
DTEND;TZID=America/Toronto:20250815T103000
DTSTAMP:20260420T205340
CREATED:20230810T154613Z
LAST-MODIFIED:20240421T115621Z
UID:10001798-1755250200-1755253800@ccckl.ca
SUMMARY:Burnt River SAGES
DESCRIPTION:Join us every Monday and Friday (except holidays) at 9:30 am at the Burnt River Community Centre for Gentle Exercise for Seniors. \n\n\n\nCost: $3 per session\, registration not required. First session is free! \n\n\n\nFor more information call 705-324-7323 ext. 165 or email wellness@ccckl.ca
URL:https://ccckl.ca/events/burnt-river-sages/2025-08-15/
LOCATION:Burnt River Somerville Centre\, 16 Somerville Centre Rd\, Burnt River\, Ontario\, K0M1C0\, Canada
CATEGORIES:SAGES
ATTACH;FMTTYPE=image/jpeg:https://ccckl.ca/wp-content/uploads/2023/03/Sages-logo-RGB.jpg
END:VEVENT
BEGIN:VEVENT
DTSTART;TZID=America/Toronto:20250814T120000
DTEND;TZID=America/Toronto:20250814T140000
DTSTAMP:20260420T205340
CREATED:20250630T152232Z
LAST-MODIFIED:20250630T152234Z
UID:10004028-1755172800-1755180000@ccckl.ca
SUMMARY:Diners Club (Bobcaygeon)
DESCRIPTION:Join us for some great food in good company! \n\n\n\nPre-registration is required and doors open at noon. Please call us at 705-324-7323 ext. 654 to reserve your spot!
URL:https://ccckl.ca/events/diners-club-bobcaygeon-2/2025-08-14/
LOCATION:Trinity United Church\, 44 William St\, Bobcaygeon\, Ontario\, K0M 1A0\, Canada
CATEGORIES:Diner's Club
END:VEVENT
BEGIN:VEVENT
DTSTART;TZID=America/Toronto:20250812T120000
DTEND;TZID=America/Toronto:20250812T140000
DTSTAMP:20260420T205340
CREATED:20240904T135216Z
LAST-MODIFIED:20250630T152344Z
UID:10003879-1755000000-1755007200@ccckl.ca
SUMMARY:Diners Club (Fenelon Falls)
DESCRIPTION:Join us for some great food in good company! \n\n\n\nPre-registration is required and doors open at noon. Please call us at 705-324-7323 ext. 654 to reserve your spot!
URL:https://ccckl.ca/events/diners-club-fenelon-falls/2025-08-12/
LOCATION:70 Murray St\, 70 Murray St\, Fenelon Falls\, Ontario\, K0M 1N0\, Canada
CATEGORIES:Diner's Club
END:VEVENT
BEGIN:VEVENT
DTSTART;TZID=America/Toronto:20250811T093000
DTEND;TZID=America/Toronto:20250811T103000
DTSTAMP:20260420T205340
CREATED:20230810T154613Z
LAST-MODIFIED:20240421T115621Z
UID:10001797-1754904600-1754908200@ccckl.ca
SUMMARY:Burnt River SAGES
DESCRIPTION:Join us every Monday and Friday (except holidays) at 9:30 am at the Burnt River Community Centre for Gentle Exercise for Seniors. \n\n\n\nCost: $3 per session\, registration not required. First session is free! \n\n\n\nFor more information call 705-324-7323 ext. 165 or email wellness@ccckl.ca
URL:https://ccckl.ca/events/burnt-river-sages/2025-08-11/
LOCATION:Burnt River Somerville Centre\, 16 Somerville Centre Rd\, Burnt River\, Ontario\, K0M1C0\, Canada
CATEGORIES:SAGES
ATTACH;FMTTYPE=image/jpeg:https://ccckl.ca/wp-content/uploads/2023/03/Sages-logo-RGB.jpg
END:VEVENT
BEGIN:VEVENT
DTSTART;TZID=America/Toronto:20250808T093000
DTEND;TZID=America/Toronto:20250808T103000
DTSTAMP:20260420T205340
CREATED:20230810T154613Z
LAST-MODIFIED:20240421T115621Z
UID:10001796-1754645400-1754649000@ccckl.ca
SUMMARY:Burnt River SAGES
DESCRIPTION:Join us every Monday and Friday (except holidays) at 9:30 am at the Burnt River Community Centre for Gentle Exercise for Seniors. \n\n\n\nCost: $3 per session\, registration not required. First session is free! \n\n\n\nFor more information call 705-324-7323 ext. 165 or email wellness@ccckl.ca
URL:https://ccckl.ca/events/burnt-river-sages/2025-08-08/
LOCATION:Burnt River Somerville Centre\, 16 Somerville Centre Rd\, Burnt River\, Ontario\, K0M1C0\, Canada
CATEGORIES:SAGES
ATTACH;FMTTYPE=image/jpeg:https://ccckl.ca/wp-content/uploads/2023/03/Sages-logo-RGB.jpg
END:VEVENT
BEGIN:VEVENT
DTSTART;TZID=America/Toronto:20250807T120000
DTEND;TZID=America/Toronto:20250807T140000
DTSTAMP:20260420T205340
CREATED:20230810T133725Z
LAST-MODIFIED:20250630T152430Z
UID:10001278-1754568000-1754575200@ccckl.ca
SUMMARY:Diners Club (Bethany)
DESCRIPTION:Join us for some great food in good company! \n\n\n\nPre-registration is required and doors open at noon. Please call us at 705-324-7323 ext. 654 to reserve your spot!
URL:https://ccckl.ca/events/diners-club-bethany/2025-08-07/
LOCATION:Bethany United Church\, 3 George St\, Bethany\, Ontario\, L0A 1A0\, Canada
CATEGORIES:Diner's Club
END:VEVENT
BEGIN:VEVENT
DTSTART;TZID=America/Toronto:20250805T120000
DTEND;TZID=America/Toronto:20250805T140000
DTSTAMP:20260420T205340
CREATED:20221026T143705Z
LAST-MODIFIED:20250630T152535Z
UID:10001495-1754395200-1754402400@ccckl.ca
SUMMARY:Diners Club (Lindsay)
DESCRIPTION:Join us for some great food in good company! \n\n\n\nPre-registration is required and doors open at noon. Please call us at 705-324-7323 ext. 654 to reserve your spot!
URL:https://ccckl.ca/events/diners-club-11/2025-08-05/
LOCATION:65 Melbourne St W\, 65 Melbourne St W\, Lindsay\, Ontario\, K9V 0G4\, Canada
CATEGORIES:Diner's Club
END:VEVENT
BEGIN:VEVENT
DTSTART;TZID=America/Toronto:20250804T093000
DTEND;TZID=America/Toronto:20250804T103000
DTSTAMP:20260420T205340
CREATED:20230810T154613Z
LAST-MODIFIED:20240421T115621Z
UID:10001795-1754299800-1754303400@ccckl.ca
SUMMARY:Burnt River SAGES
DESCRIPTION:Join us every Monday and Friday (except holidays) at 9:30 am at the Burnt River Community Centre for Gentle Exercise for Seniors. \n\n\n\nCost: $3 per session\, registration not required. First session is free! \n\n\n\nFor more information call 705-324-7323 ext. 165 or email wellness@ccckl.ca
URL:https://ccckl.ca/events/burnt-river-sages/2025-08-04/
LOCATION:Burnt River Somerville Centre\, 16 Somerville Centre Rd\, Burnt River\, Ontario\, K0M1C0\, Canada
CATEGORIES:SAGES
ATTACH;FMTTYPE=image/jpeg:https://ccckl.ca/wp-content/uploads/2023/03/Sages-logo-RGB.jpg
END:VEVENT
BEGIN:VEVENT
DTSTART;TZID=America/Toronto:20250801T093000
DTEND;TZID=America/Toronto:20250801T103000
DTSTAMP:20260420T205340
CREATED:20230810T154613Z
LAST-MODIFIED:20240421T115621Z
UID:10001794-1754040600-1754044200@ccckl.ca
SUMMARY:Burnt River SAGES
DESCRIPTION:Join us every Monday and Friday (except holidays) at 9:30 am at the Burnt River Community Centre for Gentle Exercise for Seniors. \n\n\n\nCost: $3 per session\, registration not required. First session is free! \n\n\n\nFor more information call 705-324-7323 ext. 165 or email wellness@ccckl.ca
URL:https://ccckl.ca/events/burnt-river-sages/2025-08-01/
LOCATION:Burnt River Somerville Centre\, 16 Somerville Centre Rd\, Burnt River\, Ontario\, K0M1C0\, Canada
CATEGORIES:SAGES
ATTACH;FMTTYPE=image/jpeg:https://ccckl.ca/wp-content/uploads/2023/03/Sages-logo-RGB.jpg
END:VEVENT
BEGIN:VEVENT
DTSTART;TZID=America/Toronto:20250728T093000
DTEND;TZID=America/Toronto:20250728T103000
DTSTAMP:20260420T205340
CREATED:20230810T154613Z
LAST-MODIFIED:20240421T115621Z
UID:10001793-1753695000-1753698600@ccckl.ca
SUMMARY:Burnt River SAGES
DESCRIPTION:Join us every Monday and Friday (except holidays) at 9:30 am at the Burnt River Community Centre for Gentle Exercise for Seniors. \n\n\n\nCost: $3 per session\, registration not required. First session is free! \n\n\n\nFor more information call 705-324-7323 ext. 165 or email wellness@ccckl.ca
URL:https://ccckl.ca/events/burnt-river-sages/2025-07-28/
LOCATION:Burnt River Somerville Centre\, 16 Somerville Centre Rd\, Burnt River\, Ontario\, K0M1C0\, Canada
CATEGORIES:SAGES
ATTACH;FMTTYPE=image/jpeg:https://ccckl.ca/wp-content/uploads/2023/03/Sages-logo-RGB.jpg
END:VEVENT
BEGIN:VEVENT
DTSTART;TZID=America/Toronto:20250725T093000
DTEND;TZID=America/Toronto:20250725T103000
DTSTAMP:20260420T205340
CREATED:20230810T154613Z
LAST-MODIFIED:20240421T115621Z
UID:10001792-1753435800-1753439400@ccckl.ca
SUMMARY:Burnt River SAGES
DESCRIPTION:Join us every Monday and Friday (except holidays) at 9:30 am at the Burnt River Community Centre for Gentle Exercise for Seniors. \n\n\n\nCost: $3 per session\, registration not required. First session is free! \n\n\n\nFor more information call 705-324-7323 ext. 165 or email wellness@ccckl.ca
URL:https://ccckl.ca/events/burnt-river-sages/2025-07-25/
LOCATION:Burnt River Somerville Centre\, 16 Somerville Centre Rd\, Burnt River\, Ontario\, K0M1C0\, Canada
CATEGORIES:SAGES
ATTACH;FMTTYPE=image/jpeg:https://ccckl.ca/wp-content/uploads/2023/03/Sages-logo-RGB.jpg
END:VEVENT
BEGIN:VEVENT
DTSTART;TZID=America/Toronto:20250724T120000
DTEND;TZID=America/Toronto:20250724T140000
DTSTAMP:20260420T205340
CREATED:20230810T134223Z
LAST-MODIFIED:20250630T152407Z
UID:10001555-1753358400-1753365600@ccckl.ca
SUMMARY:Diners Club (Coboconk)
DESCRIPTION:Join us for some great food in good company! \n\n\n\nPre-registration is required and doors open at noon. Please call us at 705-324-7323 ext. 654 to reserve your spot!
URL:https://ccckl.ca/events/diners-club-coboconk/2025-07-24/
LOCATION:Coboconk Service Centre\, 9 Grandy Rd\, Coboconk\, Ontario\, Canada
CATEGORIES:Diner's Club
END:VEVENT
BEGIN:VEVENT
DTSTART;TZID=America/Toronto:20250722T120000
DTEND;TZID=America/Toronto:20250722T140000
DTSTAMP:20260420T205340
CREATED:20221205T164816Z
LAST-MODIFIED:20250630T152521Z
UID:10001332-1753185600-1753192800@ccckl.ca
SUMMARY:Diners Club (Fenelon Falls)
DESCRIPTION:Join us for some great food in good company! \n\n\n\nPre-registration is required and doors open at noon. Please call us at 705-324-7323 ext. 654 to reserve your spot!
URL:https://ccckl.ca/events/diners-club-fenelon-falls-2/2025-07-22/
LOCATION:70 Murray St\, 70 Murray St\, Fenelon Falls\, Ontario\, K0M 1N0\, Canada
CATEGORIES:Diner's Club
END:VEVENT
BEGIN:VEVENT
DTSTART;TZID=America/Toronto:20250721T093000
DTEND;TZID=America/Toronto:20250721T103000
DTSTAMP:20260420T205340
CREATED:20230810T154613Z
LAST-MODIFIED:20240421T115621Z
UID:10001791-1753090200-1753093800@ccckl.ca
SUMMARY:Burnt River SAGES
DESCRIPTION:Join us every Monday and Friday (except holidays) at 9:30 am at the Burnt River Community Centre for Gentle Exercise for Seniors. \n\n\n\nCost: $3 per session\, registration not required. First session is free! \n\n\n\nFor more information call 705-324-7323 ext. 165 or email wellness@ccckl.ca
URL:https://ccckl.ca/events/burnt-river-sages/2025-07-21/
LOCATION:Burnt River Somerville Centre\, 16 Somerville Centre Rd\, Burnt River\, Ontario\, K0M1C0\, Canada
CATEGORIES:SAGES
ATTACH;FMTTYPE=image/jpeg:https://ccckl.ca/wp-content/uploads/2023/03/Sages-logo-RGB.jpg
END:VEVENT
END:VCALENDAR