BEGIN:VCALENDAR
VERSION:2.0
PRODID:-//Community Care City of Kawartha Lakes - ECPv6.15.13//NONSGML v1.0//EN
CALSCALE:GREGORIAN
METHOD:PUBLISH
X-WR-CALNAME:Community Care City of Kawartha Lakes
X-ORIGINAL-URL:https://ccckl.ca
X-WR-CALDESC:Events for Community Care City of Kawartha Lakes
REFRESH-INTERVAL;VALUE=DURATION:PT1H
X-Robots-Tag:noindex
X-PUBLISHED-TTL:PT1H
BEGIN:VTIMEZONE
TZID:America/Toronto
BEGIN:DAYLIGHT
TZOFFSETFROM:-0500
TZOFFSETTO:-0400
TZNAME:EDT
DTSTART:20240310T070000
END:DAYLIGHT
BEGIN:STANDARD
TZOFFSETFROM:-0400
TZOFFSETTO:-0500
TZNAME:EST
DTSTART:20241103T060000
END:STANDARD
BEGIN:DAYLIGHT
TZOFFSETFROM:-0500
TZOFFSETTO:-0400
TZNAME:EDT
DTSTART:20250309T070000
END:DAYLIGHT
BEGIN:STANDARD
TZOFFSETFROM:-0400
TZOFFSETTO:-0500
TZNAME:EST
DTSTART:20251102T060000
END:STANDARD
BEGIN:DAYLIGHT
TZOFFSETFROM:-0500
TZOFFSETTO:-0400
TZNAME:EDT
DTSTART:20260308T070000
END:DAYLIGHT
BEGIN:STANDARD
TZOFFSETFROM:-0400
TZOFFSETTO:-0500
TZNAME:EST
DTSTART:20261101T060000
END:STANDARD
END:VTIMEZONE
BEGIN:VEVENT
DTSTART;TZID=America/Toronto:20250710T120000
DTEND;TZID=America/Toronto:20250710T140000
DTSTAMP:20260421T020116
CREATED:20250630T152232Z
LAST-MODIFIED:20250630T152234Z
UID:10004027-1752148800-1752156000@ccckl.ca
SUMMARY:Diners Club (Bobcaygeon)
DESCRIPTION:Join us for some great food in good company! \n\n\n\nPre-registration is required and doors open at noon. Please call us at 705-324-7323 ext. 654 to reserve your spot!
URL:https://ccckl.ca/events/diners-club-bobcaygeon-2/2025-07-10/
LOCATION:Trinity United Church\, 44 William St\, Bobcaygeon\, Ontario\, K0M 1A0\, Canada
CATEGORIES:Diner's Club
END:VEVENT
BEGIN:VEVENT
DTSTART;TZID=America/Toronto:20250708T120000
DTEND;TZID=America/Toronto:20250708T140000
DTSTAMP:20260421T020116
CREATED:20240904T135216Z
LAST-MODIFIED:20250630T152344Z
UID:10003878-1751976000-1751983200@ccckl.ca
SUMMARY:Diners Club (Fenelon Falls)
DESCRIPTION:Join us for some great food in good company! \n\n\n\nPre-registration is required and doors open at noon. Please call us at 705-324-7323 ext. 654 to reserve your spot!
URL:https://ccckl.ca/events/diners-club-fenelon-falls/2025-07-08/
LOCATION:70 Murray St\, 70 Murray St\, Fenelon Falls\, Ontario\, K0M 1N0\, Canada
CATEGORIES:Diner's Club
END:VEVENT
BEGIN:VEVENT
DTSTART;TZID=America/Toronto:20250707T093000
DTEND;TZID=America/Toronto:20250707T103000
DTSTAMP:20260421T020116
CREATED:20230810T154613Z
LAST-MODIFIED:20240421T115621Z
UID:10001787-1751880600-1751884200@ccckl.ca
SUMMARY:Burnt River SAGES
DESCRIPTION:Join us every Monday and Friday (except holidays) at 9:30 am at the Burnt River Community Centre for Gentle Exercise for Seniors. \n\n\n\nCost: $3 per session\, registration not required. First session is free! \n\n\n\nFor more information call 705-324-7323 ext. 165 or email wellness@ccckl.ca
URL:https://ccckl.ca/events/burnt-river-sages/2025-07-07/
LOCATION:Burnt River Somerville Centre\, 16 Somerville Centre Rd\, Burnt River\, Ontario\, K0M1C0\, Canada
CATEGORIES:SAGES
ATTACH;FMTTYPE=image/jpeg:https://ccckl.ca/wp-content/uploads/2023/03/Sages-logo-RGB.jpg
END:VEVENT
BEGIN:VEVENT
DTSTART;TZID=America/Toronto:20250704T093000
DTEND;TZID=America/Toronto:20250704T103000
DTSTAMP:20260421T020116
CREATED:20230810T154613Z
LAST-MODIFIED:20240421T115621Z
UID:10001786-1751621400-1751625000@ccckl.ca
SUMMARY:Burnt River SAGES
DESCRIPTION:Join us every Monday and Friday (except holidays) at 9:30 am at the Burnt River Community Centre for Gentle Exercise for Seniors. \n\n\n\nCost: $3 per session\, registration not required. First session is free! \n\n\n\nFor more information call 705-324-7323 ext. 165 or email wellness@ccckl.ca
URL:https://ccckl.ca/events/burnt-river-sages/2025-07-04/
LOCATION:Burnt River Somerville Centre\, 16 Somerville Centre Rd\, Burnt River\, Ontario\, K0M1C0\, Canada
CATEGORIES:SAGES
ATTACH;FMTTYPE=image/jpeg:https://ccckl.ca/wp-content/uploads/2023/03/Sages-logo-RGB.jpg
END:VEVENT
BEGIN:VEVENT
DTSTART;TZID=America/Toronto:20250703T120000
DTEND;TZID=America/Toronto:20250703T140000
DTSTAMP:20260421T020116
CREATED:20230810T133725Z
LAST-MODIFIED:20250630T152430Z
UID:10001277-1751544000-1751551200@ccckl.ca
SUMMARY:Diners Club (Bethany)
DESCRIPTION:Join us for some great food in good company! \n\n\n\nPre-registration is required and doors open at noon. Please call us at 705-324-7323 ext. 654 to reserve your spot!
URL:https://ccckl.ca/events/diners-club-bethany/2025-07-03/
LOCATION:Bethany United Church\, 3 George St\, Bethany\, Ontario\, L0A 1A0\, Canada
CATEGORIES:Diner's Club
END:VEVENT
BEGIN:VEVENT
DTSTART;TZID=America/Toronto:20250701T120000
DTEND;TZID=America/Toronto:20250701T140000
DTSTAMP:20260421T020116
CREATED:20221026T143705Z
LAST-MODIFIED:20250630T152535Z
UID:10001494-1751371200-1751378400@ccckl.ca
SUMMARY:Diners Club (Lindsay)
DESCRIPTION:Join us for some great food in good company! \n\n\n\nPre-registration is required and doors open at noon. Please call us at 705-324-7323 ext. 654 to reserve your spot!
URL:https://ccckl.ca/events/diners-club-11/2025-07-01/
LOCATION:65 Melbourne St W\, 65 Melbourne St W\, Lindsay\, Ontario\, K9V 0G4\, Canada
CATEGORIES:Diner's Club
END:VEVENT
BEGIN:VEVENT
DTSTART;TZID=America/Toronto:20250630T093000
DTEND;TZID=America/Toronto:20250630T103000
DTSTAMP:20260421T020116
CREATED:20230810T154613Z
LAST-MODIFIED:20240421T115621Z
UID:10001785-1751275800-1751279400@ccckl.ca
SUMMARY:Burnt River SAGES
DESCRIPTION:Join us every Monday and Friday (except holidays) at 9:30 am at the Burnt River Community Centre for Gentle Exercise for Seniors. \n\n\n\nCost: $3 per session\, registration not required. First session is free! \n\n\n\nFor more information call 705-324-7323 ext. 165 or email wellness@ccckl.ca
URL:https://ccckl.ca/events/burnt-river-sages/2025-06-30/
LOCATION:Burnt River Somerville Centre\, 16 Somerville Centre Rd\, Burnt River\, Ontario\, K0M1C0\, Canada
CATEGORIES:SAGES
ATTACH;FMTTYPE=image/jpeg:https://ccckl.ca/wp-content/uploads/2023/03/Sages-logo-RGB.jpg
END:VEVENT
BEGIN:VEVENT
DTSTART;TZID=America/Toronto:20250627T093000
DTEND;TZID=America/Toronto:20250627T103000
DTSTAMP:20260421T020116
CREATED:20230810T154613Z
LAST-MODIFIED:20240421T115621Z
UID:10001784-1751016600-1751020200@ccckl.ca
SUMMARY:Burnt River SAGES
DESCRIPTION:Join us every Monday and Friday (except holidays) at 9:30 am at the Burnt River Community Centre for Gentle Exercise for Seniors. \n\n\n\nCost: $3 per session\, registration not required. First session is free! \n\n\n\nFor more information call 705-324-7323 ext. 165 or email wellness@ccckl.ca
URL:https://ccckl.ca/events/burnt-river-sages/2025-06-27/
LOCATION:Burnt River Somerville Centre\, 16 Somerville Centre Rd\, Burnt River\, Ontario\, K0M1C0\, Canada
CATEGORIES:SAGES
ATTACH;FMTTYPE=image/jpeg:https://ccckl.ca/wp-content/uploads/2023/03/Sages-logo-RGB.jpg
END:VEVENT
BEGIN:VEVENT
DTSTART;TZID=America/Toronto:20250626T120000
DTEND;TZID=America/Toronto:20250626T140000
DTSTAMP:20260421T020116
CREATED:20230810T134223Z
LAST-MODIFIED:20250630T152407Z
UID:10001554-1750939200-1750946400@ccckl.ca
SUMMARY:Diners Club (Coboconk)
DESCRIPTION:Join us for some great food in good company! \n\n\n\nPre-registration is required and doors open at noon. Please call us at 705-324-7323 ext. 654 to reserve your spot!
URL:https://ccckl.ca/events/diners-club-coboconk/2025-06-26/
LOCATION:Coboconk Service Centre\, 9 Grandy Rd\, Coboconk\, Ontario\, Canada
CATEGORIES:Diner's Club
END:VEVENT
BEGIN:VEVENT
DTSTART;TZID=America/Toronto:20250624T120000
DTEND;TZID=America/Toronto:20250624T140000
DTSTAMP:20260421T020116
CREATED:20221205T164816Z
LAST-MODIFIED:20250630T152521Z
UID:10001331-1750766400-1750773600@ccckl.ca
SUMMARY:Diners Club (Fenelon Falls)
DESCRIPTION:Join us for some great food in good company! \n\n\n\nPre-registration is required and doors open at noon. Please call us at 705-324-7323 ext. 654 to reserve your spot!
URL:https://ccckl.ca/events/diners-club-fenelon-falls-2/2025-06-24/
LOCATION:70 Murray St\, 70 Murray St\, Fenelon Falls\, Ontario\, K0M 1N0\, Canada
CATEGORIES:Diner's Club
END:VEVENT
BEGIN:VEVENT
DTSTART;TZID=America/Toronto:20250623T093000
DTEND;TZID=America/Toronto:20250623T103000
DTSTAMP:20260421T020116
CREATED:20230810T154613Z
LAST-MODIFIED:20240421T115621Z
UID:10001783-1750671000-1750674600@ccckl.ca
SUMMARY:Burnt River SAGES
DESCRIPTION:Join us every Monday and Friday (except holidays) at 9:30 am at the Burnt River Community Centre for Gentle Exercise for Seniors. \n\n\n\nCost: $3 per session\, registration not required. First session is free! \n\n\n\nFor more information call 705-324-7323 ext. 165 or email wellness@ccckl.ca
URL:https://ccckl.ca/events/burnt-river-sages/2025-06-23/
LOCATION:Burnt River Somerville Centre\, 16 Somerville Centre Rd\, Burnt River\, Ontario\, K0M1C0\, Canada
CATEGORIES:SAGES
ATTACH;FMTTYPE=image/jpeg:https://ccckl.ca/wp-content/uploads/2023/03/Sages-logo-RGB.jpg
END:VEVENT
BEGIN:VEVENT
DTSTART;TZID=America/Toronto:20250620T093000
DTEND;TZID=America/Toronto:20250620T103000
DTSTAMP:20260421T020116
CREATED:20230810T154613Z
LAST-MODIFIED:20240421T115621Z
UID:10001782-1750411800-1750415400@ccckl.ca
SUMMARY:Burnt River SAGES
DESCRIPTION:Join us every Monday and Friday (except holidays) at 9:30 am at the Burnt River Community Centre for Gentle Exercise for Seniors. \n\n\n\nCost: $3 per session\, registration not required. First session is free! \n\n\n\nFor more information call 705-324-7323 ext. 165 or email wellness@ccckl.ca
URL:https://ccckl.ca/events/burnt-river-sages/2025-06-20/
LOCATION:Burnt River Somerville Centre\, 16 Somerville Centre Rd\, Burnt River\, Ontario\, K0M1C0\, Canada
CATEGORIES:SAGES
ATTACH;FMTTYPE=image/jpeg:https://ccckl.ca/wp-content/uploads/2023/03/Sages-logo-RGB.jpg
END:VEVENT
BEGIN:VEVENT
DTSTART;TZID=America/Toronto:20250619T120000
DTEND;TZID=America/Toronto:20250619T140000
DTSTAMP:20260421T020116
CREATED:20221205T171748Z
LAST-MODIFIED:20250630T152445Z
UID:10001439-1750334400-1750341600@ccckl.ca
SUMMARY:Diners Club (Burnt River)
DESCRIPTION:Join us for some great food in good company! \n\n\n\nPre-registration is required and doors open at noon. Please call us at 705-324-7323 ext. 654 to reserve your spot!
URL:https://ccckl.ca/events/diners-club-burnt-river/2025-06-19/
LOCATION:Burnt River Somerville Centre\, 16 Somerville Centre Rd\, Burnt River\, Ontario\, K0M1C0\, Canada
CATEGORIES:Diner's Club
END:VEVENT
BEGIN:VEVENT
DTSTART;TZID=America/Toronto:20250617T133000
DTEND;TZID=America/Toronto:20250617T163000
DTSTAMP:20260421T020116
CREATED:20231130T200248Z
LAST-MODIFIED:20231130T200628Z
UID:10003171-1750167000-1750177800@ccckl.ca
SUMMARY:Good Food Box
DESCRIPTION:No garden? No problem! The Good Food Box program brings accessible\, affordable\, fresh and healthy food to the City of Kawartha Lakes. Anyone can purchase a Good Food Box\, with the season’s finest fresh fruits and vegetables from as many local growers as possible. \n\n\n\nA large box costs $20 and comes with healthy recipe ideas. \n\n\n\nCustomers pre-register by the second Tuesday of the month. \n\n\n\nPick up on the third Tuesday of the month at the Community Health Centre (21 Angeline St. Lindsay) between 1:30 and 4:30 p.m. \n\n\n\nTo register\, or for more information\, contact us at 705-324-7323 ext 165 or gfb@ccckl.ca.
URL:https://ccckl.ca/events/good-food-box-3/2025-06-17/
LOCATION:Ontario
END:VEVENT
BEGIN:VEVENT
DTSTART;TZID=America/Toronto:20250617T120000
DTEND;TZID=America/Toronto:20250617T140000
DTSTAMP:20260421T020116
CREATED:20221205T170845Z
LAST-MODIFIED:20250630T152507Z
UID:10001385-1750161600-1750168800@ccckl.ca
SUMMARY:Diners Club (Lindsay)
DESCRIPTION:Join us for some great food in good company! \n\n\n\nPre-registration is required and doors open at noon. Please call us at 705-324-7323 ext. 654 to reserve your spot!
URL:https://ccckl.ca/events/diners-club-lindsay/2025-06-17/
LOCATION:65 Melbourne St W\, 65 Melbourne St W\, Lindsay\, Ontario\, K9V 0G4\, Canada
CATEGORIES:Diner's Club
END:VEVENT
BEGIN:VEVENT
DTSTART;TZID=America/Toronto:20250616T093000
DTEND;TZID=America/Toronto:20250616T103000
DTSTAMP:20260421T020116
CREATED:20230810T154613Z
LAST-MODIFIED:20240421T115621Z
UID:10001781-1750066200-1750069800@ccckl.ca
SUMMARY:Burnt River SAGES
DESCRIPTION:Join us every Monday and Friday (except holidays) at 9:30 am at the Burnt River Community Centre for Gentle Exercise for Seniors. \n\n\n\nCost: $3 per session\, registration not required. First session is free! \n\n\n\nFor more information call 705-324-7323 ext. 165 or email wellness@ccckl.ca
URL:https://ccckl.ca/events/burnt-river-sages/2025-06-16/
LOCATION:Burnt River Somerville Centre\, 16 Somerville Centre Rd\, Burnt River\, Ontario\, K0M1C0\, Canada
CATEGORIES:SAGES
ATTACH;FMTTYPE=image/jpeg:https://ccckl.ca/wp-content/uploads/2023/03/Sages-logo-RGB.jpg
END:VEVENT
BEGIN:VEVENT
DTSTART;TZID=America/Toronto:20250613T093000
DTEND;TZID=America/Toronto:20250613T103000
DTSTAMP:20260421T020116
CREATED:20230810T154613Z
LAST-MODIFIED:20240421T115621Z
UID:10001780-1749807000-1749810600@ccckl.ca
SUMMARY:Burnt River SAGES
DESCRIPTION:Join us every Monday and Friday (except holidays) at 9:30 am at the Burnt River Community Centre for Gentle Exercise for Seniors. \n\n\n\nCost: $3 per session\, registration not required. First session is free! \n\n\n\nFor more information call 705-324-7323 ext. 165 or email wellness@ccckl.ca
URL:https://ccckl.ca/events/burnt-river-sages/2025-06-13/
LOCATION:Burnt River Somerville Centre\, 16 Somerville Centre Rd\, Burnt River\, Ontario\, K0M1C0\, Canada
CATEGORIES:SAGES
ATTACH;FMTTYPE=image/jpeg:https://ccckl.ca/wp-content/uploads/2023/03/Sages-logo-RGB.jpg
END:VEVENT
BEGIN:VEVENT
DTSTART;TZID=America/Toronto:20250612T120000
DTEND;TZID=America/Toronto:20250612T140000
DTSTAMP:20260421T020116
CREATED:20240904T135811Z
LAST-MODIFIED:20240904T135812Z
UID:10004026-1749729600-1749736800@ccckl.ca
SUMMARY:Diners Club (Bobcaygeon)
DESCRIPTION:Join us for some great food in good company! \n\n\n\nPre-registration is required and doors open at noon. Please call us at 705-324-7323 ext. 654 to reserve your spot!
URL:https://ccckl.ca/events/diners-club-bobcaygeon/2025-06-12/
LOCATION:Trinity United Church\, 44 William St\, Bobcaygeon\, Ontario\, K0M 1A0\, Canada
CATEGORIES:Diner's Club
END:VEVENT
BEGIN:VEVENT
DTSTART;TZID=America/Toronto:20250610T120000
DTEND;TZID=America/Toronto:20250610T140000
DTSTAMP:20260421T020116
CREATED:20240904T135216Z
LAST-MODIFIED:20250630T152344Z
UID:10003877-1749556800-1749564000@ccckl.ca
SUMMARY:Diners Club (Fenelon Falls)
DESCRIPTION:Join us for some great food in good company! \n\n\n\nPre-registration is required and doors open at noon. Please call us at 705-324-7323 ext. 654 to reserve your spot!
URL:https://ccckl.ca/events/diners-club-fenelon-falls/2025-06-10/
LOCATION:70 Murray St\, 70 Murray St\, Fenelon Falls\, Ontario\, K0M 1N0\, Canada
CATEGORIES:Diner's Club
END:VEVENT
BEGIN:VEVENT
DTSTART;TZID=America/Toronto:20250609T093000
DTEND;TZID=America/Toronto:20250609T103000
DTSTAMP:20260421T020116
CREATED:20230810T154613Z
LAST-MODIFIED:20240421T115621Z
UID:10001779-1749461400-1749465000@ccckl.ca
SUMMARY:Burnt River SAGES
DESCRIPTION:Join us every Monday and Friday (except holidays) at 9:30 am at the Burnt River Community Centre for Gentle Exercise for Seniors. \n\n\n\nCost: $3 per session\, registration not required. First session is free! \n\n\n\nFor more information call 705-324-7323 ext. 165 or email wellness@ccckl.ca
URL:https://ccckl.ca/events/burnt-river-sages/2025-06-09/
LOCATION:Burnt River Somerville Centre\, 16 Somerville Centre Rd\, Burnt River\, Ontario\, K0M1C0\, Canada
CATEGORIES:SAGES
ATTACH;FMTTYPE=image/jpeg:https://ccckl.ca/wp-content/uploads/2023/03/Sages-logo-RGB.jpg
END:VEVENT
BEGIN:VEVENT
DTSTART;TZID=America/Toronto:20250606T093000
DTEND;TZID=America/Toronto:20250606T103000
DTSTAMP:20260421T020116
CREATED:20230810T154613Z
LAST-MODIFIED:20240421T115621Z
UID:10001778-1749202200-1749205800@ccckl.ca
SUMMARY:Burnt River SAGES
DESCRIPTION:Join us every Monday and Friday (except holidays) at 9:30 am at the Burnt River Community Centre for Gentle Exercise for Seniors. \n\n\n\nCost: $3 per session\, registration not required. First session is free! \n\n\n\nFor more information call 705-324-7323 ext. 165 or email wellness@ccckl.ca
URL:https://ccckl.ca/events/burnt-river-sages/2025-06-06/
LOCATION:Burnt River Somerville Centre\, 16 Somerville Centre Rd\, Burnt River\, Ontario\, K0M1C0\, Canada
CATEGORIES:SAGES
ATTACH;FMTTYPE=image/jpeg:https://ccckl.ca/wp-content/uploads/2023/03/Sages-logo-RGB.jpg
END:VEVENT
BEGIN:VEVENT
DTSTART;TZID=America/Toronto:20250605T120000
DTEND;TZID=America/Toronto:20250605T140000
DTSTAMP:20260421T020116
CREATED:20230810T133725Z
LAST-MODIFIED:20250630T152430Z
UID:10001276-1749124800-1749132000@ccckl.ca
SUMMARY:Diners Club (Bethany)
DESCRIPTION:Join us for some great food in good company! \n\n\n\nPre-registration is required and doors open at noon. Please call us at 705-324-7323 ext. 654 to reserve your spot!
URL:https://ccckl.ca/events/diners-club-bethany/2025-06-05/
LOCATION:Bethany United Church\, 3 George St\, Bethany\, Ontario\, L0A 1A0\, Canada
CATEGORIES:Diner's Club
END:VEVENT
BEGIN:VEVENT
DTSTART;TZID=America/Toronto:20250603T120000
DTEND;TZID=America/Toronto:20250603T140000
DTSTAMP:20260421T020116
CREATED:20221026T143705Z
LAST-MODIFIED:20250630T152535Z
UID:10001493-1748952000-1748959200@ccckl.ca
SUMMARY:Diners Club (Lindsay)
DESCRIPTION:Join us for some great food in good company! \n\n\n\nPre-registration is required and doors open at noon. Please call us at 705-324-7323 ext. 654 to reserve your spot!
URL:https://ccckl.ca/events/diners-club-11/2025-06-03/
LOCATION:65 Melbourne St W\, 65 Melbourne St W\, Lindsay\, Ontario\, K9V 0G4\, Canada
CATEGORIES:Diner's Club
END:VEVENT
BEGIN:VEVENT
DTSTART;TZID=America/Toronto:20250602T093000
DTEND;TZID=America/Toronto:20250602T103000
DTSTAMP:20260421T020116
CREATED:20230810T154613Z
LAST-MODIFIED:20240421T115621Z
UID:10001777-1748856600-1748860200@ccckl.ca
SUMMARY:Burnt River SAGES
DESCRIPTION:Join us every Monday and Friday (except holidays) at 9:30 am at the Burnt River Community Centre for Gentle Exercise for Seniors. \n\n\n\nCost: $3 per session\, registration not required. First session is free! \n\n\n\nFor more information call 705-324-7323 ext. 165 or email wellness@ccckl.ca
URL:https://ccckl.ca/events/burnt-river-sages/2025-06-02/
LOCATION:Burnt River Somerville Centre\, 16 Somerville Centre Rd\, Burnt River\, Ontario\, K0M1C0\, Canada
CATEGORIES:SAGES
ATTACH;FMTTYPE=image/jpeg:https://ccckl.ca/wp-content/uploads/2023/03/Sages-logo-RGB.jpg
END:VEVENT
BEGIN:VEVENT
DTSTART;TZID=America/Toronto:20250601T110000
DTEND;TZID=America/Toronto:20250601T150000
DTSTAMP:20260421T020116
CREATED:20250417T140941Z
LAST-MODIFIED:20250417T142203Z
UID:10004079-1748775600-1748790000@ccckl.ca
SUMMARY:Hike for Hospice 2025
DESCRIPTION:Walk the block & help us raise $30\,000 for Hospice \n\n\n\nDate:              Sunday June 1st  \n\n\n\nTime:              1:00pm (Registration open at 11:00am) \n\n\n\nWhere:           Community Care – 21 Angeline St. N (across from Ross Memorial Hospital) \n\n\n\nWhy:               So we can stand by those living with life-limiting illnesses \n\n\n\nHow:               Visit www.hikeforhospice.ca to register and donate! \n\n\n\n _____________________________________________________________________________ \n\n\n\nWinners will be announced for Top fundraiser (Team & Individual) & Best team spirit. Prize includes photo posted on social media & a donation made by Corporate Sponsor in your name. \n\n\n\nQuestions?     Contact the Community Care Foundation: foundation@ccckl.ca \n\n\n\n (705) 324-7323 ext 164         Jessica Cameron \n\n\n\n (705) 324-7323 ext 163         Cindy Williams \n\n\n\nDonations $20 and over will receive a tax receipt.
URL:https://ccckl.ca/events/hike-for-hospice-2025/
LOCATION:Community Care City of Kawartha Lakes Community Health Centre\, 21 Angeline St. N\, Lindsay\, ON\, K9V 5B7\, Canada
CATEGORIES:Hike for Hospice
ATTACH;FMTTYPE=image/png:https://ccckl.ca/wp-content/uploads/2025/04/Hike-for-Hospice-2025-Featured-Photo-1.png
END:VEVENT
BEGIN:VEVENT
DTSTART;TZID=America/Toronto:20250530T093000
DTEND;TZID=America/Toronto:20250530T103000
DTSTAMP:20260421T020116
CREATED:20230810T154613Z
LAST-MODIFIED:20240421T115621Z
UID:10001776-1748597400-1748601000@ccckl.ca
SUMMARY:Burnt River SAGES
DESCRIPTION:Join us every Monday and Friday (except holidays) at 9:30 am at the Burnt River Community Centre for Gentle Exercise for Seniors. \n\n\n\nCost: $3 per session\, registration not required. First session is free! \n\n\n\nFor more information call 705-324-7323 ext. 165 or email wellness@ccckl.ca
URL:https://ccckl.ca/events/burnt-river-sages/2025-05-30/
LOCATION:Burnt River Somerville Centre\, 16 Somerville Centre Rd\, Burnt River\, Ontario\, K0M1C0\, Canada
CATEGORIES:SAGES
ATTACH;FMTTYPE=image/jpeg:https://ccckl.ca/wp-content/uploads/2023/03/Sages-logo-RGB.jpg
END:VEVENT
BEGIN:VEVENT
DTSTART;TZID=America/Toronto:20250527T120000
DTEND;TZID=America/Toronto:20250527T140000
DTSTAMP:20260421T020116
CREATED:20221205T164816Z
LAST-MODIFIED:20250630T152521Z
UID:10001330-1748347200-1748354400@ccckl.ca
SUMMARY:Diners Club (Fenelon Falls)
DESCRIPTION:Join us for some great food in good company! \n\n\n\nPre-registration is required and doors open at noon. Please call us at 705-324-7323 ext. 654 to reserve your spot!
URL:https://ccckl.ca/events/diners-club-fenelon-falls-2/2025-05-27/
LOCATION:70 Murray St\, 70 Murray St\, Fenelon Falls\, Ontario\, K0M 1N0\, Canada
CATEGORIES:Diner's Club
END:VEVENT
BEGIN:VEVENT
DTSTART;TZID=America/Toronto:20250526T093000
DTEND;TZID=America/Toronto:20250526T103000
DTSTAMP:20260421T020116
CREATED:20230810T154613Z
LAST-MODIFIED:20240421T115621Z
UID:10001775-1748251800-1748255400@ccckl.ca
SUMMARY:Burnt River SAGES
DESCRIPTION:Join us every Monday and Friday (except holidays) at 9:30 am at the Burnt River Community Centre for Gentle Exercise for Seniors. \n\n\n\nCost: $3 per session\, registration not required. First session is free! \n\n\n\nFor more information call 705-324-7323 ext. 165 or email wellness@ccckl.ca
URL:https://ccckl.ca/events/burnt-river-sages/2025-05-26/
LOCATION:Burnt River Somerville Centre\, 16 Somerville Centre Rd\, Burnt River\, Ontario\, K0M1C0\, Canada
CATEGORIES:SAGES
ATTACH;FMTTYPE=image/jpeg:https://ccckl.ca/wp-content/uploads/2023/03/Sages-logo-RGB.jpg
END:VEVENT
BEGIN:VEVENT
DTSTART;TZID=America/Toronto:20250523T093000
DTEND;TZID=America/Toronto:20250523T103000
DTSTAMP:20260421T020116
CREATED:20230810T154613Z
LAST-MODIFIED:20240421T115621Z
UID:10001774-1747992600-1747996200@ccckl.ca
SUMMARY:Burnt River SAGES
DESCRIPTION:Join us every Monday and Friday (except holidays) at 9:30 am at the Burnt River Community Centre for Gentle Exercise for Seniors. \n\n\n\nCost: $3 per session\, registration not required. First session is free! \n\n\n\nFor more information call 705-324-7323 ext. 165 or email wellness@ccckl.ca
URL:https://ccckl.ca/events/burnt-river-sages/2025-05-23/
LOCATION:Burnt River Somerville Centre\, 16 Somerville Centre Rd\, Burnt River\, Ontario\, K0M1C0\, Canada
CATEGORIES:SAGES
ATTACH;FMTTYPE=image/jpeg:https://ccckl.ca/wp-content/uploads/2023/03/Sages-logo-RGB.jpg
END:VEVENT
BEGIN:VEVENT
DTSTART;TZID=America/Toronto:20250522T120000
DTEND;TZID=America/Toronto:20250522T140000
DTSTAMP:20260421T020116
CREATED:20230810T134223Z
LAST-MODIFIED:20250630T152407Z
UID:10001553-1747915200-1747922400@ccckl.ca
SUMMARY:Diners Club (Coboconk)
DESCRIPTION:Join us for some great food in good company! \n\n\n\nPre-registration is required and doors open at noon. Please call us at 705-324-7323 ext. 654 to reserve your spot!
URL:https://ccckl.ca/events/diners-club-coboconk/2025-05-22/
LOCATION:Coboconk Service Centre\, 9 Grandy Rd\, Coboconk\, Ontario\, Canada
CATEGORIES:Diner's Club
END:VEVENT
END:VCALENDAR