BEGIN:VCALENDAR
VERSION:2.0
PRODID:-//Community Care City of Kawartha Lakes - ECPv6.15.13//NONSGML v1.0//EN
CALSCALE:GREGORIAN
METHOD:PUBLISH
X-ORIGINAL-URL:https://ccckl.ca
X-WR-CALDESC:Events for Community Care City of Kawartha Lakes
REFRESH-INTERVAL;VALUE=DURATION:PT1H
X-Robots-Tag:noindex
X-PUBLISHED-TTL:PT1H
BEGIN:VTIMEZONE
TZID:America/Toronto
BEGIN:DAYLIGHT
TZOFFSETFROM:-0500
TZOFFSETTO:-0400
TZNAME:EDT
DTSTART:20240310T070000
END:DAYLIGHT
BEGIN:STANDARD
TZOFFSETFROM:-0400
TZOFFSETTO:-0500
TZNAME:EST
DTSTART:20241103T060000
END:STANDARD
BEGIN:DAYLIGHT
TZOFFSETFROM:-0500
TZOFFSETTO:-0400
TZNAME:EDT
DTSTART:20250309T070000
END:DAYLIGHT
BEGIN:STANDARD
TZOFFSETFROM:-0400
TZOFFSETTO:-0500
TZNAME:EST
DTSTART:20251102T060000
END:STANDARD
BEGIN:DAYLIGHT
TZOFFSETFROM:-0500
TZOFFSETTO:-0400
TZNAME:EDT
DTSTART:20260308T070000
END:DAYLIGHT
BEGIN:STANDARD
TZOFFSETFROM:-0400
TZOFFSETTO:-0500
TZNAME:EST
DTSTART:20261101T060000
END:STANDARD
END:VTIMEZONE
BEGIN:VEVENT
DTSTART;TZID=America/Toronto:20250401T120000
DTEND;TZID=America/Toronto:20250401T140000
DTSTAMP:20260421T095658
CREATED:20221026T143705Z
LAST-MODIFIED:20250630T152535Z
UID:10001491-1743508800-1743516000@ccckl.ca
SUMMARY:Diners Club (Lindsay)
DESCRIPTION:Join us for some great food in good company! \n\n\n\nPre-registration is required and doors open at noon. Please call us at 705-324-7323 ext. 654 to reserve your spot!
URL:https://ccckl.ca/events/diners-club-11/2025-04-01/
LOCATION:65 Melbourne St W\, 65 Melbourne St W\, Lindsay\, Ontario\, K9V 0G4\, Canada
CATEGORIES:Diner's Club
END:VEVENT
BEGIN:VEVENT
DTSTART;TZID=America/Toronto:20250331T140000
DTEND;TZID=America/Toronto:20250331T150000
DTSTAMP:20260421T095658
CREATED:20240206T172252Z
LAST-MODIFIED:20240421T115207Z
UID:10003360-1743429600-1743433200@ccckl.ca
SUMMARY:Low Impact Exercise Class
DESCRIPTION:A new program led by a certified Seniors Fitness Instructor. Community-Based Exercise Classes focuses on cardio\, strength\, balance and flexibility. This program encourages participants to stay functionally fit longer\, increase physical activity levels and decrease their risk of falls. \n\n\n\nEvery Monday (except holidays) from 2 – 3 pm at 21 Angeline St. N in Lindsay  \n\n\n\nClick here to register.
URL:https://ccckl.ca/events/community-based-exercise-class-2/2025-03-31/
LOCATION:Community Care City of Kawartha Lakes Community Health Centre\, 21 Angeline St. N\, Lindsay\, ON\, K9V 5B7\, Canada
END:VEVENT
BEGIN:VEVENT
DTSTART;TZID=America/Toronto:20250331T093000
DTEND;TZID=America/Toronto:20250331T103000
DTSTAMP:20260421T095658
CREATED:20230810T154613Z
LAST-MODIFIED:20240421T115621Z
UID:10001759-1743413400-1743417000@ccckl.ca
SUMMARY:Burnt River SAGES
DESCRIPTION:Join us every Monday and Friday (except holidays) at 9:30 am at the Burnt River Community Centre for Gentle Exercise for Seniors. \n\n\n\nCost: $3 per session\, registration not required. First session is free! \n\n\n\nFor more information call 705-324-7323 ext. 165 or email wellness@ccckl.ca
URL:https://ccckl.ca/events/burnt-river-sages/2025-03-31/
LOCATION:Burnt River Somerville Centre\, 16 Somerville Centre Rd\, Burnt River\, Ontario\, K0M1C0\, Canada
CATEGORIES:SAGES
ATTACH;FMTTYPE=image/jpeg:https://ccckl.ca/wp-content/uploads/2023/03/Sages-logo-RGB.jpg
END:VEVENT
BEGIN:VEVENT
DTSTART;TZID=America/Toronto:20250328T093000
DTEND;TZID=America/Toronto:20250328T103000
DTSTAMP:20260421T095658
CREATED:20230810T154613Z
LAST-MODIFIED:20240421T115621Z
UID:10001758-1743154200-1743157800@ccckl.ca
SUMMARY:Burnt River SAGES
DESCRIPTION:Join us every Monday and Friday (except holidays) at 9:30 am at the Burnt River Community Centre for Gentle Exercise for Seniors. \n\n\n\nCost: $3 per session\, registration not required. First session is free! \n\n\n\nFor more information call 705-324-7323 ext. 165 or email wellness@ccckl.ca
URL:https://ccckl.ca/events/burnt-river-sages/2025-03-28/
LOCATION:Burnt River Somerville Centre\, 16 Somerville Centre Rd\, Burnt River\, Ontario\, K0M1C0\, Canada
CATEGORIES:SAGES
ATTACH;FMTTYPE=image/jpeg:https://ccckl.ca/wp-content/uploads/2023/03/Sages-logo-RGB.jpg
END:VEVENT
BEGIN:VEVENT
DTSTART;TZID=America/Toronto:20250327T120000
DTEND;TZID=America/Toronto:20250327T140000
DTSTAMP:20260421T095658
CREATED:20230810T134223Z
LAST-MODIFIED:20250630T152407Z
UID:10001551-1743076800-1743084000@ccckl.ca
SUMMARY:Diners Club (Coboconk)
DESCRIPTION:Join us for some great food in good company! \n\n\n\nPre-registration is required and doors open at noon. Please call us at 705-324-7323 ext. 654 to reserve your spot!
URL:https://ccckl.ca/events/diners-club-coboconk/2025-03-27/
LOCATION:Coboconk Service Centre\, 9 Grandy Rd\, Coboconk\, Ontario\, Canada
CATEGORIES:Diner's Club
END:VEVENT
BEGIN:VEVENT
DTSTART;TZID=America/Toronto:20250326T100000
DTEND;TZID=America/Toronto:20250326T110000
DTSTAMP:20260421T095658
CREATED:20240421T115857Z
LAST-MODIFIED:20240421T115858Z
UID:10003590-1742983200-1742986800@ccckl.ca
SUMMARY:Moderate Impact Exercise Class
DESCRIPTION:A new program led by a certified Seniors Fitness Instructor. Community-Based Exercise Classes focuses on cardio\, strength\, balance and flexibility. This program encourages participants to stay functionally fit longer\, increase physical activity levels and decrease their risk of falls. \n\n\n\nEvery Wednesday from 10:10 – 11 am at 21 Angeline St. N in Lindsay  \n\n\n\nClick here to register.
URL:https://ccckl.ca/events/low-impact-exercise-class-2/2025-03-26/
LOCATION:Community Care City of Kawartha Lakes Community Health Centre\, 21 Angeline St. N\, Lindsay\, ON\, K9V 5B7\, Canada
END:VEVENT
BEGIN:VEVENT
DTSTART;TZID=America/Toronto:20250326T090000
DTEND;TZID=America/Toronto:20250326T100000
DTSTAMP:20260421T095658
CREATED:20240421T120545Z
LAST-MODIFIED:20240709T163127Z
UID:10003688-1742979600-1742983200@ccckl.ca
SUMMARY:Virtual Chair Yoga
DESCRIPTION:Offered in partnership with Brock CHC\, virtual chair yoga focuses on stretch and meditation practice to help calm the mind\, relax the body\, ease stiffness and discomfort\, improve balance\, strength and flexibility. This class at held at 21 Angeline St. N in-person as we follow along with a live virtual instructor. If you would like to join along at home\, a zoom link can be provided. \n\n\n\nEvery Wednesday from 9 – 10 am at 21 Angeline St. N in Lindsay  \n\n\n\nClick here to register.
URL:https://ccckl.ca/events/virtual-chair-yoga/2025-03-26/
LOCATION:Community Care City of Kawartha Lakes Community Health Centre\, 21 Angeline St. N\, Lindsay\, ON\, K9V 5B7\, Canada
END:VEVENT
BEGIN:VEVENT
DTSTART;TZID=America/Toronto:20250325T120000
DTEND;TZID=America/Toronto:20250325T140000
DTSTAMP:20260421T095658
CREATED:20221205T164816Z
LAST-MODIFIED:20250630T152521Z
UID:10001328-1742904000-1742911200@ccckl.ca
SUMMARY:Diners Club (Fenelon Falls)
DESCRIPTION:Join us for some great food in good company! \n\n\n\nPre-registration is required and doors open at noon. Please call us at 705-324-7323 ext. 654 to reserve your spot!
URL:https://ccckl.ca/events/diners-club-fenelon-falls-2/2025-03-25/
LOCATION:70 Murray St\, 70 Murray St\, Fenelon Falls\, Ontario\, K0M 1N0\, Canada
CATEGORIES:Diner's Club
END:VEVENT
BEGIN:VEVENT
DTSTART;TZID=America/Toronto:20250325T090000
DTEND;TZID=America/Toronto:20250325T100000
DTSTAMP:20260421T095658
CREATED:20240421T131608Z
LAST-MODIFIED:20240421T131637Z
UID:10003786-1742893200-1742896800@ccckl.ca
SUMMARY:Virtual Gentle Fit
DESCRIPTION:In partnership with Brock CHC\, this session aims to improve functional fitness through strength\, balance and cardio exercises. Classes are held virtually\, in your own space/home. Please contact us if you are interested in receiving the zoom link. \n\n\n\nEvery Tuesday from 9 – 10 am on Zoom. \n\n\n\nClick here to register.
URL:https://ccckl.ca/events/virtual-gentle-fit/2025-03-25/
LOCATION:Community Care City of Kawartha Lakes Community Health Centre\, 21 Angeline St. N\, Lindsay\, ON\, K9V 5B7\, Canada
END:VEVENT
BEGIN:VEVENT
DTSTART;TZID=America/Toronto:20250324T140000
DTEND;TZID=America/Toronto:20250324T150000
DTSTAMP:20260421T095658
CREATED:20240206T172252Z
LAST-MODIFIED:20240421T115207Z
UID:10003359-1742824800-1742828400@ccckl.ca
SUMMARY:Low Impact Exercise Class
DESCRIPTION:A new program led by a certified Seniors Fitness Instructor. Community-Based Exercise Classes focuses on cardio\, strength\, balance and flexibility. This program encourages participants to stay functionally fit longer\, increase physical activity levels and decrease their risk of falls. \n\n\n\nEvery Monday (except holidays) from 2 – 3 pm at 21 Angeline St. N in Lindsay  \n\n\n\nClick here to register.
URL:https://ccckl.ca/events/community-based-exercise-class-2/2025-03-24/
LOCATION:Community Care City of Kawartha Lakes Community Health Centre\, 21 Angeline St. N\, Lindsay\, ON\, K9V 5B7\, Canada
END:VEVENT
BEGIN:VEVENT
DTSTART;TZID=America/Toronto:20250324T093000
DTEND;TZID=America/Toronto:20250324T103000
DTSTAMP:20260421T095658
CREATED:20230810T154613Z
LAST-MODIFIED:20240421T115621Z
UID:10001757-1742808600-1742812200@ccckl.ca
SUMMARY:Burnt River SAGES
DESCRIPTION:Join us every Monday and Friday (except holidays) at 9:30 am at the Burnt River Community Centre for Gentle Exercise for Seniors. \n\n\n\nCost: $3 per session\, registration not required. First session is free! \n\n\n\nFor more information call 705-324-7323 ext. 165 or email wellness@ccckl.ca
URL:https://ccckl.ca/events/burnt-river-sages/2025-03-24/
LOCATION:Burnt River Somerville Centre\, 16 Somerville Centre Rd\, Burnt River\, Ontario\, K0M1C0\, Canada
CATEGORIES:SAGES
ATTACH;FMTTYPE=image/jpeg:https://ccckl.ca/wp-content/uploads/2023/03/Sages-logo-RGB.jpg
END:VEVENT
BEGIN:VEVENT
DTSTART;TZID=America/Toronto:20250321T093000
DTEND;TZID=America/Toronto:20250321T103000
DTSTAMP:20260421T095658
CREATED:20230810T154613Z
LAST-MODIFIED:20240421T115621Z
UID:10001756-1742549400-1742553000@ccckl.ca
SUMMARY:Burnt River SAGES
DESCRIPTION:Join us every Monday and Friday (except holidays) at 9:30 am at the Burnt River Community Centre for Gentle Exercise for Seniors. \n\n\n\nCost: $3 per session\, registration not required. First session is free! \n\n\n\nFor more information call 705-324-7323 ext. 165 or email wellness@ccckl.ca
URL:https://ccckl.ca/events/burnt-river-sages/2025-03-21/
LOCATION:Burnt River Somerville Centre\, 16 Somerville Centre Rd\, Burnt River\, Ontario\, K0M1C0\, Canada
CATEGORIES:SAGES
ATTACH;FMTTYPE=image/jpeg:https://ccckl.ca/wp-content/uploads/2023/03/Sages-logo-RGB.jpg
END:VEVENT
BEGIN:VEVENT
DTSTART;TZID=America/Toronto:20250320T183000
DTEND;TZID=America/Toronto:20250320T203000
DTSTAMP:20260421T095658
CREATED:20250210T194915Z
LAST-MODIFIED:20250210T195101Z
UID:10004078-1742495400-1742502600@ccckl.ca
SUMMARY:Grief: The Elephant in the Room
DESCRIPTION:CCCKL Hospice Services is delighted to welcome the Hospice Peterborough What Now? Podcast team of palliative and bereavement healthcare professionals Julie Brown\, Red Keating\, and David Kennedy to an evening of information about living life with grief. \n\n\n\nGrief is a universal experience that can be hard to talk about and challenging to support. Join us for an evening of exploration and inspiration and learn about topics including: \n\n\n\n\nLove is not a disease\, neither is grief\n\n\n\nLiving with grief: The new normal\n\n\n\nWhat to say and what not to say…\n\n\n\n\nSeating is limited so we ask that you please reserve your space by March 17th\, 2025  to cmillington@ccckl.ca or 705-324-7323 ext. 507.  This is a free community event.
URL:https://ccckl.ca/events/grief-the-elephant-in-the-room/
LOCATION:Lakeland Funeral and Cremation Centre\, 19 Moose Road\, Lindsay\, Ontario\, Canada
ATTACH;FMTTYPE=image/png:https://ccckl.ca/wp-content/uploads/2025/02/Grief-Event.png
END:VEVENT
BEGIN:VEVENT
DTSTART;TZID=America/Toronto:20250320T120000
DTEND;TZID=America/Toronto:20250320T140000
DTSTAMP:20260421T095658
CREATED:20221205T171748Z
LAST-MODIFIED:20250630T152445Z
UID:10001436-1742472000-1742479200@ccckl.ca
SUMMARY:Diners Club (Burnt River)
DESCRIPTION:Join us for some great food in good company! \n\n\n\nPre-registration is required and doors open at noon. Please call us at 705-324-7323 ext. 654 to reserve your spot!
URL:https://ccckl.ca/events/diners-club-burnt-river/2025-03-20/
LOCATION:Burnt River Somerville Centre\, 16 Somerville Centre Rd\, Burnt River\, Ontario\, K0M1C0\, Canada
CATEGORIES:Diner's Club
END:VEVENT
BEGIN:VEVENT
DTSTART;TZID=America/Toronto:20250319T100000
DTEND;TZID=America/Toronto:20250319T110000
DTSTAMP:20260421T095658
CREATED:20240421T115857Z
LAST-MODIFIED:20240421T115858Z
UID:10003589-1742378400-1742382000@ccckl.ca
SUMMARY:Moderate Impact Exercise Class
DESCRIPTION:A new program led by a certified Seniors Fitness Instructor. Community-Based Exercise Classes focuses on cardio\, strength\, balance and flexibility. This program encourages participants to stay functionally fit longer\, increase physical activity levels and decrease their risk of falls. \n\n\n\nEvery Wednesday from 10:10 – 11 am at 21 Angeline St. N in Lindsay  \n\n\n\nClick here to register.
URL:https://ccckl.ca/events/low-impact-exercise-class-2/2025-03-19/
LOCATION:Community Care City of Kawartha Lakes Community Health Centre\, 21 Angeline St. N\, Lindsay\, ON\, K9V 5B7\, Canada
END:VEVENT
BEGIN:VEVENT
DTSTART;TZID=America/Toronto:20250319T090000
DTEND;TZID=America/Toronto:20250319T100000
DTSTAMP:20260421T095658
CREATED:20240421T120545Z
LAST-MODIFIED:20240709T163127Z
UID:10003687-1742374800-1742378400@ccckl.ca
SUMMARY:Virtual Chair Yoga
DESCRIPTION:Offered in partnership with Brock CHC\, virtual chair yoga focuses on stretch and meditation practice to help calm the mind\, relax the body\, ease stiffness and discomfort\, improve balance\, strength and flexibility. This class at held at 21 Angeline St. N in-person as we follow along with a live virtual instructor. If you would like to join along at home\, a zoom link can be provided. \n\n\n\nEvery Wednesday from 9 – 10 am at 21 Angeline St. N in Lindsay  \n\n\n\nClick here to register.
URL:https://ccckl.ca/events/virtual-chair-yoga/2025-03-19/
LOCATION:Community Care City of Kawartha Lakes Community Health Centre\, 21 Angeline St. N\, Lindsay\, ON\, K9V 5B7\, Canada
END:VEVENT
BEGIN:VEVENT
DTSTART;TZID=America/Toronto:20250318T133000
DTEND;TZID=America/Toronto:20250318T163000
DTSTAMP:20260421T095658
CREATED:20231130T200248Z
LAST-MODIFIED:20231130T200628Z
UID:10003168-1742304600-1742315400@ccckl.ca
SUMMARY:Good Food Box
DESCRIPTION:No garden? No problem! The Good Food Box program brings accessible\, affordable\, fresh and healthy food to the City of Kawartha Lakes. Anyone can purchase a Good Food Box\, with the season’s finest fresh fruits and vegetables from as many local growers as possible. \n\n\n\nA large box costs $20 and comes with healthy recipe ideas. \n\n\n\nCustomers pre-register by the second Tuesday of the month. \n\n\n\nPick up on the third Tuesday of the month at the Community Health Centre (21 Angeline St. Lindsay) between 1:30 and 4:30 p.m. \n\n\n\nTo register\, or for more information\, contact us at 705-324-7323 ext 165 or gfb@ccckl.ca.
URL:https://ccckl.ca/events/good-food-box-3/2025-03-18/
LOCATION:ON
END:VEVENT
BEGIN:VEVENT
DTSTART;TZID=America/Toronto:20250318T120000
DTEND;TZID=America/Toronto:20250318T140000
DTSTAMP:20260421T095658
CREATED:20221205T170845Z
LAST-MODIFIED:20250630T152507Z
UID:10001382-1742299200-1742306400@ccckl.ca
SUMMARY:Diners Club (Lindsay)
DESCRIPTION:Join us for some great food in good company! \n\n\n\nPre-registration is required and doors open at noon. Please call us at 705-324-7323 ext. 654 to reserve your spot!
URL:https://ccckl.ca/events/diners-club-lindsay/2025-03-18/
LOCATION:65 Melbourne St W\, 65 Melbourne St W\, Lindsay\, Ontario\, K9V 0G4\, Canada
CATEGORIES:Diner's Club
END:VEVENT
BEGIN:VEVENT
DTSTART;TZID=America/Toronto:20250318T090000
DTEND;TZID=America/Toronto:20250318T100000
DTSTAMP:20260421T095658
CREATED:20240421T131608Z
LAST-MODIFIED:20240421T131637Z
UID:10003785-1742288400-1742292000@ccckl.ca
SUMMARY:Virtual Gentle Fit
DESCRIPTION:In partnership with Brock CHC\, this session aims to improve functional fitness through strength\, balance and cardio exercises. Classes are held virtually\, in your own space/home. Please contact us if you are interested in receiving the zoom link. \n\n\n\nEvery Tuesday from 9 – 10 am on Zoom. \n\n\n\nClick here to register.
URL:https://ccckl.ca/events/virtual-gentle-fit/2025-03-18/
LOCATION:Community Care City of Kawartha Lakes Community Health Centre\, 21 Angeline St. N\, Lindsay\, ON\, K9V 5B7\, Canada
END:VEVENT
BEGIN:VEVENT
DTSTART;TZID=America/Toronto:20250317T140000
DTEND;TZID=America/Toronto:20250317T150000
DTSTAMP:20260421T095658
CREATED:20240206T172252Z
LAST-MODIFIED:20240421T115207Z
UID:10003358-1742220000-1742223600@ccckl.ca
SUMMARY:Low Impact Exercise Class
DESCRIPTION:A new program led by a certified Seniors Fitness Instructor. Community-Based Exercise Classes focuses on cardio\, strength\, balance and flexibility. This program encourages participants to stay functionally fit longer\, increase physical activity levels and decrease their risk of falls. \n\n\n\nEvery Monday (except holidays) from 2 – 3 pm at 21 Angeline St. N in Lindsay  \n\n\n\nClick here to register.
URL:https://ccckl.ca/events/community-based-exercise-class-2/2025-03-17/
LOCATION:Community Care City of Kawartha Lakes Community Health Centre\, 21 Angeline St. N\, Lindsay\, ON\, K9V 5B7\, Canada
END:VEVENT
BEGIN:VEVENT
DTSTART;TZID=America/Toronto:20250317T093000
DTEND;TZID=America/Toronto:20250317T103000
DTSTAMP:20260421T095658
CREATED:20230810T154613Z
LAST-MODIFIED:20240421T115621Z
UID:10001755-1742203800-1742207400@ccckl.ca
SUMMARY:Burnt River SAGES
DESCRIPTION:Join us every Monday and Friday (except holidays) at 9:30 am at the Burnt River Community Centre for Gentle Exercise for Seniors. \n\n\n\nCost: $3 per session\, registration not required. First session is free! \n\n\n\nFor more information call 705-324-7323 ext. 165 or email wellness@ccckl.ca
URL:https://ccckl.ca/events/burnt-river-sages/2025-03-17/
LOCATION:Burnt River Somerville Centre\, 16 Somerville Centre Rd\, Burnt River\, Ontario\, K0M1C0\, Canada
CATEGORIES:SAGES
ATTACH;FMTTYPE=image/jpeg:https://ccckl.ca/wp-content/uploads/2023/03/Sages-logo-RGB.jpg
END:VEVENT
BEGIN:VEVENT
DTSTART;TZID=America/Toronto:20250314T093000
DTEND;TZID=America/Toronto:20250314T103000
DTSTAMP:20260421T095658
CREATED:20230810T154613Z
LAST-MODIFIED:20240421T115621Z
UID:10001754-1741944600-1741948200@ccckl.ca
SUMMARY:Burnt River SAGES
DESCRIPTION:Join us every Monday and Friday (except holidays) at 9:30 am at the Burnt River Community Centre for Gentle Exercise for Seniors. \n\n\n\nCost: $3 per session\, registration not required. First session is free! \n\n\n\nFor more information call 705-324-7323 ext. 165 or email wellness@ccckl.ca
URL:https://ccckl.ca/events/burnt-river-sages/2025-03-14/
LOCATION:Burnt River Somerville Centre\, 16 Somerville Centre Rd\, Burnt River\, Ontario\, K0M1C0\, Canada
CATEGORIES:SAGES
ATTACH;FMTTYPE=image/jpeg:https://ccckl.ca/wp-content/uploads/2023/03/Sages-logo-RGB.jpg
END:VEVENT
BEGIN:VEVENT
DTSTART;TZID=America/Toronto:20250313T120000
DTEND;TZID=America/Toronto:20250313T140000
DTSTAMP:20260421T095658
CREATED:20240904T135811Z
LAST-MODIFIED:20240904T135812Z
UID:10004023-1741867200-1741874400@ccckl.ca
SUMMARY:Diners Club (Bobcaygeon)
DESCRIPTION:Join us for some great food in good company! \n\n\n\nPre-registration is required and doors open at noon. Please call us at 705-324-7323 ext. 654 to reserve your spot!
URL:https://ccckl.ca/events/diners-club-bobcaygeon/2025-03-13/
LOCATION:Trinity United Church\, 44 William St\, Bobcaygeon\, Ontario\, K0M 1A0\, Canada
CATEGORIES:Diner's Club
END:VEVENT
BEGIN:VEVENT
DTSTART;TZID=America/Toronto:20250312T100000
DTEND;TZID=America/Toronto:20250312T110000
DTSTAMP:20260421T095658
CREATED:20240421T115857Z
LAST-MODIFIED:20240421T115858Z
UID:10003588-1741773600-1741777200@ccckl.ca
SUMMARY:Moderate Impact Exercise Class
DESCRIPTION:A new program led by a certified Seniors Fitness Instructor. Community-Based Exercise Classes focuses on cardio\, strength\, balance and flexibility. This program encourages participants to stay functionally fit longer\, increase physical activity levels and decrease their risk of falls. \n\n\n\nEvery Wednesday from 10:10 – 11 am at 21 Angeline St. N in Lindsay  \n\n\n\nClick here to register.
URL:https://ccckl.ca/events/low-impact-exercise-class-2/2025-03-12/
LOCATION:Community Care City of Kawartha Lakes Community Health Centre\, 21 Angeline St. N\, Lindsay\, ON\, K9V 5B7\, Canada
END:VEVENT
BEGIN:VEVENT
DTSTART;TZID=America/Toronto:20250312T090000
DTEND;TZID=America/Toronto:20250312T100000
DTSTAMP:20260421T095658
CREATED:20240421T120545Z
LAST-MODIFIED:20240709T163127Z
UID:10003686-1741770000-1741773600@ccckl.ca
SUMMARY:Virtual Chair Yoga
DESCRIPTION:Offered in partnership with Brock CHC\, virtual chair yoga focuses on stretch and meditation practice to help calm the mind\, relax the body\, ease stiffness and discomfort\, improve balance\, strength and flexibility. This class at held at 21 Angeline St. N in-person as we follow along with a live virtual instructor. If you would like to join along at home\, a zoom link can be provided. \n\n\n\nEvery Wednesday from 9 – 10 am at 21 Angeline St. N in Lindsay  \n\n\n\nClick here to register.
URL:https://ccckl.ca/events/virtual-chair-yoga/2025-03-12/
LOCATION:Community Care City of Kawartha Lakes Community Health Centre\, 21 Angeline St. N\, Lindsay\, ON\, K9V 5B7\, Canada
END:VEVENT
BEGIN:VEVENT
DTSTART;TZID=America/Toronto:20250311T120000
DTEND;TZID=America/Toronto:20250311T140000
DTSTAMP:20260421T095658
CREATED:20240904T135216Z
LAST-MODIFIED:20250630T152344Z
UID:10003874-1741694400-1741701600@ccckl.ca
SUMMARY:Diners Club (Fenelon Falls)
DESCRIPTION:Join us for some great food in good company! \n\n\n\nPre-registration is required and doors open at noon. Please call us at 705-324-7323 ext. 654 to reserve your spot!
URL:https://ccckl.ca/events/diners-club-fenelon-falls/2025-03-11/
LOCATION:70 Murray St\, 70 Murray St\, Fenelon Falls\, Ontario\, K0M 1N0\, Canada
CATEGORIES:Diner's Club
END:VEVENT
BEGIN:VEVENT
DTSTART;TZID=America/Toronto:20250311T090000
DTEND;TZID=America/Toronto:20250311T100000
DTSTAMP:20260421T095658
CREATED:20240421T131608Z
LAST-MODIFIED:20240421T131637Z
UID:10003784-1741683600-1741687200@ccckl.ca
SUMMARY:Virtual Gentle Fit
DESCRIPTION:In partnership with Brock CHC\, this session aims to improve functional fitness through strength\, balance and cardio exercises. Classes are held virtually\, in your own space/home. Please contact us if you are interested in receiving the zoom link. \n\n\n\nEvery Tuesday from 9 – 10 am on Zoom. \n\n\n\nClick here to register.
URL:https://ccckl.ca/events/virtual-gentle-fit/2025-03-11/
LOCATION:Community Care City of Kawartha Lakes Community Health Centre\, 21 Angeline St. N\, Lindsay\, ON\, K9V 5B7\, Canada
END:VEVENT
BEGIN:VEVENT
DTSTART;TZID=America/Toronto:20250310T140000
DTEND;TZID=America/Toronto:20250310T150000
DTSTAMP:20260421T095658
CREATED:20240206T172252Z
LAST-MODIFIED:20240421T115207Z
UID:10003357-1741615200-1741618800@ccckl.ca
SUMMARY:Low Impact Exercise Class
DESCRIPTION:A new program led by a certified Seniors Fitness Instructor. Community-Based Exercise Classes focuses on cardio\, strength\, balance and flexibility. This program encourages participants to stay functionally fit longer\, increase physical activity levels and decrease their risk of falls. \n\n\n\nEvery Monday (except holidays) from 2 – 3 pm at 21 Angeline St. N in Lindsay  \n\n\n\nClick here to register.
URL:https://ccckl.ca/events/community-based-exercise-class-2/2025-03-10/
LOCATION:Community Care City of Kawartha Lakes Community Health Centre\, 21 Angeline St. N\, Lindsay\, ON\, K9V 5B7\, Canada
END:VEVENT
BEGIN:VEVENT
DTSTART;TZID=America/Toronto:20250310T093000
DTEND;TZID=America/Toronto:20250310T103000
DTSTAMP:20260421T095658
CREATED:20230810T154613Z
LAST-MODIFIED:20240421T115621Z
UID:10001753-1741599000-1741602600@ccckl.ca
SUMMARY:Burnt River SAGES
DESCRIPTION:Join us every Monday and Friday (except holidays) at 9:30 am at the Burnt River Community Centre for Gentle Exercise for Seniors. \n\n\n\nCost: $3 per session\, registration not required. First session is free! \n\n\n\nFor more information call 705-324-7323 ext. 165 or email wellness@ccckl.ca
URL:https://ccckl.ca/events/burnt-river-sages/2025-03-10/
LOCATION:Burnt River Somerville Centre\, 16 Somerville Centre Rd\, Burnt River\, Ontario\, K0M1C0\, Canada
CATEGORIES:SAGES
ATTACH;FMTTYPE=image/jpeg:https://ccckl.ca/wp-content/uploads/2023/03/Sages-logo-RGB.jpg
END:VEVENT
BEGIN:VEVENT
DTSTART;TZID=America/Toronto:20250307T093000
DTEND;TZID=America/Toronto:20250307T103000
DTSTAMP:20260421T095658
CREATED:20230810T154613Z
LAST-MODIFIED:20240421T115621Z
UID:10001752-1741339800-1741343400@ccckl.ca
SUMMARY:Burnt River SAGES
DESCRIPTION:Join us every Monday and Friday (except holidays) at 9:30 am at the Burnt River Community Centre for Gentle Exercise for Seniors. \n\n\n\nCost: $3 per session\, registration not required. First session is free! \n\n\n\nFor more information call 705-324-7323 ext. 165 or email wellness@ccckl.ca
URL:https://ccckl.ca/events/burnt-river-sages/2025-03-07/
LOCATION:Burnt River Somerville Centre\, 16 Somerville Centre Rd\, Burnt River\, Ontario\, K0M1C0\, Canada
CATEGORIES:SAGES
ATTACH;FMTTYPE=image/jpeg:https://ccckl.ca/wp-content/uploads/2023/03/Sages-logo-RGB.jpg
END:VEVENT
END:VCALENDAR