BEGIN:VCALENDAR
VERSION:2.0
PRODID:-//Community Care City of Kawartha Lakes - ECPv6.15.13//NONSGML v1.0//EN
CALSCALE:GREGORIAN
METHOD:PUBLISH
X-ORIGINAL-URL:https://ccckl.ca
X-WR-CALDESC:Events for Community Care City of Kawartha Lakes
REFRESH-INTERVAL;VALUE=DURATION:PT1H
X-Robots-Tag:noindex
X-PUBLISHED-TTL:PT1H
BEGIN:VTIMEZONE
TZID:America/Toronto
BEGIN:DAYLIGHT
TZOFFSETFROM:-0500
TZOFFSETTO:-0400
TZNAME:EDT
DTSTART:20240310T070000
END:DAYLIGHT
BEGIN:STANDARD
TZOFFSETFROM:-0400
TZOFFSETTO:-0500
TZNAME:EST
DTSTART:20241103T060000
END:STANDARD
BEGIN:DAYLIGHT
TZOFFSETFROM:-0500
TZOFFSETTO:-0400
TZNAME:EDT
DTSTART:20250309T070000
END:DAYLIGHT
BEGIN:STANDARD
TZOFFSETFROM:-0400
TZOFFSETTO:-0500
TZNAME:EST
DTSTART:20251102T060000
END:STANDARD
BEGIN:DAYLIGHT
TZOFFSETFROM:-0500
TZOFFSETTO:-0400
TZNAME:EDT
DTSTART:20260308T070000
END:DAYLIGHT
BEGIN:STANDARD
TZOFFSETFROM:-0400
TZOFFSETTO:-0500
TZNAME:EST
DTSTART:20261101T060000
END:STANDARD
END:VTIMEZONE
BEGIN:VEVENT
DTSTART;TZID=America/Toronto:20250312T090000
DTEND;TZID=America/Toronto:20250312T100000
DTSTAMP:20260421T125132
CREATED:20240421T120545Z
LAST-MODIFIED:20240709T163127Z
UID:10003686-1741770000-1741773600@ccckl.ca
SUMMARY:Virtual Chair Yoga
DESCRIPTION:Offered in partnership with Brock CHC\, virtual chair yoga focuses on stretch and meditation practice to help calm the mind\, relax the body\, ease stiffness and discomfort\, improve balance\, strength and flexibility. This class at held at 21 Angeline St. N in-person as we follow along with a live virtual instructor. If you would like to join along at home\, a zoom link can be provided. \n\n\n\nEvery Wednesday from 9 – 10 am at 21 Angeline St. N in Lindsay  \n\n\n\nClick here to register.
URL:https://ccckl.ca/events/virtual-chair-yoga/2025-03-12/
LOCATION:Community Care City of Kawartha Lakes Community Health Centre\, 21 Angeline St. N\, Lindsay\, ON\, K9V 5B7\, Canada
END:VEVENT
BEGIN:VEVENT
DTSTART;TZID=America/Toronto:20250311T120000
DTEND;TZID=America/Toronto:20250311T140000
DTSTAMP:20260421T125132
CREATED:20240904T135216Z
LAST-MODIFIED:20250630T152344Z
UID:10003874-1741694400-1741701600@ccckl.ca
SUMMARY:Diners Club (Fenelon Falls)
DESCRIPTION:Join us for some great food in good company! \n\n\n\nPre-registration is required and doors open at noon. Please call us at 705-324-7323 ext. 654 to reserve your spot!
URL:https://ccckl.ca/events/diners-club-fenelon-falls/2025-03-11/
LOCATION:70 Murray St\, 70 Murray St\, Fenelon Falls\, Ontario\, K0M 1N0\, Canada
CATEGORIES:Diner's Club
END:VEVENT
BEGIN:VEVENT
DTSTART;TZID=America/Toronto:20250311T090000
DTEND;TZID=America/Toronto:20250311T100000
DTSTAMP:20260421T125132
CREATED:20240421T131608Z
LAST-MODIFIED:20240421T131637Z
UID:10003784-1741683600-1741687200@ccckl.ca
SUMMARY:Virtual Gentle Fit
DESCRIPTION:In partnership with Brock CHC\, this session aims to improve functional fitness through strength\, balance and cardio exercises. Classes are held virtually\, in your own space/home. Please contact us if you are interested in receiving the zoom link. \n\n\n\nEvery Tuesday from 9 – 10 am on Zoom. \n\n\n\nClick here to register.
URL:https://ccckl.ca/events/virtual-gentle-fit/2025-03-11/
LOCATION:Community Care City of Kawartha Lakes Community Health Centre\, 21 Angeline St. N\, Lindsay\, ON\, K9V 5B7\, Canada
END:VEVENT
BEGIN:VEVENT
DTSTART;TZID=America/Toronto:20250310T140000
DTEND;TZID=America/Toronto:20250310T150000
DTSTAMP:20260421T125132
CREATED:20240206T172252Z
LAST-MODIFIED:20240421T115207Z
UID:10003357-1741615200-1741618800@ccckl.ca
SUMMARY:Low Impact Exercise Class
DESCRIPTION:A new program led by a certified Seniors Fitness Instructor. Community-Based Exercise Classes focuses on cardio\, strength\, balance and flexibility. This program encourages participants to stay functionally fit longer\, increase physical activity levels and decrease their risk of falls. \n\n\n\nEvery Monday (except holidays) from 2 – 3 pm at 21 Angeline St. N in Lindsay  \n\n\n\nClick here to register.
URL:https://ccckl.ca/events/community-based-exercise-class-2/2025-03-10/
LOCATION:Community Care City of Kawartha Lakes Community Health Centre\, 21 Angeline St. N\, Lindsay\, ON\, K9V 5B7\, Canada
END:VEVENT
BEGIN:VEVENT
DTSTART;TZID=America/Toronto:20250310T093000
DTEND;TZID=America/Toronto:20250310T103000
DTSTAMP:20260421T125132
CREATED:20230810T154613Z
LAST-MODIFIED:20240421T115621Z
UID:10001753-1741599000-1741602600@ccckl.ca
SUMMARY:Burnt River SAGES
DESCRIPTION:Join us every Monday and Friday (except holidays) at 9:30 am at the Burnt River Community Centre for Gentle Exercise for Seniors. \n\n\n\nCost: $3 per session\, registration not required. First session is free! \n\n\n\nFor more information call 705-324-7323 ext. 165 or email wellness@ccckl.ca
URL:https://ccckl.ca/events/burnt-river-sages/2025-03-10/
LOCATION:Burnt River Somerville Centre\, 16 Somerville Centre Rd\, Burnt River\, Ontario\, K0M1C0\, Canada
CATEGORIES:SAGES
ATTACH;FMTTYPE=image/jpeg:https://ccckl.ca/wp-content/uploads/2023/03/Sages-logo-RGB.jpg
END:VEVENT
BEGIN:VEVENT
DTSTART;TZID=America/Toronto:20250307T093000
DTEND;TZID=America/Toronto:20250307T103000
DTSTAMP:20260421T125132
CREATED:20230810T154613Z
LAST-MODIFIED:20240421T115621Z
UID:10001752-1741339800-1741343400@ccckl.ca
SUMMARY:Burnt River SAGES
DESCRIPTION:Join us every Monday and Friday (except holidays) at 9:30 am at the Burnt River Community Centre for Gentle Exercise for Seniors. \n\n\n\nCost: $3 per session\, registration not required. First session is free! \n\n\n\nFor more information call 705-324-7323 ext. 165 or email wellness@ccckl.ca
URL:https://ccckl.ca/events/burnt-river-sages/2025-03-07/
LOCATION:Burnt River Somerville Centre\, 16 Somerville Centre Rd\, Burnt River\, Ontario\, K0M1C0\, Canada
CATEGORIES:SAGES
ATTACH;FMTTYPE=image/jpeg:https://ccckl.ca/wp-content/uploads/2023/03/Sages-logo-RGB.jpg
END:VEVENT
BEGIN:VEVENT
DTSTART;TZID=America/Toronto:20250306T120000
DTEND;TZID=America/Toronto:20250306T140000
DTSTAMP:20260421T125132
CREATED:20230810T133725Z
LAST-MODIFIED:20250630T152430Z
UID:10001273-1741262400-1741269600@ccckl.ca
SUMMARY:Diners Club (Bethany)
DESCRIPTION:Join us for some great food in good company! \n\n\n\nPre-registration is required and doors open at noon. Please call us at 705-324-7323 ext. 654 to reserve your spot!
URL:https://ccckl.ca/events/diners-club-bethany/2025-03-06/
LOCATION:Bethany United Church\, 3 George St\, Bethany\, Ontario\, L0A 1A0\, Canada
CATEGORIES:Diner's Club
END:VEVENT
BEGIN:VEVENT
DTSTART;TZID=America/Toronto:20250305T100000
DTEND;TZID=America/Toronto:20250305T110000
DTSTAMP:20260421T125132
CREATED:20240421T115857Z
LAST-MODIFIED:20240421T115858Z
UID:10003587-1741168800-1741172400@ccckl.ca
SUMMARY:Moderate Impact Exercise Class
DESCRIPTION:A new program led by a certified Seniors Fitness Instructor. Community-Based Exercise Classes focuses on cardio\, strength\, balance and flexibility. This program encourages participants to stay functionally fit longer\, increase physical activity levels and decrease their risk of falls. \n\n\n\nEvery Wednesday from 10:10 – 11 am at 21 Angeline St. N in Lindsay  \n\n\n\nClick here to register.
URL:https://ccckl.ca/events/low-impact-exercise-class-2/2025-03-05/
LOCATION:Community Care City of Kawartha Lakes Community Health Centre\, 21 Angeline St. N\, Lindsay\, ON\, K9V 5B7\, Canada
END:VEVENT
BEGIN:VEVENT
DTSTART;TZID=America/Toronto:20250305T090000
DTEND;TZID=America/Toronto:20250305T100000
DTSTAMP:20260421T125132
CREATED:20240421T120545Z
LAST-MODIFIED:20240709T163127Z
UID:10003685-1741165200-1741168800@ccckl.ca
SUMMARY:Virtual Chair Yoga
DESCRIPTION:Offered in partnership with Brock CHC\, virtual chair yoga focuses on stretch and meditation practice to help calm the mind\, relax the body\, ease stiffness and discomfort\, improve balance\, strength and flexibility. This class at held at 21 Angeline St. N in-person as we follow along with a live virtual instructor. If you would like to join along at home\, a zoom link can be provided. \n\n\n\nEvery Wednesday from 9 – 10 am at 21 Angeline St. N in Lindsay  \n\n\n\nClick here to register.
URL:https://ccckl.ca/events/virtual-chair-yoga/2025-03-05/
LOCATION:Community Care City of Kawartha Lakes Community Health Centre\, 21 Angeline St. N\, Lindsay\, ON\, K9V 5B7\, Canada
END:VEVENT
BEGIN:VEVENT
DTSTART;TZID=America/Toronto:20250304T120000
DTEND;TZID=America/Toronto:20250304T140000
DTSTAMP:20260421T125132
CREATED:20221026T143705Z
LAST-MODIFIED:20250630T152535Z
UID:10001490-1741089600-1741096800@ccckl.ca
SUMMARY:Diners Club (Lindsay)
DESCRIPTION:Join us for some great food in good company! \n\n\n\nPre-registration is required and doors open at noon. Please call us at 705-324-7323 ext. 654 to reserve your spot!
URL:https://ccckl.ca/events/diners-club-11/2025-03-04/
LOCATION:65 Melbourne St W\, 65 Melbourne St W\, Lindsay\, Ontario\, K9V 0G4\, Canada
CATEGORIES:Diner's Club
END:VEVENT
BEGIN:VEVENT
DTSTART;TZID=America/Toronto:20250304T090000
DTEND;TZID=America/Toronto:20250304T100000
DTSTAMP:20260421T125132
CREATED:20240421T131608Z
LAST-MODIFIED:20240421T131637Z
UID:10003783-1741078800-1741082400@ccckl.ca
SUMMARY:Virtual Gentle Fit
DESCRIPTION:In partnership with Brock CHC\, this session aims to improve functional fitness through strength\, balance and cardio exercises. Classes are held virtually\, in your own space/home. Please contact us if you are interested in receiving the zoom link. \n\n\n\nEvery Tuesday from 9 – 10 am on Zoom. \n\n\n\nClick here to register.
URL:https://ccckl.ca/events/virtual-gentle-fit/2025-03-04/
LOCATION:Community Care City of Kawartha Lakes Community Health Centre\, 21 Angeline St. N\, Lindsay\, ON\, K9V 5B7\, Canada
END:VEVENT
BEGIN:VEVENT
DTSTART;TZID=America/Toronto:20250303T140000
DTEND;TZID=America/Toronto:20250303T150000
DTSTAMP:20260421T125132
CREATED:20240206T172252Z
LAST-MODIFIED:20240421T115207Z
UID:10003356-1741010400-1741014000@ccckl.ca
SUMMARY:Low Impact Exercise Class
DESCRIPTION:A new program led by a certified Seniors Fitness Instructor. Community-Based Exercise Classes focuses on cardio\, strength\, balance and flexibility. This program encourages participants to stay functionally fit longer\, increase physical activity levels and decrease their risk of falls. \n\n\n\nEvery Monday (except holidays) from 2 – 3 pm at 21 Angeline St. N in Lindsay  \n\n\n\nClick here to register.
URL:https://ccckl.ca/events/community-based-exercise-class-2/2025-03-03/
LOCATION:Community Care City of Kawartha Lakes Community Health Centre\, 21 Angeline St. N\, Lindsay\, ON\, K9V 5B7\, Canada
END:VEVENT
BEGIN:VEVENT
DTSTART;TZID=America/Toronto:20250303T093000
DTEND;TZID=America/Toronto:20250303T103000
DTSTAMP:20260421T125132
CREATED:20230810T154613Z
LAST-MODIFIED:20240421T115621Z
UID:10001751-1740994200-1740997800@ccckl.ca
SUMMARY:Burnt River SAGES
DESCRIPTION:Join us every Monday and Friday (except holidays) at 9:30 am at the Burnt River Community Centre for Gentle Exercise for Seniors. \n\n\n\nCost: $3 per session\, registration not required. First session is free! \n\n\n\nFor more information call 705-324-7323 ext. 165 or email wellness@ccckl.ca
URL:https://ccckl.ca/events/burnt-river-sages/2025-03-03/
LOCATION:Burnt River Somerville Centre\, 16 Somerville Centre Rd\, Burnt River\, Ontario\, K0M1C0\, Canada
CATEGORIES:SAGES
ATTACH;FMTTYPE=image/jpeg:https://ccckl.ca/wp-content/uploads/2023/03/Sages-logo-RGB.jpg
END:VEVENT
BEGIN:VEVENT
DTSTART;TZID=America/Toronto:20250228T093000
DTEND;TZID=America/Toronto:20250228T103000
DTSTAMP:20260421T125132
CREATED:20230810T154613Z
LAST-MODIFIED:20240421T115621Z
UID:10001750-1740735000-1740738600@ccckl.ca
SUMMARY:Burnt River SAGES
DESCRIPTION:Join us every Monday and Friday (except holidays) at 9:30 am at the Burnt River Community Centre for Gentle Exercise for Seniors. \n\n\n\nCost: $3 per session\, registration not required. First session is free! \n\n\n\nFor more information call 705-324-7323 ext. 165 or email wellness@ccckl.ca
URL:https://ccckl.ca/events/burnt-river-sages/2025-02-28/
LOCATION:Burnt River Somerville Centre\, 16 Somerville Centre Rd\, Burnt River\, Ontario\, K0M1C0\, Canada
CATEGORIES:SAGES
ATTACH;FMTTYPE=image/jpeg:https://ccckl.ca/wp-content/uploads/2023/03/Sages-logo-RGB.jpg
END:VEVENT
BEGIN:VEVENT
DTSTART;TZID=America/Toronto:20250227T120000
DTEND;TZID=America/Toronto:20250227T140000
DTSTAMP:20260421T125132
CREATED:20230810T134223Z
LAST-MODIFIED:20250630T152407Z
UID:10001550-1740657600-1740664800@ccckl.ca
SUMMARY:Diners Club (Coboconk)
DESCRIPTION:Join us for some great food in good company! \n\n\n\nPre-registration is required and doors open at noon. Please call us at 705-324-7323 ext. 654 to reserve your spot!
URL:https://ccckl.ca/events/diners-club-coboconk/2025-02-27/
LOCATION:Coboconk Service Centre\, 9 Grandy Rd\, Coboconk\, Ontario\, Canada
CATEGORIES:Diner's Club
END:VEVENT
BEGIN:VEVENT
DTSTART;TZID=America/Toronto:20250226T100000
DTEND;TZID=America/Toronto:20250226T110000
DTSTAMP:20260421T125132
CREATED:20240421T115857Z
LAST-MODIFIED:20240421T115858Z
UID:10003586-1740564000-1740567600@ccckl.ca
SUMMARY:Moderate Impact Exercise Class
DESCRIPTION:A new program led by a certified Seniors Fitness Instructor. Community-Based Exercise Classes focuses on cardio\, strength\, balance and flexibility. This program encourages participants to stay functionally fit longer\, increase physical activity levels and decrease their risk of falls. \n\n\n\nEvery Wednesday from 10:10 – 11 am at 21 Angeline St. N in Lindsay  \n\n\n\nClick here to register.
URL:https://ccckl.ca/events/low-impact-exercise-class-2/2025-02-26/
LOCATION:Community Care City of Kawartha Lakes Community Health Centre\, 21 Angeline St. N\, Lindsay\, ON\, K9V 5B7\, Canada
END:VEVENT
BEGIN:VEVENT
DTSTART;TZID=America/Toronto:20250226T090000
DTEND;TZID=America/Toronto:20250226T100000
DTSTAMP:20260421T125132
CREATED:20240421T120545Z
LAST-MODIFIED:20240709T163127Z
UID:10003684-1740560400-1740564000@ccckl.ca
SUMMARY:Virtual Chair Yoga
DESCRIPTION:Offered in partnership with Brock CHC\, virtual chair yoga focuses on stretch and meditation practice to help calm the mind\, relax the body\, ease stiffness and discomfort\, improve balance\, strength and flexibility. This class at held at 21 Angeline St. N in-person as we follow along with a live virtual instructor. If you would like to join along at home\, a zoom link can be provided. \n\n\n\nEvery Wednesday from 9 – 10 am at 21 Angeline St. N in Lindsay  \n\n\n\nClick here to register.
URL:https://ccckl.ca/events/virtual-chair-yoga/2025-02-26/
LOCATION:Community Care City of Kawartha Lakes Community Health Centre\, 21 Angeline St. N\, Lindsay\, ON\, K9V 5B7\, Canada
END:VEVENT
BEGIN:VEVENT
DTSTART;TZID=America/Toronto:20250225T120000
DTEND;TZID=America/Toronto:20250225T140000
DTSTAMP:20260421T125132
CREATED:20221205T164816Z
LAST-MODIFIED:20250630T152521Z
UID:10001327-1740484800-1740492000@ccckl.ca
SUMMARY:Diners Club (Fenelon Falls)
DESCRIPTION:Join us for some great food in good company! \n\n\n\nPre-registration is required and doors open at noon. Please call us at 705-324-7323 ext. 654 to reserve your spot!
URL:https://ccckl.ca/events/diners-club-fenelon-falls-2/2025-02-25/
LOCATION:70 Murray St\, 70 Murray St\, Fenelon Falls\, Ontario\, K0M 1N0\, Canada
CATEGORIES:Diner's Club
END:VEVENT
BEGIN:VEVENT
DTSTART;TZID=America/Toronto:20250225T090000
DTEND;TZID=America/Toronto:20250225T100000
DTSTAMP:20260421T125132
CREATED:20240421T131608Z
LAST-MODIFIED:20240421T131637Z
UID:10003782-1740474000-1740477600@ccckl.ca
SUMMARY:Virtual Gentle Fit
DESCRIPTION:In partnership with Brock CHC\, this session aims to improve functional fitness through strength\, balance and cardio exercises. Classes are held virtually\, in your own space/home. Please contact us if you are interested in receiving the zoom link. \n\n\n\nEvery Tuesday from 9 – 10 am on Zoom. \n\n\n\nClick here to register.
URL:https://ccckl.ca/events/virtual-gentle-fit/2025-02-25/
LOCATION:Community Care City of Kawartha Lakes Community Health Centre\, 21 Angeline St. N\, Lindsay\, ON\, K9V 5B7\, Canada
END:VEVENT
BEGIN:VEVENT
DTSTART;TZID=America/Toronto:20250224T140000
DTEND;TZID=America/Toronto:20250224T150000
DTSTAMP:20260421T125132
CREATED:20240206T172252Z
LAST-MODIFIED:20240421T115207Z
UID:10003355-1740405600-1740409200@ccckl.ca
SUMMARY:Low Impact Exercise Class
DESCRIPTION:A new program led by a certified Seniors Fitness Instructor. Community-Based Exercise Classes focuses on cardio\, strength\, balance and flexibility. This program encourages participants to stay functionally fit longer\, increase physical activity levels and decrease their risk of falls. \n\n\n\nEvery Monday (except holidays) from 2 – 3 pm at 21 Angeline St. N in Lindsay  \n\n\n\nClick here to register.
URL:https://ccckl.ca/events/community-based-exercise-class-2/2025-02-24/
LOCATION:Community Care City of Kawartha Lakes Community Health Centre\, 21 Angeline St. N\, Lindsay\, ON\, K9V 5B7\, Canada
END:VEVENT
BEGIN:VEVENT
DTSTART;TZID=America/Toronto:20250224T093000
DTEND;TZID=America/Toronto:20250224T103000
DTSTAMP:20260421T125132
CREATED:20230810T154613Z
LAST-MODIFIED:20240421T115621Z
UID:10001749-1740389400-1740393000@ccckl.ca
SUMMARY:Burnt River SAGES
DESCRIPTION:Join us every Monday and Friday (except holidays) at 9:30 am at the Burnt River Community Centre for Gentle Exercise for Seniors. \n\n\n\nCost: $3 per session\, registration not required. First session is free! \n\n\n\nFor more information call 705-324-7323 ext. 165 or email wellness@ccckl.ca
URL:https://ccckl.ca/events/burnt-river-sages/2025-02-24/
LOCATION:Burnt River Somerville Centre\, 16 Somerville Centre Rd\, Burnt River\, Ontario\, K0M1C0\, Canada
CATEGORIES:SAGES
ATTACH;FMTTYPE=image/jpeg:https://ccckl.ca/wp-content/uploads/2023/03/Sages-logo-RGB.jpg
END:VEVENT
BEGIN:VEVENT
DTSTART;TZID=America/Toronto:20250221T093000
DTEND;TZID=America/Toronto:20250221T103000
DTSTAMP:20260421T125132
CREATED:20230810T154613Z
LAST-MODIFIED:20240421T115621Z
UID:10001748-1740130200-1740133800@ccckl.ca
SUMMARY:Burnt River SAGES
DESCRIPTION:Join us every Monday and Friday (except holidays) at 9:30 am at the Burnt River Community Centre for Gentle Exercise for Seniors. \n\n\n\nCost: $3 per session\, registration not required. First session is free! \n\n\n\nFor more information call 705-324-7323 ext. 165 or email wellness@ccckl.ca
URL:https://ccckl.ca/events/burnt-river-sages/2025-02-21/
LOCATION:Burnt River Somerville Centre\, 16 Somerville Centre Rd\, Burnt River\, Ontario\, K0M1C0\, Canada
CATEGORIES:SAGES
ATTACH;FMTTYPE=image/jpeg:https://ccckl.ca/wp-content/uploads/2023/03/Sages-logo-RGB.jpg
END:VEVENT
BEGIN:VEVENT
DTSTART;TZID=America/Toronto:20250220T120000
DTEND;TZID=America/Toronto:20250220T140000
DTSTAMP:20260421T125132
CREATED:20221205T171748Z
LAST-MODIFIED:20250630T152445Z
UID:10001435-1740052800-1740060000@ccckl.ca
SUMMARY:Diners Club (Burnt River)
DESCRIPTION:Join us for some great food in good company! \n\n\n\nPre-registration is required and doors open at noon. Please call us at 705-324-7323 ext. 654 to reserve your spot!
URL:https://ccckl.ca/events/diners-club-burnt-river/2025-02-20/
LOCATION:Burnt River Somerville Centre\, 16 Somerville Centre Rd\, Burnt River\, Ontario\, K0M1C0\, Canada
CATEGORIES:Diner's Club
END:VEVENT
BEGIN:VEVENT
DTSTART;TZID=America/Toronto:20250219T100000
DTEND;TZID=America/Toronto:20250219T110000
DTSTAMP:20260421T125132
CREATED:20240421T115857Z
LAST-MODIFIED:20240421T115858Z
UID:10003585-1739959200-1739962800@ccckl.ca
SUMMARY:Moderate Impact Exercise Class
DESCRIPTION:A new program led by a certified Seniors Fitness Instructor. Community-Based Exercise Classes focuses on cardio\, strength\, balance and flexibility. This program encourages participants to stay functionally fit longer\, increase physical activity levels and decrease their risk of falls. \n\n\n\nEvery Wednesday from 10:10 – 11 am at 21 Angeline St. N in Lindsay  \n\n\n\nClick here to register.
URL:https://ccckl.ca/events/low-impact-exercise-class-2/2025-02-19/
LOCATION:Community Care City of Kawartha Lakes Community Health Centre\, 21 Angeline St. N\, Lindsay\, ON\, K9V 5B7\, Canada
END:VEVENT
BEGIN:VEVENT
DTSTART;TZID=America/Toronto:20250219T090000
DTEND;TZID=America/Toronto:20250219T100000
DTSTAMP:20260421T125132
CREATED:20240421T120545Z
LAST-MODIFIED:20240709T163127Z
UID:10003683-1739955600-1739959200@ccckl.ca
SUMMARY:Virtual Chair Yoga
DESCRIPTION:Offered in partnership with Brock CHC\, virtual chair yoga focuses on stretch and meditation practice to help calm the mind\, relax the body\, ease stiffness and discomfort\, improve balance\, strength and flexibility. This class at held at 21 Angeline St. N in-person as we follow along with a live virtual instructor. If you would like to join along at home\, a zoom link can be provided. \n\n\n\nEvery Wednesday from 9 – 10 am at 21 Angeline St. N in Lindsay  \n\n\n\nClick here to register.
URL:https://ccckl.ca/events/virtual-chair-yoga/2025-02-19/
LOCATION:Community Care City of Kawartha Lakes Community Health Centre\, 21 Angeline St. N\, Lindsay\, ON\, K9V 5B7\, Canada
END:VEVENT
BEGIN:VEVENT
DTSTART;TZID=America/Toronto:20250218T133000
DTEND;TZID=America/Toronto:20250218T163000
DTSTAMP:20260421T125132
CREATED:20231130T200248Z
LAST-MODIFIED:20231130T200628Z
UID:10003167-1739885400-1739896200@ccckl.ca
SUMMARY:Good Food Box
DESCRIPTION:No garden? No problem! The Good Food Box program brings accessible\, affordable\, fresh and healthy food to the City of Kawartha Lakes. Anyone can purchase a Good Food Box\, with the season’s finest fresh fruits and vegetables from as many local growers as possible. \n\n\n\nA large box costs $20 and comes with healthy recipe ideas. \n\n\n\nCustomers pre-register by the second Tuesday of the month. \n\n\n\nPick up on the third Tuesday of the month at the Community Health Centre (21 Angeline St. Lindsay) between 1:30 and 4:30 p.m. \n\n\n\nTo register\, or for more information\, contact us at 705-324-7323 ext 165 or gfb@ccckl.ca.
URL:https://ccckl.ca/events/good-food-box-3/2025-02-18/
LOCATION:ON
END:VEVENT
BEGIN:VEVENT
DTSTART;TZID=America/Toronto:20250218T120000
DTEND;TZID=America/Toronto:20250218T140000
DTSTAMP:20260421T125132
CREATED:20221205T170845Z
LAST-MODIFIED:20250630T152507Z
UID:10001381-1739880000-1739887200@ccckl.ca
SUMMARY:Diners Club (Lindsay)
DESCRIPTION:Join us for some great food in good company! \n\n\n\nPre-registration is required and doors open at noon. Please call us at 705-324-7323 ext. 654 to reserve your spot!
URL:https://ccckl.ca/events/diners-club-lindsay/2025-02-18/
LOCATION:65 Melbourne St W\, 65 Melbourne St W\, Lindsay\, Ontario\, K9V 0G4\, Canada
CATEGORIES:Diner's Club
END:VEVENT
BEGIN:VEVENT
DTSTART;TZID=America/Toronto:20250218T090000
DTEND;TZID=America/Toronto:20250218T100000
DTSTAMP:20260421T125132
CREATED:20240421T131608Z
LAST-MODIFIED:20240421T131637Z
UID:10003781-1739869200-1739872800@ccckl.ca
SUMMARY:Virtual Gentle Fit
DESCRIPTION:In partnership with Brock CHC\, this session aims to improve functional fitness through strength\, balance and cardio exercises. Classes are held virtually\, in your own space/home. Please contact us if you are interested in receiving the zoom link. \n\n\n\nEvery Tuesday from 9 – 10 am on Zoom. \n\n\n\nClick here to register.
URL:https://ccckl.ca/events/virtual-gentle-fit/2025-02-18/
LOCATION:Community Care City of Kawartha Lakes Community Health Centre\, 21 Angeline St. N\, Lindsay\, ON\, K9V 5B7\, Canada
END:VEVENT
BEGIN:VEVENT
DTSTART;TZID=America/Toronto:20250217T140000
DTEND;TZID=America/Toronto:20250217T150000
DTSTAMP:20260421T125132
CREATED:20240206T172252Z
LAST-MODIFIED:20240421T115207Z
UID:10003354-1739800800-1739804400@ccckl.ca
SUMMARY:Low Impact Exercise Class
DESCRIPTION:A new program led by a certified Seniors Fitness Instructor. Community-Based Exercise Classes focuses on cardio\, strength\, balance and flexibility. This program encourages participants to stay functionally fit longer\, increase physical activity levels and decrease their risk of falls. \n\n\n\nEvery Monday (except holidays) from 2 – 3 pm at 21 Angeline St. N in Lindsay  \n\n\n\nClick here to register.
URL:https://ccckl.ca/events/community-based-exercise-class-2/2025-02-17/
LOCATION:Community Care City of Kawartha Lakes Community Health Centre\, 21 Angeline St. N\, Lindsay\, ON\, K9V 5B7\, Canada
END:VEVENT
BEGIN:VEVENT
DTSTART;TZID=America/Toronto:20250217T093000
DTEND;TZID=America/Toronto:20250217T103000
DTSTAMP:20260421T125132
CREATED:20230810T154613Z
LAST-MODIFIED:20240421T115621Z
UID:10001747-1739784600-1739788200@ccckl.ca
SUMMARY:Burnt River SAGES
DESCRIPTION:Join us every Monday and Friday (except holidays) at 9:30 am at the Burnt River Community Centre for Gentle Exercise for Seniors. \n\n\n\nCost: $3 per session\, registration not required. First session is free! \n\n\n\nFor more information call 705-324-7323 ext. 165 or email wellness@ccckl.ca
URL:https://ccckl.ca/events/burnt-river-sages/2025-02-17/
LOCATION:Burnt River Somerville Centre\, 16 Somerville Centre Rd\, Burnt River\, Ontario\, K0M1C0\, Canada
CATEGORIES:SAGES
ATTACH;FMTTYPE=image/jpeg:https://ccckl.ca/wp-content/uploads/2023/03/Sages-logo-RGB.jpg
END:VEVENT
END:VCALENDAR