BEGIN:VCALENDAR
VERSION:2.0
PRODID:-//Community Care City of Kawartha Lakes - ECPv6.15.13//NONSGML v1.0//EN
CALSCALE:GREGORIAN
METHOD:PUBLISH
X-WR-CALNAME:Community Care City of Kawartha Lakes
X-ORIGINAL-URL:https://ccckl.ca
X-WR-CALDESC:Events for Community Care City of Kawartha Lakes
REFRESH-INTERVAL;VALUE=DURATION:PT1H
X-Robots-Tag:noindex
X-PUBLISHED-TTL:PT1H
BEGIN:VTIMEZONE
TZID:America/Toronto
BEGIN:DAYLIGHT
TZOFFSETFROM:-0500
TZOFFSETTO:-0400
TZNAME:EDT
DTSTART:20230312T070000
END:DAYLIGHT
BEGIN:STANDARD
TZOFFSETFROM:-0400
TZOFFSETTO:-0500
TZNAME:EST
DTSTART:20231105T060000
END:STANDARD
BEGIN:DAYLIGHT
TZOFFSETFROM:-0500
TZOFFSETTO:-0400
TZNAME:EDT
DTSTART:20240310T070000
END:DAYLIGHT
BEGIN:STANDARD
TZOFFSETFROM:-0400
TZOFFSETTO:-0500
TZNAME:EST
DTSTART:20241103T060000
END:STANDARD
BEGIN:DAYLIGHT
TZOFFSETFROM:-0500
TZOFFSETTO:-0400
TZNAME:EDT
DTSTART:20250309T070000
END:DAYLIGHT
BEGIN:STANDARD
TZOFFSETFROM:-0400
TZOFFSETTO:-0500
TZNAME:EST
DTSTART:20251102T060000
END:STANDARD
END:VTIMEZONE
BEGIN:VEVENT
DTSTART;TZID=America/Toronto:20241125T093000
DTEND;TZID=America/Toronto:20241125T103000
DTSTAMP:20260422T042510
CREATED:20230810T154613Z
LAST-MODIFIED:20240421T115621Z
UID:10001723-1732527000-1732530600@ccckl.ca
SUMMARY:Burnt River SAGES
DESCRIPTION:Join us every Monday and Friday (except holidays) at 9:30 am at the Burnt River Community Centre for Gentle Exercise for Seniors. \n\n\n\nCost: $3 per session\, registration not required. First session is free! \n\n\n\nFor more information call 705-324-7323 ext. 165 or email wellness@ccckl.ca
URL:https://ccckl.ca/events/burnt-river-sages/2024-11-25/
LOCATION:Burnt River Somerville Centre\, 16 Somerville Centre Rd\, Burnt River\, Ontario\, K0M1C0\, Canada
CATEGORIES:SAGES
ATTACH;FMTTYPE=image/jpeg:https://ccckl.ca/wp-content/uploads/2023/03/Sages-logo-RGB.jpg
END:VEVENT
BEGIN:VEVENT
DTSTART;TZID=America/Toronto:20241122T093000
DTEND;TZID=America/Toronto:20241122T103000
DTSTAMP:20260422T042510
CREATED:20230810T154613Z
LAST-MODIFIED:20240421T115621Z
UID:10001722-1732267800-1732271400@ccckl.ca
SUMMARY:Burnt River SAGES
DESCRIPTION:Join us every Monday and Friday (except holidays) at 9:30 am at the Burnt River Community Centre for Gentle Exercise for Seniors. \n\n\n\nCost: $3 per session\, registration not required. First session is free! \n\n\n\nFor more information call 705-324-7323 ext. 165 or email wellness@ccckl.ca
URL:https://ccckl.ca/events/burnt-river-sages/2024-11-22/
LOCATION:Burnt River Somerville Centre\, 16 Somerville Centre Rd\, Burnt River\, Ontario\, K0M1C0\, Canada
CATEGORIES:SAGES
ATTACH;FMTTYPE=image/jpeg:https://ccckl.ca/wp-content/uploads/2023/03/Sages-logo-RGB.jpg
END:VEVENT
BEGIN:VEVENT
DTSTART;TZID=America/Toronto:20241121T190000
DTEND;TZID=America/Toronto:20241121T200000
DTSTAMP:20260422T042510
CREATED:20240910T172513Z
LAST-MODIFIED:20240916T165506Z
UID:10004077-1732215600-1732219200@ccckl.ca
SUMMARY:Hospice Memorial Service 2024
DESCRIPTION:Please join us to honour and remember your loved ones. \n\n\n\nAll are welcome to attend.  \n\n\n\nIf you would like your loved one’s name honoured during the service\, please email jcraig@ccckl.ca or share their name when you arrive at the Memorial Service.
URL:https://ccckl.ca/events/hospice-memorial-service-2024/
LOCATION:Mackey Celebrations\, 35 Lindsay St N\, Lindsay\, ON\, K9V 1T3\, Canada
ATTACH;FMTTYPE=image/png:https://ccckl.ca/wp-content/uploads/2024/09/Hospice-Memorial-Service-2024.png
END:VEVENT
BEGIN:VEVENT
DTSTART;TZID=America/Toronto:20241121T120000
DTEND;TZID=America/Toronto:20241121T140000
DTSTAMP:20260422T042510
CREATED:20221205T171748Z
LAST-MODIFIED:20250630T152445Z
UID:10001432-1732190400-1732197600@ccckl.ca
SUMMARY:Diners Club (Burnt River)
DESCRIPTION:Join us for some great food in good company! \n\n\n\nPre-registration is required and doors open at noon. Please call us at 705-324-7323 ext. 654 to reserve your spot!
URL:https://ccckl.ca/events/diners-club-burnt-river/2024-11-21/
LOCATION:Burnt River Somerville Centre\, 16 Somerville Centre Rd\, Burnt River\, Ontario\, K0M1C0\, Canada
CATEGORIES:Diner's Club
END:VEVENT
BEGIN:VEVENT
DTSTART;TZID=America/Toronto:20241120T100000
DTEND;TZID=America/Toronto:20241120T110000
DTSTAMP:20260422T042510
CREATED:20240421T115857Z
LAST-MODIFIED:20240421T115858Z
UID:10003572-1732096800-1732100400@ccckl.ca
SUMMARY:Moderate Impact Exercise Class
DESCRIPTION:A new program led by a certified Seniors Fitness Instructor. Community-Based Exercise Classes focuses on cardio\, strength\, balance and flexibility. This program encourages participants to stay functionally fit longer\, increase physical activity levels and decrease their risk of falls. \n\n\n\nEvery Wednesday from 10:10 – 11 am at 21 Angeline St. N in Lindsay  \n\n\n\nClick here to register.
URL:https://ccckl.ca/events/low-impact-exercise-class-2/2024-11-20/
LOCATION:Community Care City of Kawartha Lakes Community Health Centre\, 21 Angeline St. N\, Lindsay\, ON\, K9V 5B7\, Canada
END:VEVENT
BEGIN:VEVENT
DTSTART;TZID=America/Toronto:20241120T090000
DTEND;TZID=America/Toronto:20241120T100000
DTSTAMP:20260422T042510
CREATED:20240421T120545Z
LAST-MODIFIED:20240709T163127Z
UID:10003670-1732093200-1732096800@ccckl.ca
SUMMARY:Virtual Chair Yoga
DESCRIPTION:Offered in partnership with Brock CHC\, virtual chair yoga focuses on stretch and meditation practice to help calm the mind\, relax the body\, ease stiffness and discomfort\, improve balance\, strength and flexibility. This class at held at 21 Angeline St. N in-person as we follow along with a live virtual instructor. If you would like to join along at home\, a zoom link can be provided. \n\n\n\nEvery Wednesday from 9 – 10 am at 21 Angeline St. N in Lindsay  \n\n\n\nClick here to register.
URL:https://ccckl.ca/events/virtual-chair-yoga/2024-11-20/
LOCATION:Community Care City of Kawartha Lakes Community Health Centre\, 21 Angeline St. N\, Lindsay\, ON\, K9V 5B7\, Canada
END:VEVENT
BEGIN:VEVENT
DTSTART;TZID=America/Toronto:20241119T133000
DTEND;TZID=America/Toronto:20241119T163000
DTSTAMP:20260422T042510
CREATED:20231130T200248Z
LAST-MODIFIED:20231130T200628Z
UID:10003164-1732023000-1732033800@ccckl.ca
SUMMARY:Good Food Box
DESCRIPTION:No garden? No problem! The Good Food Box program brings accessible\, affordable\, fresh and healthy food to the City of Kawartha Lakes. Anyone can purchase a Good Food Box\, with the season’s finest fresh fruits and vegetables from as many local growers as possible. \n\n\n\nA large box costs $20 and comes with healthy recipe ideas. \n\n\n\nCustomers pre-register by the second Tuesday of the month. \n\n\n\nPick up on the third Tuesday of the month at the Community Health Centre (21 Angeline St. Lindsay) between 1:30 and 4:30 p.m. \n\n\n\nTo register\, or for more information\, contact us at 705-324-7323 ext 165 or gfb@ccckl.ca.
URL:https://ccckl.ca/events/good-food-box-3/2024-11-19/
LOCATION:ON
END:VEVENT
BEGIN:VEVENT
DTSTART;TZID=America/Toronto:20241119T120000
DTEND;TZID=America/Toronto:20241119T140000
DTSTAMP:20260422T042510
CREATED:20221205T170845Z
LAST-MODIFIED:20250630T152507Z
UID:10001378-1732017600-1732024800@ccckl.ca
SUMMARY:Diners Club (Lindsay)
DESCRIPTION:Join us for some great food in good company! \n\n\n\nPre-registration is required and doors open at noon. Please call us at 705-324-7323 ext. 654 to reserve your spot!
URL:https://ccckl.ca/events/diners-club-lindsay/2024-11-19/
LOCATION:65 Melbourne St W\, 65 Melbourne St W\, Lindsay\, Ontario\, K9V 0G4\, Canada
CATEGORIES:Diner's Club
END:VEVENT
BEGIN:VEVENT
DTSTART;TZID=America/Toronto:20241119T090000
DTEND;TZID=America/Toronto:20241119T100000
DTSTAMP:20260422T042510
CREATED:20240421T131608Z
LAST-MODIFIED:20240421T131637Z
UID:10003768-1732006800-1732010400@ccckl.ca
SUMMARY:Virtual Gentle Fit
DESCRIPTION:In partnership with Brock CHC\, this session aims to improve functional fitness through strength\, balance and cardio exercises. Classes are held virtually\, in your own space/home. Please contact us if you are interested in receiving the zoom link. \n\n\n\nEvery Tuesday from 9 – 10 am on Zoom. \n\n\n\nClick here to register.
URL:https://ccckl.ca/events/virtual-gentle-fit/2024-11-19/
LOCATION:Community Care City of Kawartha Lakes Community Health Centre\, 21 Angeline St. N\, Lindsay\, ON\, K9V 5B7\, Canada
END:VEVENT
BEGIN:VEVENT
DTSTART;TZID=America/Toronto:20241118T140000
DTEND;TZID=America/Toronto:20241118T150000
DTSTAMP:20260422T042510
CREATED:20240206T172252Z
LAST-MODIFIED:20240421T115207Z
UID:10003342-1731938400-1731942000@ccckl.ca
SUMMARY:Low Impact Exercise Class
DESCRIPTION:A new program led by a certified Seniors Fitness Instructor. Community-Based Exercise Classes focuses on cardio\, strength\, balance and flexibility. This program encourages participants to stay functionally fit longer\, increase physical activity levels and decrease their risk of falls. \n\n\n\nEvery Monday (except holidays) from 2 – 3 pm at 21 Angeline St. N in Lindsay  \n\n\n\nClick here to register.
URL:https://ccckl.ca/events/community-based-exercise-class-2/2024-11-18/
LOCATION:Community Care City of Kawartha Lakes Community Health Centre\, 21 Angeline St. N\, Lindsay\, ON\, K9V 5B7\, Canada
END:VEVENT
BEGIN:VEVENT
DTSTART;TZID=America/Toronto:20241118T093000
DTEND;TZID=America/Toronto:20241118T103000
DTSTAMP:20260422T042510
CREATED:20230810T154613Z
LAST-MODIFIED:20240421T115621Z
UID:10001721-1731922200-1731925800@ccckl.ca
SUMMARY:Burnt River SAGES
DESCRIPTION:Join us every Monday and Friday (except holidays) at 9:30 am at the Burnt River Community Centre for Gentle Exercise for Seniors. \n\n\n\nCost: $3 per session\, registration not required. First session is free! \n\n\n\nFor more information call 705-324-7323 ext. 165 or email wellness@ccckl.ca
URL:https://ccckl.ca/events/burnt-river-sages/2024-11-18/
LOCATION:Burnt River Somerville Centre\, 16 Somerville Centre Rd\, Burnt River\, Ontario\, K0M1C0\, Canada
CATEGORIES:SAGES
ATTACH;FMTTYPE=image/jpeg:https://ccckl.ca/wp-content/uploads/2023/03/Sages-logo-RGB.jpg
END:VEVENT
BEGIN:VEVENT
DTSTART;TZID=America/Toronto:20241115T093000
DTEND;TZID=America/Toronto:20241115T103000
DTSTAMP:20260422T042510
CREATED:20230810T154613Z
LAST-MODIFIED:20240421T115621Z
UID:10001720-1731663000-1731666600@ccckl.ca
SUMMARY:Burnt River SAGES
DESCRIPTION:Join us every Monday and Friday (except holidays) at 9:30 am at the Burnt River Community Centre for Gentle Exercise for Seniors. \n\n\n\nCost: $3 per session\, registration not required. First session is free! \n\n\n\nFor more information call 705-324-7323 ext. 165 or email wellness@ccckl.ca
URL:https://ccckl.ca/events/burnt-river-sages/2024-11-15/
LOCATION:Burnt River Somerville Centre\, 16 Somerville Centre Rd\, Burnt River\, Ontario\, K0M1C0\, Canada
CATEGORIES:SAGES
ATTACH;FMTTYPE=image/jpeg:https://ccckl.ca/wp-content/uploads/2023/03/Sages-logo-RGB.jpg
END:VEVENT
BEGIN:VEVENT
DTSTART;TZID=America/Toronto:20241114T120000
DTEND;TZID=America/Toronto:20241114T140000
DTSTAMP:20260422T042510
CREATED:20240904T135811Z
LAST-MODIFIED:20240904T135812Z
UID:10004019-1731585600-1731592800@ccckl.ca
SUMMARY:Diners Club (Bobcaygeon)
DESCRIPTION:Join us for some great food in good company! \n\n\n\nPre-registration is required and doors open at noon. Please call us at 705-324-7323 ext. 654 to reserve your spot!
URL:https://ccckl.ca/events/diners-club-bobcaygeon/2024-11-14/
LOCATION:Trinity United Church\, 44 William St\, Bobcaygeon\, Ontario\, K0M 1A0\, Canada
CATEGORIES:Diner's Club
END:VEVENT
BEGIN:VEVENT
DTSTART;TZID=America/Toronto:20241113T100000
DTEND;TZID=America/Toronto:20241113T110000
DTSTAMP:20260422T042510
CREATED:20240421T115857Z
LAST-MODIFIED:20240421T115858Z
UID:10003571-1731492000-1731495600@ccckl.ca
SUMMARY:Moderate Impact Exercise Class
DESCRIPTION:A new program led by a certified Seniors Fitness Instructor. Community-Based Exercise Classes focuses on cardio\, strength\, balance and flexibility. This program encourages participants to stay functionally fit longer\, increase physical activity levels and decrease their risk of falls. \n\n\n\nEvery Wednesday from 10:10 – 11 am at 21 Angeline St. N in Lindsay  \n\n\n\nClick here to register.
URL:https://ccckl.ca/events/low-impact-exercise-class-2/2024-11-13/
LOCATION:Community Care City of Kawartha Lakes Community Health Centre\, 21 Angeline St. N\, Lindsay\, ON\, K9V 5B7\, Canada
END:VEVENT
BEGIN:VEVENT
DTSTART;TZID=America/Toronto:20241113T090000
DTEND;TZID=America/Toronto:20241113T100000
DTSTAMP:20260422T042510
CREATED:20240421T120545Z
LAST-MODIFIED:20240709T163127Z
UID:10003669-1731488400-1731492000@ccckl.ca
SUMMARY:Virtual Chair Yoga
DESCRIPTION:Offered in partnership with Brock CHC\, virtual chair yoga focuses on stretch and meditation practice to help calm the mind\, relax the body\, ease stiffness and discomfort\, improve balance\, strength and flexibility. This class at held at 21 Angeline St. N in-person as we follow along with a live virtual instructor. If you would like to join along at home\, a zoom link can be provided. \n\n\n\nEvery Wednesday from 9 – 10 am at 21 Angeline St. N in Lindsay  \n\n\n\nClick here to register.
URL:https://ccckl.ca/events/virtual-chair-yoga/2024-11-13/
LOCATION:Community Care City of Kawartha Lakes Community Health Centre\, 21 Angeline St. N\, Lindsay\, ON\, K9V 5B7\, Canada
END:VEVENT
BEGIN:VEVENT
DTSTART;TZID=America/Toronto:20241112T120000
DTEND;TZID=America/Toronto:20241112T140000
DTSTAMP:20260422T042510
CREATED:20240904T135216Z
LAST-MODIFIED:20250630T152344Z
UID:10003870-1731412800-1731420000@ccckl.ca
SUMMARY:Diners Club (Fenelon Falls)
DESCRIPTION:Join us for some great food in good company! \n\n\n\nPre-registration is required and doors open at noon. Please call us at 705-324-7323 ext. 654 to reserve your spot!
URL:https://ccckl.ca/events/diners-club-fenelon-falls/2024-11-12/
LOCATION:70 Murray St\, 70 Murray St\, Fenelon Falls\, Ontario\, K0M 1N0\, Canada
CATEGORIES:Diner's Club
END:VEVENT
BEGIN:VEVENT
DTSTART;TZID=America/Toronto:20241112T090000
DTEND;TZID=America/Toronto:20241112T100000
DTSTAMP:20260422T042510
CREATED:20240421T131608Z
LAST-MODIFIED:20240421T131637Z
UID:10003767-1731402000-1731405600@ccckl.ca
SUMMARY:Virtual Gentle Fit
DESCRIPTION:In partnership with Brock CHC\, this session aims to improve functional fitness through strength\, balance and cardio exercises. Classes are held virtually\, in your own space/home. Please contact us if you are interested in receiving the zoom link. \n\n\n\nEvery Tuesday from 9 – 10 am on Zoom. \n\n\n\nClick here to register.
URL:https://ccckl.ca/events/virtual-gentle-fit/2024-11-12/
LOCATION:Community Care City of Kawartha Lakes Community Health Centre\, 21 Angeline St. N\, Lindsay\, ON\, K9V 5B7\, Canada
END:VEVENT
BEGIN:VEVENT
DTSTART;TZID=America/Toronto:20241111T140000
DTEND;TZID=America/Toronto:20241111T150000
DTSTAMP:20260422T042510
CREATED:20240206T172252Z
LAST-MODIFIED:20240421T115207Z
UID:10003341-1731333600-1731337200@ccckl.ca
SUMMARY:Low Impact Exercise Class
DESCRIPTION:A new program led by a certified Seniors Fitness Instructor. Community-Based Exercise Classes focuses on cardio\, strength\, balance and flexibility. This program encourages participants to stay functionally fit longer\, increase physical activity levels and decrease their risk of falls. \n\n\n\nEvery Monday (except holidays) from 2 – 3 pm at 21 Angeline St. N in Lindsay  \n\n\n\nClick here to register.
URL:https://ccckl.ca/events/community-based-exercise-class-2/2024-11-11/
LOCATION:Community Care City of Kawartha Lakes Community Health Centre\, 21 Angeline St. N\, Lindsay\, ON\, K9V 5B7\, Canada
END:VEVENT
BEGIN:VEVENT
DTSTART;TZID=America/Toronto:20241111T093000
DTEND;TZID=America/Toronto:20241111T103000
DTSTAMP:20260422T042510
CREATED:20230810T154613Z
LAST-MODIFIED:20240421T115621Z
UID:10001719-1731317400-1731321000@ccckl.ca
SUMMARY:Burnt River SAGES
DESCRIPTION:Join us every Monday and Friday (except holidays) at 9:30 am at the Burnt River Community Centre for Gentle Exercise for Seniors. \n\n\n\nCost: $3 per session\, registration not required. First session is free! \n\n\n\nFor more information call 705-324-7323 ext. 165 or email wellness@ccckl.ca
URL:https://ccckl.ca/events/burnt-river-sages/2024-11-11/
LOCATION:Burnt River Somerville Centre\, 16 Somerville Centre Rd\, Burnt River\, Ontario\, K0M1C0\, Canada
CATEGORIES:SAGES
ATTACH;FMTTYPE=image/jpeg:https://ccckl.ca/wp-content/uploads/2023/03/Sages-logo-RGB.jpg
END:VEVENT
BEGIN:VEVENT
DTSTART;TZID=America/Toronto:20241108T093000
DTEND;TZID=America/Toronto:20241108T103000
DTSTAMP:20260422T042510
CREATED:20230810T154613Z
LAST-MODIFIED:20240421T115621Z
UID:10001718-1731058200-1731061800@ccckl.ca
SUMMARY:Burnt River SAGES
DESCRIPTION:Join us every Monday and Friday (except holidays) at 9:30 am at the Burnt River Community Centre for Gentle Exercise for Seniors. \n\n\n\nCost: $3 per session\, registration not required. First session is free! \n\n\n\nFor more information call 705-324-7323 ext. 165 or email wellness@ccckl.ca
URL:https://ccckl.ca/events/burnt-river-sages/2024-11-08/
LOCATION:Burnt River Somerville Centre\, 16 Somerville Centre Rd\, Burnt River\, Ontario\, K0M1C0\, Canada
CATEGORIES:SAGES
ATTACH;FMTTYPE=image/jpeg:https://ccckl.ca/wp-content/uploads/2023/03/Sages-logo-RGB.jpg
END:VEVENT
BEGIN:VEVENT
DTSTART;TZID=America/Toronto:20241107T120000
DTEND;TZID=America/Toronto:20241107T140000
DTSTAMP:20260422T042510
CREATED:20230810T133725Z
LAST-MODIFIED:20250630T152430Z
UID:10001269-1730980800-1730988000@ccckl.ca
SUMMARY:Diners Club (Bethany)
DESCRIPTION:Join us for some great food in good company! \n\n\n\nPre-registration is required and doors open at noon. Please call us at 705-324-7323 ext. 654 to reserve your spot!
URL:https://ccckl.ca/events/diners-club-bethany/2024-11-07/
LOCATION:Bethany United Church\, 3 George St\, Bethany\, Ontario\, L0A 1A0\, Canada
CATEGORIES:Diner's Club
END:VEVENT
BEGIN:VEVENT
DTSTART;TZID=America/Toronto:20241106T100000
DTEND;TZID=America/Toronto:20241106T110000
DTSTAMP:20260422T042510
CREATED:20240421T115857Z
LAST-MODIFIED:20240421T115858Z
UID:10003570-1730887200-1730890800@ccckl.ca
SUMMARY:Moderate Impact Exercise Class
DESCRIPTION:A new program led by a certified Seniors Fitness Instructor. Community-Based Exercise Classes focuses on cardio\, strength\, balance and flexibility. This program encourages participants to stay functionally fit longer\, increase physical activity levels and decrease their risk of falls. \n\n\n\nEvery Wednesday from 10:10 – 11 am at 21 Angeline St. N in Lindsay  \n\n\n\nClick here to register.
URL:https://ccckl.ca/events/low-impact-exercise-class-2/2024-11-06/
LOCATION:Community Care City of Kawartha Lakes Community Health Centre\, 21 Angeline St. N\, Lindsay\, ON\, K9V 5B7\, Canada
END:VEVENT
BEGIN:VEVENT
DTSTART;TZID=America/Toronto:20241106T090000
DTEND;TZID=America/Toronto:20241106T100000
DTSTAMP:20260422T042510
CREATED:20240421T120545Z
LAST-MODIFIED:20240709T163127Z
UID:10003668-1730883600-1730887200@ccckl.ca
SUMMARY:Virtual Chair Yoga
DESCRIPTION:Offered in partnership with Brock CHC\, virtual chair yoga focuses on stretch and meditation practice to help calm the mind\, relax the body\, ease stiffness and discomfort\, improve balance\, strength and flexibility. This class at held at 21 Angeline St. N in-person as we follow along with a live virtual instructor. If you would like to join along at home\, a zoom link can be provided. \n\n\n\nEvery Wednesday from 9 – 10 am at 21 Angeline St. N in Lindsay  \n\n\n\nClick here to register.
URL:https://ccckl.ca/events/virtual-chair-yoga/2024-11-06/
LOCATION:Community Care City of Kawartha Lakes Community Health Centre\, 21 Angeline St. N\, Lindsay\, ON\, K9V 5B7\, Canada
END:VEVENT
BEGIN:VEVENT
DTSTART;TZID=America/Toronto:20241105T120000
DTEND;TZID=America/Toronto:20241105T140000
DTSTAMP:20260422T042510
CREATED:20221026T143705Z
LAST-MODIFIED:20250630T152535Z
UID:10001486-1730808000-1730815200@ccckl.ca
SUMMARY:Diners Club (Lindsay)
DESCRIPTION:Join us for some great food in good company! \n\n\n\nPre-registration is required and doors open at noon. Please call us at 705-324-7323 ext. 654 to reserve your spot!
URL:https://ccckl.ca/events/diners-club-11/2024-11-05/
LOCATION:65 Melbourne St W\, 65 Melbourne St W\, Lindsay\, Ontario\, K9V 0G4\, Canada
CATEGORIES:Diner's Club
END:VEVENT
BEGIN:VEVENT
DTSTART;TZID=America/Toronto:20241105T090000
DTEND;TZID=America/Toronto:20241105T100000
DTSTAMP:20260422T042510
CREATED:20240421T131608Z
LAST-MODIFIED:20240421T131637Z
UID:10003766-1730797200-1730800800@ccckl.ca
SUMMARY:Virtual Gentle Fit
DESCRIPTION:In partnership with Brock CHC\, this session aims to improve functional fitness through strength\, balance and cardio exercises. Classes are held virtually\, in your own space/home. Please contact us if you are interested in receiving the zoom link. \n\n\n\nEvery Tuesday from 9 – 10 am on Zoom. \n\n\n\nClick here to register.
URL:https://ccckl.ca/events/virtual-gentle-fit/2024-11-05/
LOCATION:Community Care City of Kawartha Lakes Community Health Centre\, 21 Angeline St. N\, Lindsay\, ON\, K9V 5B7\, Canada
END:VEVENT
BEGIN:VEVENT
DTSTART;TZID=America/Toronto:20241104T140000
DTEND;TZID=America/Toronto:20241104T150000
DTSTAMP:20260422T042510
CREATED:20240206T172252Z
LAST-MODIFIED:20240421T115207Z
UID:10003340-1730728800-1730732400@ccckl.ca
SUMMARY:Low Impact Exercise Class
DESCRIPTION:A new program led by a certified Seniors Fitness Instructor. Community-Based Exercise Classes focuses on cardio\, strength\, balance and flexibility. This program encourages participants to stay functionally fit longer\, increase physical activity levels and decrease their risk of falls. \n\n\n\nEvery Monday (except holidays) from 2 – 3 pm at 21 Angeline St. N in Lindsay  \n\n\n\nClick here to register.
URL:https://ccckl.ca/events/community-based-exercise-class-2/2024-11-04/
LOCATION:Community Care City of Kawartha Lakes Community Health Centre\, 21 Angeline St. N\, Lindsay\, ON\, K9V 5B7\, Canada
END:VEVENT
BEGIN:VEVENT
DTSTART;TZID=America/Toronto:20241104T093000
DTEND;TZID=America/Toronto:20241104T103000
DTSTAMP:20260422T042510
CREATED:20230810T154613Z
LAST-MODIFIED:20240421T115621Z
UID:10001717-1730712600-1730716200@ccckl.ca
SUMMARY:Burnt River SAGES
DESCRIPTION:Join us every Monday and Friday (except holidays) at 9:30 am at the Burnt River Community Centre for Gentle Exercise for Seniors. \n\n\n\nCost: $3 per session\, registration not required. First session is free! \n\n\n\nFor more information call 705-324-7323 ext. 165 or email wellness@ccckl.ca
URL:https://ccckl.ca/events/burnt-river-sages/2024-11-04/
LOCATION:Burnt River Somerville Centre\, 16 Somerville Centre Rd\, Burnt River\, Ontario\, K0M1C0\, Canada
CATEGORIES:SAGES
ATTACH;FMTTYPE=image/jpeg:https://ccckl.ca/wp-content/uploads/2023/03/Sages-logo-RGB.jpg
END:VEVENT
BEGIN:VEVENT
DTSTART;TZID=America/Toronto:20241101T093000
DTEND;TZID=America/Toronto:20241101T103000
DTSTAMP:20260422T042510
CREATED:20230810T154613Z
LAST-MODIFIED:20240421T115621Z
UID:10001716-1730453400-1730457000@ccckl.ca
SUMMARY:Burnt River SAGES
DESCRIPTION:Join us every Monday and Friday (except holidays) at 9:30 am at the Burnt River Community Centre for Gentle Exercise for Seniors. \n\n\n\nCost: $3 per session\, registration not required. First session is free! \n\n\n\nFor more information call 705-324-7323 ext. 165 or email wellness@ccckl.ca
URL:https://ccckl.ca/events/burnt-river-sages/2024-11-01/
LOCATION:Burnt River Somerville Centre\, 16 Somerville Centre Rd\, Burnt River\, Ontario\, K0M1C0\, Canada
CATEGORIES:SAGES
ATTACH;FMTTYPE=image/jpeg:https://ccckl.ca/wp-content/uploads/2023/03/Sages-logo-RGB.jpg
END:VEVENT
BEGIN:VEVENT
DTSTART;TZID=America/Toronto:20241030T100000
DTEND;TZID=America/Toronto:20241030T110000
DTSTAMP:20260422T042510
CREATED:20240421T115857Z
LAST-MODIFIED:20240421T115858Z
UID:10003569-1730282400-1730286000@ccckl.ca
SUMMARY:Moderate Impact Exercise Class
DESCRIPTION:A new program led by a certified Seniors Fitness Instructor. Community-Based Exercise Classes focuses on cardio\, strength\, balance and flexibility. This program encourages participants to stay functionally fit longer\, increase physical activity levels and decrease their risk of falls. \n\n\n\nEvery Wednesday from 10:10 – 11 am at 21 Angeline St. N in Lindsay  \n\n\n\nClick here to register.
URL:https://ccckl.ca/events/low-impact-exercise-class-2/2024-10-30/
LOCATION:Community Care City of Kawartha Lakes Community Health Centre\, 21 Angeline St. N\, Lindsay\, ON\, K9V 5B7\, Canada
END:VEVENT
BEGIN:VEVENT
DTSTART;TZID=America/Toronto:20241030T090000
DTEND;TZID=America/Toronto:20241030T100000
DTSTAMP:20260422T042510
CREATED:20240421T120545Z
LAST-MODIFIED:20240709T163127Z
UID:10003667-1730278800-1730282400@ccckl.ca
SUMMARY:Virtual Chair Yoga
DESCRIPTION:Offered in partnership with Brock CHC\, virtual chair yoga focuses on stretch and meditation practice to help calm the mind\, relax the body\, ease stiffness and discomfort\, improve balance\, strength and flexibility. This class at held at 21 Angeline St. N in-person as we follow along with a live virtual instructor. If you would like to join along at home\, a zoom link can be provided. \n\n\n\nEvery Wednesday from 9 – 10 am at 21 Angeline St. N in Lindsay  \n\n\n\nClick here to register.
URL:https://ccckl.ca/events/virtual-chair-yoga/2024-10-30/
LOCATION:Community Care City of Kawartha Lakes Community Health Centre\, 21 Angeline St. N\, Lindsay\, ON\, K9V 5B7\, Canada
END:VEVENT
END:VCALENDAR