BEGIN:VCALENDAR
VERSION:2.0
PRODID:-//Community Care City of Kawartha Lakes - ECPv6.15.13//NONSGML v1.0//EN
CALSCALE:GREGORIAN
METHOD:PUBLISH
X-ORIGINAL-URL:https://ccckl.ca
X-WR-CALDESC:Events for Community Care City of Kawartha Lakes
REFRESH-INTERVAL;VALUE=DURATION:PT1H
X-Robots-Tag:noindex
X-PUBLISHED-TTL:PT1H
BEGIN:VTIMEZONE
TZID:America/Toronto
BEGIN:DAYLIGHT
TZOFFSETFROM:-0500
TZOFFSETTO:-0400
TZNAME:EDT
DTSTART:20230312T070000
END:DAYLIGHT
BEGIN:STANDARD
TZOFFSETFROM:-0400
TZOFFSETTO:-0500
TZNAME:EST
DTSTART:20231105T060000
END:STANDARD
BEGIN:DAYLIGHT
TZOFFSETFROM:-0500
TZOFFSETTO:-0400
TZNAME:EDT
DTSTART:20240310T070000
END:DAYLIGHT
BEGIN:STANDARD
TZOFFSETFROM:-0400
TZOFFSETTO:-0500
TZNAME:EST
DTSTART:20241103T060000
END:STANDARD
BEGIN:DAYLIGHT
TZOFFSETFROM:-0500
TZOFFSETTO:-0400
TZNAME:EDT
DTSTART:20250309T070000
END:DAYLIGHT
BEGIN:STANDARD
TZOFFSETFROM:-0400
TZOFFSETTO:-0500
TZNAME:EST
DTSTART:20251102T060000
END:STANDARD
END:VTIMEZONE
BEGIN:VEVENT
DTSTART;TZID=America/Toronto:20241105T090000
DTEND;TZID=America/Toronto:20241105T100000
DTSTAMP:20260422T072228
CREATED:20240421T131608Z
LAST-MODIFIED:20240421T131637Z
UID:10003766-1730797200-1730800800@ccckl.ca
SUMMARY:Virtual Gentle Fit
DESCRIPTION:In partnership with Brock CHC\, this session aims to improve functional fitness through strength\, balance and cardio exercises. Classes are held virtually\, in your own space/home. Please contact us if you are interested in receiving the zoom link. \n\n\n\nEvery Tuesday from 9 – 10 am on Zoom. \n\n\n\nClick here to register.
URL:https://ccckl.ca/events/virtual-gentle-fit/2024-11-05/
LOCATION:Community Care City of Kawartha Lakes Community Health Centre\, 21 Angeline St. N\, Lindsay\, ON\, K9V 5B7\, Canada
END:VEVENT
BEGIN:VEVENT
DTSTART;TZID=America/Toronto:20241104T140000
DTEND;TZID=America/Toronto:20241104T150000
DTSTAMP:20260422T072228
CREATED:20240206T172252Z
LAST-MODIFIED:20240421T115207Z
UID:10003340-1730728800-1730732400@ccckl.ca
SUMMARY:Low Impact Exercise Class
DESCRIPTION:A new program led by a certified Seniors Fitness Instructor. Community-Based Exercise Classes focuses on cardio\, strength\, balance and flexibility. This program encourages participants to stay functionally fit longer\, increase physical activity levels and decrease their risk of falls. \n\n\n\nEvery Monday (except holidays) from 2 – 3 pm at 21 Angeline St. N in Lindsay  \n\n\n\nClick here to register.
URL:https://ccckl.ca/events/community-based-exercise-class-2/2024-11-04/
LOCATION:Community Care City of Kawartha Lakes Community Health Centre\, 21 Angeline St. N\, Lindsay\, ON\, K9V 5B7\, Canada
END:VEVENT
BEGIN:VEVENT
DTSTART;TZID=America/Toronto:20241104T093000
DTEND;TZID=America/Toronto:20241104T103000
DTSTAMP:20260422T072228
CREATED:20230810T154613Z
LAST-MODIFIED:20240421T115621Z
UID:10001717-1730712600-1730716200@ccckl.ca
SUMMARY:Burnt River SAGES
DESCRIPTION:Join us every Monday and Friday (except holidays) at 9:30 am at the Burnt River Community Centre for Gentle Exercise for Seniors. \n\n\n\nCost: $3 per session\, registration not required. First session is free! \n\n\n\nFor more information call 705-324-7323 ext. 165 or email wellness@ccckl.ca
URL:https://ccckl.ca/events/burnt-river-sages/2024-11-04/
LOCATION:Burnt River Somerville Centre\, 16 Somerville Centre Rd\, Burnt River\, Ontario\, K0M1C0\, Canada
CATEGORIES:SAGES
ATTACH;FMTTYPE=image/jpeg:https://ccckl.ca/wp-content/uploads/2023/03/Sages-logo-RGB.jpg
END:VEVENT
BEGIN:VEVENT
DTSTART;TZID=America/Toronto:20241101T093000
DTEND;TZID=America/Toronto:20241101T103000
DTSTAMP:20260422T072228
CREATED:20230810T154613Z
LAST-MODIFIED:20240421T115621Z
UID:10001716-1730453400-1730457000@ccckl.ca
SUMMARY:Burnt River SAGES
DESCRIPTION:Join us every Monday and Friday (except holidays) at 9:30 am at the Burnt River Community Centre for Gentle Exercise for Seniors. \n\n\n\nCost: $3 per session\, registration not required. First session is free! \n\n\n\nFor more information call 705-324-7323 ext. 165 or email wellness@ccckl.ca
URL:https://ccckl.ca/events/burnt-river-sages/2024-11-01/
LOCATION:Burnt River Somerville Centre\, 16 Somerville Centre Rd\, Burnt River\, Ontario\, K0M1C0\, Canada
CATEGORIES:SAGES
ATTACH;FMTTYPE=image/jpeg:https://ccckl.ca/wp-content/uploads/2023/03/Sages-logo-RGB.jpg
END:VEVENT
BEGIN:VEVENT
DTSTART;TZID=America/Toronto:20241030T100000
DTEND;TZID=America/Toronto:20241030T110000
DTSTAMP:20260422T072228
CREATED:20240421T115857Z
LAST-MODIFIED:20240421T115858Z
UID:10003569-1730282400-1730286000@ccckl.ca
SUMMARY:Moderate Impact Exercise Class
DESCRIPTION:A new program led by a certified Seniors Fitness Instructor. Community-Based Exercise Classes focuses on cardio\, strength\, balance and flexibility. This program encourages participants to stay functionally fit longer\, increase physical activity levels and decrease their risk of falls. \n\n\n\nEvery Wednesday from 10:10 – 11 am at 21 Angeline St. N in Lindsay  \n\n\n\nClick here to register.
URL:https://ccckl.ca/events/low-impact-exercise-class-2/2024-10-30/
LOCATION:Community Care City of Kawartha Lakes Community Health Centre\, 21 Angeline St. N\, Lindsay\, ON\, K9V 5B7\, Canada
END:VEVENT
BEGIN:VEVENT
DTSTART;TZID=America/Toronto:20241030T090000
DTEND;TZID=America/Toronto:20241030T100000
DTSTAMP:20260422T072228
CREATED:20240421T120545Z
LAST-MODIFIED:20240709T163127Z
UID:10003667-1730278800-1730282400@ccckl.ca
SUMMARY:Virtual Chair Yoga
DESCRIPTION:Offered in partnership with Brock CHC\, virtual chair yoga focuses on stretch and meditation practice to help calm the mind\, relax the body\, ease stiffness and discomfort\, improve balance\, strength and flexibility. This class at held at 21 Angeline St. N in-person as we follow along with a live virtual instructor. If you would like to join along at home\, a zoom link can be provided. \n\n\n\nEvery Wednesday from 9 – 10 am at 21 Angeline St. N in Lindsay  \n\n\n\nClick here to register.
URL:https://ccckl.ca/events/virtual-chair-yoga/2024-10-30/
LOCATION:Community Care City of Kawartha Lakes Community Health Centre\, 21 Angeline St. N\, Lindsay\, ON\, K9V 5B7\, Canada
END:VEVENT
BEGIN:VEVENT
DTSTART;TZID=America/Toronto:20241029T090000
DTEND;TZID=America/Toronto:20241029T100000
DTSTAMP:20260422T072228
CREATED:20240421T131608Z
LAST-MODIFIED:20240421T131637Z
UID:10003765-1730192400-1730196000@ccckl.ca
SUMMARY:Virtual Gentle Fit
DESCRIPTION:In partnership with Brock CHC\, this session aims to improve functional fitness through strength\, balance and cardio exercises. Classes are held virtually\, in your own space/home. Please contact us if you are interested in receiving the zoom link. \n\n\n\nEvery Tuesday from 9 – 10 am on Zoom. \n\n\n\nClick here to register.
URL:https://ccckl.ca/events/virtual-gentle-fit/2024-10-29/
LOCATION:Community Care City of Kawartha Lakes Community Health Centre\, 21 Angeline St. N\, Lindsay\, ON\, K9V 5B7\, Canada
END:VEVENT
BEGIN:VEVENT
DTSTART;TZID=America/Toronto:20241028T140000
DTEND;TZID=America/Toronto:20241028T150000
DTSTAMP:20260422T072228
CREATED:20240206T172252Z
LAST-MODIFIED:20240421T115207Z
UID:10003339-1730124000-1730127600@ccckl.ca
SUMMARY:Low Impact Exercise Class
DESCRIPTION:A new program led by a certified Seniors Fitness Instructor. Community-Based Exercise Classes focuses on cardio\, strength\, balance and flexibility. This program encourages participants to stay functionally fit longer\, increase physical activity levels and decrease their risk of falls. \n\n\n\nEvery Monday (except holidays) from 2 – 3 pm at 21 Angeline St. N in Lindsay  \n\n\n\nClick here to register.
URL:https://ccckl.ca/events/community-based-exercise-class-2/2024-10-28/
LOCATION:Community Care City of Kawartha Lakes Community Health Centre\, 21 Angeline St. N\, Lindsay\, ON\, K9V 5B7\, Canada
END:VEVENT
BEGIN:VEVENT
DTSTART;TZID=America/Toronto:20241028T093000
DTEND;TZID=America/Toronto:20241028T103000
DTSTAMP:20260422T072228
CREATED:20230810T154613Z
LAST-MODIFIED:20240421T115621Z
UID:10001715-1730107800-1730111400@ccckl.ca
SUMMARY:Burnt River SAGES
DESCRIPTION:Join us every Monday and Friday (except holidays) at 9:30 am at the Burnt River Community Centre for Gentle Exercise for Seniors. \n\n\n\nCost: $3 per session\, registration not required. First session is free! \n\n\n\nFor more information call 705-324-7323 ext. 165 or email wellness@ccckl.ca
URL:https://ccckl.ca/events/burnt-river-sages/2024-10-28/
LOCATION:Burnt River Somerville Centre\, 16 Somerville Centre Rd\, Burnt River\, Ontario\, K0M1C0\, Canada
CATEGORIES:SAGES
ATTACH;FMTTYPE=image/jpeg:https://ccckl.ca/wp-content/uploads/2023/03/Sages-logo-RGB.jpg
END:VEVENT
BEGIN:VEVENT
DTSTART;TZID=America/Toronto:20241025T093000
DTEND;TZID=America/Toronto:20241025T103000
DTSTAMP:20260422T072228
CREATED:20230810T154613Z
LAST-MODIFIED:20240421T115621Z
UID:10001714-1729848600-1729852200@ccckl.ca
SUMMARY:Burnt River SAGES
DESCRIPTION:Join us every Monday and Friday (except holidays) at 9:30 am at the Burnt River Community Centre for Gentle Exercise for Seniors. \n\n\n\nCost: $3 per session\, registration not required. First session is free! \n\n\n\nFor more information call 705-324-7323 ext. 165 or email wellness@ccckl.ca
URL:https://ccckl.ca/events/burnt-river-sages/2024-10-25/
LOCATION:Burnt River Somerville Centre\, 16 Somerville Centre Rd\, Burnt River\, Ontario\, K0M1C0\, Canada
CATEGORIES:SAGES
ATTACH;FMTTYPE=image/jpeg:https://ccckl.ca/wp-content/uploads/2023/03/Sages-logo-RGB.jpg
END:VEVENT
BEGIN:VEVENT
DTSTART;TZID=America/Toronto:20241024T120000
DTEND;TZID=America/Toronto:20241024T140000
DTSTAMP:20260422T072228
CREATED:20230810T134223Z
LAST-MODIFIED:20250630T152407Z
UID:10001546-1729771200-1729778400@ccckl.ca
SUMMARY:Diners Club (Coboconk)
DESCRIPTION:Join us for some great food in good company! \n\n\n\nPre-registration is required and doors open at noon. Please call us at 705-324-7323 ext. 654 to reserve your spot!
URL:https://ccckl.ca/events/diners-club-coboconk/2024-10-24/
LOCATION:Coboconk Service Centre\, 9 Grandy Rd\, Coboconk\, Ontario\, Canada
CATEGORIES:Diner's Club
END:VEVENT
BEGIN:VEVENT
DTSTART;TZID=America/Toronto:20241023T100000
DTEND;TZID=America/Toronto:20241023T110000
DTSTAMP:20260422T072228
CREATED:20240421T115857Z
LAST-MODIFIED:20240421T115858Z
UID:10003568-1729677600-1729681200@ccckl.ca
SUMMARY:Moderate Impact Exercise Class
DESCRIPTION:A new program led by a certified Seniors Fitness Instructor. Community-Based Exercise Classes focuses on cardio\, strength\, balance and flexibility. This program encourages participants to stay functionally fit longer\, increase physical activity levels and decrease their risk of falls. \n\n\n\nEvery Wednesday from 10:10 – 11 am at 21 Angeline St. N in Lindsay  \n\n\n\nClick here to register.
URL:https://ccckl.ca/events/low-impact-exercise-class-2/2024-10-23/
LOCATION:Community Care City of Kawartha Lakes Community Health Centre\, 21 Angeline St. N\, Lindsay\, ON\, K9V 5B7\, Canada
END:VEVENT
BEGIN:VEVENT
DTSTART;TZID=America/Toronto:20241023T090000
DTEND;TZID=America/Toronto:20241023T100000
DTSTAMP:20260422T072228
CREATED:20240421T120545Z
LAST-MODIFIED:20240709T163127Z
UID:10003666-1729674000-1729677600@ccckl.ca
SUMMARY:Virtual Chair Yoga
DESCRIPTION:Offered in partnership with Brock CHC\, virtual chair yoga focuses on stretch and meditation practice to help calm the mind\, relax the body\, ease stiffness and discomfort\, improve balance\, strength and flexibility. This class at held at 21 Angeline St. N in-person as we follow along with a live virtual instructor. If you would like to join along at home\, a zoom link can be provided. \n\n\n\nEvery Wednesday from 9 – 10 am at 21 Angeline St. N in Lindsay  \n\n\n\nClick here to register.
URL:https://ccckl.ca/events/virtual-chair-yoga/2024-10-23/
LOCATION:Community Care City of Kawartha Lakes Community Health Centre\, 21 Angeline St. N\, Lindsay\, ON\, K9V 5B7\, Canada
END:VEVENT
BEGIN:VEVENT
DTSTART;TZID=America/Toronto:20241022T120000
DTEND;TZID=America/Toronto:20241022T140000
DTSTAMP:20260422T072228
CREATED:20221205T164816Z
LAST-MODIFIED:20250630T152521Z
UID:10001323-1729598400-1729605600@ccckl.ca
SUMMARY:Diners Club (Fenelon Falls)
DESCRIPTION:Join us for some great food in good company! \n\n\n\nPre-registration is required and doors open at noon. Please call us at 705-324-7323 ext. 654 to reserve your spot!
URL:https://ccckl.ca/events/diners-club-fenelon-falls-2/2024-10-22/
LOCATION:70 Murray St\, 70 Murray St\, Fenelon Falls\, Ontario\, K0M 1N0\, Canada
CATEGORIES:Diner's Club
END:VEVENT
BEGIN:VEVENT
DTSTART;TZID=America/Toronto:20241022T090000
DTEND;TZID=America/Toronto:20241022T100000
DTSTAMP:20260422T072228
CREATED:20240421T131608Z
LAST-MODIFIED:20240421T131637Z
UID:10003764-1729587600-1729591200@ccckl.ca
SUMMARY:Virtual Gentle Fit
DESCRIPTION:In partnership with Brock CHC\, this session aims to improve functional fitness through strength\, balance and cardio exercises. Classes are held virtually\, in your own space/home. Please contact us if you are interested in receiving the zoom link. \n\n\n\nEvery Tuesday from 9 – 10 am on Zoom. \n\n\n\nClick here to register.
URL:https://ccckl.ca/events/virtual-gentle-fit/2024-10-22/
LOCATION:Community Care City of Kawartha Lakes Community Health Centre\, 21 Angeline St. N\, Lindsay\, ON\, K9V 5B7\, Canada
END:VEVENT
BEGIN:VEVENT
DTSTART;TZID=America/Toronto:20241021T140000
DTEND;TZID=America/Toronto:20241021T150000
DTSTAMP:20260422T072228
CREATED:20240206T172252Z
LAST-MODIFIED:20240421T115207Z
UID:10003338-1729519200-1729522800@ccckl.ca
SUMMARY:Low Impact Exercise Class
DESCRIPTION:A new program led by a certified Seniors Fitness Instructor. Community-Based Exercise Classes focuses on cardio\, strength\, balance and flexibility. This program encourages participants to stay functionally fit longer\, increase physical activity levels and decrease their risk of falls. \n\n\n\nEvery Monday (except holidays) from 2 – 3 pm at 21 Angeline St. N in Lindsay  \n\n\n\nClick here to register.
URL:https://ccckl.ca/events/community-based-exercise-class-2/2024-10-21/
LOCATION:Community Care City of Kawartha Lakes Community Health Centre\, 21 Angeline St. N\, Lindsay\, ON\, K9V 5B7\, Canada
END:VEVENT
BEGIN:VEVENT
DTSTART;TZID=America/Toronto:20241021T093000
DTEND;TZID=America/Toronto:20241021T103000
DTSTAMP:20260422T072228
CREATED:20230810T154613Z
LAST-MODIFIED:20240421T115621Z
UID:10001713-1729503000-1729506600@ccckl.ca
SUMMARY:Burnt River SAGES
DESCRIPTION:Join us every Monday and Friday (except holidays) at 9:30 am at the Burnt River Community Centre for Gentle Exercise for Seniors. \n\n\n\nCost: $3 per session\, registration not required. First session is free! \n\n\n\nFor more information call 705-324-7323 ext. 165 or email wellness@ccckl.ca
URL:https://ccckl.ca/events/burnt-river-sages/2024-10-21/
LOCATION:Burnt River Somerville Centre\, 16 Somerville Centre Rd\, Burnt River\, Ontario\, K0M1C0\, Canada
CATEGORIES:SAGES
ATTACH;FMTTYPE=image/jpeg:https://ccckl.ca/wp-content/uploads/2023/03/Sages-logo-RGB.jpg
END:VEVENT
BEGIN:VEVENT
DTSTART;TZID=America/Toronto:20241018T093000
DTEND;TZID=America/Toronto:20241018T103000
DTSTAMP:20260422T072228
CREATED:20230810T154613Z
LAST-MODIFIED:20240421T115621Z
UID:10001712-1729243800-1729247400@ccckl.ca
SUMMARY:Burnt River SAGES
DESCRIPTION:Join us every Monday and Friday (except holidays) at 9:30 am at the Burnt River Community Centre for Gentle Exercise for Seniors. \n\n\n\nCost: $3 per session\, registration not required. First session is free! \n\n\n\nFor more information call 705-324-7323 ext. 165 or email wellness@ccckl.ca
URL:https://ccckl.ca/events/burnt-river-sages/2024-10-18/
LOCATION:Burnt River Somerville Centre\, 16 Somerville Centre Rd\, Burnt River\, Ontario\, K0M1C0\, Canada
CATEGORIES:SAGES
ATTACH;FMTTYPE=image/jpeg:https://ccckl.ca/wp-content/uploads/2023/03/Sages-logo-RGB.jpg
END:VEVENT
BEGIN:VEVENT
DTSTART;TZID=America/Toronto:20241017T120000
DTEND;TZID=America/Toronto:20241017T140000
DTSTAMP:20260422T072228
CREATED:20221205T171748Z
LAST-MODIFIED:20250630T152445Z
UID:10001431-1729166400-1729173600@ccckl.ca
SUMMARY:Diners Club (Burnt River)
DESCRIPTION:Join us for some great food in good company! \n\n\n\nPre-registration is required and doors open at noon. Please call us at 705-324-7323 ext. 654 to reserve your spot!
URL:https://ccckl.ca/events/diners-club-burnt-river/2024-10-17/
LOCATION:Burnt River Somerville Centre\, 16 Somerville Centre Rd\, Burnt River\, Ontario\, K0M1C0\, Canada
CATEGORIES:Diner's Club
END:VEVENT
BEGIN:VEVENT
DTSTART;TZID=America/Toronto:20241016T100000
DTEND;TZID=America/Toronto:20241016T110000
DTSTAMP:20260422T072228
CREATED:20240421T115857Z
LAST-MODIFIED:20240421T115858Z
UID:10003567-1729072800-1729076400@ccckl.ca
SUMMARY:Moderate Impact Exercise Class
DESCRIPTION:A new program led by a certified Seniors Fitness Instructor. Community-Based Exercise Classes focuses on cardio\, strength\, balance and flexibility. This program encourages participants to stay functionally fit longer\, increase physical activity levels and decrease their risk of falls. \n\n\n\nEvery Wednesday from 10:10 – 11 am at 21 Angeline St. N in Lindsay  \n\n\n\nClick here to register.
URL:https://ccckl.ca/events/low-impact-exercise-class-2/2024-10-16/
LOCATION:Community Care City of Kawartha Lakes Community Health Centre\, 21 Angeline St. N\, Lindsay\, ON\, K9V 5B7\, Canada
END:VEVENT
BEGIN:VEVENT
DTSTART;TZID=America/Toronto:20241016T090000
DTEND;TZID=America/Toronto:20241016T100000
DTSTAMP:20260422T072228
CREATED:20240421T120545Z
LAST-MODIFIED:20240709T163127Z
UID:10003665-1729069200-1729072800@ccckl.ca
SUMMARY:Virtual Chair Yoga
DESCRIPTION:Offered in partnership with Brock CHC\, virtual chair yoga focuses on stretch and meditation practice to help calm the mind\, relax the body\, ease stiffness and discomfort\, improve balance\, strength and flexibility. This class at held at 21 Angeline St. N in-person as we follow along with a live virtual instructor. If you would like to join along at home\, a zoom link can be provided. \n\n\n\nEvery Wednesday from 9 – 10 am at 21 Angeline St. N in Lindsay  \n\n\n\nClick here to register.
URL:https://ccckl.ca/events/virtual-chair-yoga/2024-10-16/
LOCATION:Community Care City of Kawartha Lakes Community Health Centre\, 21 Angeline St. N\, Lindsay\, ON\, K9V 5B7\, Canada
END:VEVENT
BEGIN:VEVENT
DTSTART;TZID=America/Toronto:20241015T133000
DTEND;TZID=America/Toronto:20241015T163000
DTSTAMP:20260422T072228
CREATED:20231130T200248Z
LAST-MODIFIED:20231130T200628Z
UID:10003163-1728999000-1729009800@ccckl.ca
SUMMARY:Good Food Box
DESCRIPTION:No garden? No problem! The Good Food Box program brings accessible\, affordable\, fresh and healthy food to the City of Kawartha Lakes. Anyone can purchase a Good Food Box\, with the season’s finest fresh fruits and vegetables from as many local growers as possible. \n\n\n\nA large box costs $20 and comes with healthy recipe ideas. \n\n\n\nCustomers pre-register by the second Tuesday of the month. \n\n\n\nPick up on the third Tuesday of the month at the Community Health Centre (21 Angeline St. Lindsay) between 1:30 and 4:30 p.m. \n\n\n\nTo register\, or for more information\, contact us at 705-324-7323 ext 165 or gfb@ccckl.ca.
URL:https://ccckl.ca/events/good-food-box-3/2024-10-15/
LOCATION:ON
END:VEVENT
BEGIN:VEVENT
DTSTART;TZID=America/Toronto:20241015T120000
DTEND;TZID=America/Toronto:20241015T140000
DTSTAMP:20260422T072228
CREATED:20221205T170845Z
LAST-MODIFIED:20250630T152507Z
UID:10001377-1728993600-1729000800@ccckl.ca
SUMMARY:Diners Club (Lindsay)
DESCRIPTION:Join us for some great food in good company! \n\n\n\nPre-registration is required and doors open at noon. Please call us at 705-324-7323 ext. 654 to reserve your spot!
URL:https://ccckl.ca/events/diners-club-lindsay/2024-10-15/
LOCATION:65 Melbourne St W\, 65 Melbourne St W\, Lindsay\, Ontario\, K9V 0G4\, Canada
CATEGORIES:Diner's Club
END:VEVENT
BEGIN:VEVENT
DTSTART;TZID=America/Toronto:20241015T090000
DTEND;TZID=America/Toronto:20241015T100000
DTSTAMP:20260422T072228
CREATED:20240421T131608Z
LAST-MODIFIED:20240421T131637Z
UID:10003763-1728982800-1728986400@ccckl.ca
SUMMARY:Virtual Gentle Fit
DESCRIPTION:In partnership with Brock CHC\, this session aims to improve functional fitness through strength\, balance and cardio exercises. Classes are held virtually\, in your own space/home. Please contact us if you are interested in receiving the zoom link. \n\n\n\nEvery Tuesday from 9 – 10 am on Zoom. \n\n\n\nClick here to register.
URL:https://ccckl.ca/events/virtual-gentle-fit/2024-10-15/
LOCATION:Community Care City of Kawartha Lakes Community Health Centre\, 21 Angeline St. N\, Lindsay\, ON\, K9V 5B7\, Canada
END:VEVENT
BEGIN:VEVENT
DTSTART;TZID=America/Toronto:20241011T093000
DTEND;TZID=America/Toronto:20241011T103000
DTSTAMP:20260422T072228
CREATED:20230810T154613Z
LAST-MODIFIED:20240421T115621Z
UID:10001710-1728639000-1728642600@ccckl.ca
SUMMARY:Burnt River SAGES
DESCRIPTION:Join us every Monday and Friday (except holidays) at 9:30 am at the Burnt River Community Centre for Gentle Exercise for Seniors. \n\n\n\nCost: $3 per session\, registration not required. First session is free! \n\n\n\nFor more information call 705-324-7323 ext. 165 or email wellness@ccckl.ca
URL:https://ccckl.ca/events/burnt-river-sages/2024-10-11/
LOCATION:Burnt River Somerville Centre\, 16 Somerville Centre Rd\, Burnt River\, Ontario\, K0M1C0\, Canada
CATEGORIES:SAGES
ATTACH;FMTTYPE=image/jpeg:https://ccckl.ca/wp-content/uploads/2023/03/Sages-logo-RGB.jpg
END:VEVENT
BEGIN:VEVENT
DTSTART;TZID=America/Toronto:20241010T120000
DTEND;TZID=America/Toronto:20241010T140000
DTSTAMP:20260422T072228
CREATED:20240904T135811Z
LAST-MODIFIED:20240904T135812Z
UID:10004018-1728561600-1728568800@ccckl.ca
SUMMARY:Diners Club (Bobcaygeon)
DESCRIPTION:Join us for some great food in good company! \n\n\n\nPre-registration is required and doors open at noon. Please call us at 705-324-7323 ext. 654 to reserve your spot!
URL:https://ccckl.ca/events/diners-club-bobcaygeon/2024-10-10/
LOCATION:Trinity United Church\, 44 William St\, Bobcaygeon\, Ontario\, K0M 1A0\, Canada
CATEGORIES:Diner's Club
END:VEVENT
BEGIN:VEVENT
DTSTART;TZID=America/Toronto:20241010T100000
DTEND;TZID=America/Toronto:20241010T140000
DTSTAMP:20260422T072228
CREATED:20240717T114824Z
LAST-MODIFIED:20240717T115035Z
UID:10003787-1728554400-1728568800@ccckl.ca
SUMMARY:Senior Awareness Seminar
DESCRIPTION:Come and be aware! \n\n\n\nThis seminar is led by our Elder Advocate and features a variety of guest speakers discussing topics that help seniors remain safe and independent in their homes. Topics of discussion include: \n\n\n\n\nTypes of Abuse – Tammy Brydon\, Elder Advocate\n\n\n\nPower of Attorney – Tyler Wagg\, Lawyer\n\n\n\nCapacity Assessment – Shawna Crouter\, Occupational Therapist & Designated Capacity Assessor\n\n\n\nScams and Fraud – Police\n\n\n\nInternet Security – Pete Wood\, Community Care\n\n\n\nA Client’s Story\n\n\n\n\nA light lunch will be provided and this event is free to attend. Space is limited and registration is required. Please call 705-879-6151 for more information and to register!
URL:https://ccckl.ca/events/senior-awareness-seminar/
LOCATION:Senior Citizens Club Of Fenelon Falls\, 58 Murray Street\, Fenelon Falls\, Ontario\, K0M 1N0\, Canada
ATTACH;FMTTYPE=image/png:https://ccckl.ca/wp-content/uploads/2024/07/Senior-Awareness-Event-October-2024.png
END:VEVENT
BEGIN:VEVENT
DTSTART;TZID=America/Toronto:20241009T100000
DTEND;TZID=America/Toronto:20241009T110000
DTSTAMP:20260422T072228
CREATED:20240421T115857Z
LAST-MODIFIED:20240421T115858Z
UID:10003566-1728468000-1728471600@ccckl.ca
SUMMARY:Moderate Impact Exercise Class
DESCRIPTION:A new program led by a certified Seniors Fitness Instructor. Community-Based Exercise Classes focuses on cardio\, strength\, balance and flexibility. This program encourages participants to stay functionally fit longer\, increase physical activity levels and decrease their risk of falls. \n\n\n\nEvery Wednesday from 10:10 – 11 am at 21 Angeline St. N in Lindsay  \n\n\n\nClick here to register.
URL:https://ccckl.ca/events/low-impact-exercise-class-2/2024-10-09/
LOCATION:Community Care City of Kawartha Lakes Community Health Centre\, 21 Angeline St. N\, Lindsay\, ON\, K9V 5B7\, Canada
END:VEVENT
BEGIN:VEVENT
DTSTART;TZID=America/Toronto:20241009T090000
DTEND;TZID=America/Toronto:20241009T100000
DTSTAMP:20260422T072228
CREATED:20240421T120545Z
LAST-MODIFIED:20240709T163127Z
UID:10003664-1728464400-1728468000@ccckl.ca
SUMMARY:Virtual Chair Yoga
DESCRIPTION:Offered in partnership with Brock CHC\, virtual chair yoga focuses on stretch and meditation practice to help calm the mind\, relax the body\, ease stiffness and discomfort\, improve balance\, strength and flexibility. This class at held at 21 Angeline St. N in-person as we follow along with a live virtual instructor. If you would like to join along at home\, a zoom link can be provided. \n\n\n\nEvery Wednesday from 9 – 10 am at 21 Angeline St. N in Lindsay  \n\n\n\nClick here to register.
URL:https://ccckl.ca/events/virtual-chair-yoga/2024-10-09/
LOCATION:Community Care City of Kawartha Lakes Community Health Centre\, 21 Angeline St. N\, Lindsay\, ON\, K9V 5B7\, Canada
END:VEVENT
BEGIN:VEVENT
DTSTART;TZID=America/Toronto:20241008T120000
DTEND;TZID=America/Toronto:20241008T140000
DTSTAMP:20260422T072228
CREATED:20240904T135216Z
LAST-MODIFIED:20250630T152344Z
UID:10003869-1728388800-1728396000@ccckl.ca
SUMMARY:Diners Club (Fenelon Falls)
DESCRIPTION:Join us for some great food in good company! \n\n\n\nPre-registration is required and doors open at noon. Please call us at 705-324-7323 ext. 654 to reserve your spot!
URL:https://ccckl.ca/events/diners-club-fenelon-falls/2024-10-08/
LOCATION:70 Murray St\, 70 Murray St\, Fenelon Falls\, Ontario\, K0M 1N0\, Canada
CATEGORIES:Diner's Club
END:VEVENT
END:VCALENDAR