BEGIN:VCALENDAR
VERSION:2.0
PRODID:-//Community Care City of Kawartha Lakes - ECPv6.15.13//NONSGML v1.0//EN
CALSCALE:GREGORIAN
METHOD:PUBLISH
X-WR-CALNAME:Community Care City of Kawartha Lakes
X-ORIGINAL-URL:https://ccckl.ca
X-WR-CALDESC:Events for Community Care City of Kawartha Lakes
REFRESH-INTERVAL;VALUE=DURATION:PT1H
X-Robots-Tag:noindex
X-PUBLISHED-TTL:PT1H
BEGIN:VTIMEZONE
TZID:America/Toronto
BEGIN:DAYLIGHT
TZOFFSETFROM:-0500
TZOFFSETTO:-0400
TZNAME:EDT
DTSTART:20230312T070000
END:DAYLIGHT
BEGIN:STANDARD
TZOFFSETFROM:-0400
TZOFFSETTO:-0500
TZNAME:EST
DTSTART:20231105T060000
END:STANDARD
BEGIN:DAYLIGHT
TZOFFSETFROM:-0500
TZOFFSETTO:-0400
TZNAME:EDT
DTSTART:20240310T070000
END:DAYLIGHT
BEGIN:STANDARD
TZOFFSETFROM:-0400
TZOFFSETTO:-0500
TZNAME:EST
DTSTART:20241103T060000
END:STANDARD
BEGIN:DAYLIGHT
TZOFFSETFROM:-0500
TZOFFSETTO:-0400
TZNAME:EDT
DTSTART:20250309T070000
END:DAYLIGHT
BEGIN:STANDARD
TZOFFSETFROM:-0400
TZOFFSETTO:-0500
TZNAME:EST
DTSTART:20251102T060000
END:STANDARD
END:VTIMEZONE
BEGIN:VEVENT
DTSTART;TZID=America/Toronto:20241011T093000
DTEND;TZID=America/Toronto:20241011T103000
DTSTAMP:20260422T102844
CREATED:20230810T154613Z
LAST-MODIFIED:20240421T115621Z
UID:10001710-1728639000-1728642600@ccckl.ca
SUMMARY:Burnt River SAGES
DESCRIPTION:Join us every Monday and Friday (except holidays) at 9:30 am at the Burnt River Community Centre for Gentle Exercise for Seniors. \n\n\n\nCost: $3 per session\, registration not required. First session is free! \n\n\n\nFor more information call 705-324-7323 ext. 165 or email wellness@ccckl.ca
URL:https://ccckl.ca/events/burnt-river-sages/2024-10-11/
LOCATION:Burnt River Somerville Centre\, 16 Somerville Centre Rd\, Burnt River\, Ontario\, K0M1C0\, Canada
CATEGORIES:SAGES
ATTACH;FMTTYPE=image/jpeg:https://ccckl.ca/wp-content/uploads/2023/03/Sages-logo-RGB.jpg
END:VEVENT
BEGIN:VEVENT
DTSTART;TZID=America/Toronto:20241010T120000
DTEND;TZID=America/Toronto:20241010T140000
DTSTAMP:20260422T102844
CREATED:20240904T135811Z
LAST-MODIFIED:20240904T135812Z
UID:10004018-1728561600-1728568800@ccckl.ca
SUMMARY:Diners Club (Bobcaygeon)
DESCRIPTION:Join us for some great food in good company! \n\n\n\nPre-registration is required and doors open at noon. Please call us at 705-324-7323 ext. 654 to reserve your spot!
URL:https://ccckl.ca/events/diners-club-bobcaygeon/2024-10-10/
LOCATION:Trinity United Church\, 44 William St\, Bobcaygeon\, Ontario\, K0M 1A0\, Canada
CATEGORIES:Diner's Club
END:VEVENT
BEGIN:VEVENT
DTSTART;TZID=America/Toronto:20241010T100000
DTEND;TZID=America/Toronto:20241010T140000
DTSTAMP:20260422T102844
CREATED:20240717T114824Z
LAST-MODIFIED:20240717T115035Z
UID:10003787-1728554400-1728568800@ccckl.ca
SUMMARY:Senior Awareness Seminar
DESCRIPTION:Come and be aware! \n\n\n\nThis seminar is led by our Elder Advocate and features a variety of guest speakers discussing topics that help seniors remain safe and independent in their homes. Topics of discussion include: \n\n\n\n\nTypes of Abuse – Tammy Brydon\, Elder Advocate\n\n\n\nPower of Attorney – Tyler Wagg\, Lawyer\n\n\n\nCapacity Assessment – Shawna Crouter\, Occupational Therapist & Designated Capacity Assessor\n\n\n\nScams and Fraud – Police\n\n\n\nInternet Security – Pete Wood\, Community Care\n\n\n\nA Client’s Story\n\n\n\n\nA light lunch will be provided and this event is free to attend. Space is limited and registration is required. Please call 705-879-6151 for more information and to register!
URL:https://ccckl.ca/events/senior-awareness-seminar/
LOCATION:Senior Citizens Club Of Fenelon Falls\, 58 Murray Street\, Fenelon Falls\, Ontario\, K0M 1N0\, Canada
ATTACH;FMTTYPE=image/png:https://ccckl.ca/wp-content/uploads/2024/07/Senior-Awareness-Event-October-2024.png
END:VEVENT
BEGIN:VEVENT
DTSTART;TZID=America/Toronto:20241009T100000
DTEND;TZID=America/Toronto:20241009T110000
DTSTAMP:20260422T102844
CREATED:20240421T115857Z
LAST-MODIFIED:20240421T115858Z
UID:10003566-1728468000-1728471600@ccckl.ca
SUMMARY:Moderate Impact Exercise Class
DESCRIPTION:A new program led by a certified Seniors Fitness Instructor. Community-Based Exercise Classes focuses on cardio\, strength\, balance and flexibility. This program encourages participants to stay functionally fit longer\, increase physical activity levels and decrease their risk of falls. \n\n\n\nEvery Wednesday from 10:10 – 11 am at 21 Angeline St. N in Lindsay  \n\n\n\nClick here to register.
URL:https://ccckl.ca/events/low-impact-exercise-class-2/2024-10-09/
LOCATION:Community Care City of Kawartha Lakes Community Health Centre\, 21 Angeline St. N\, Lindsay\, ON\, K9V 5B7\, Canada
END:VEVENT
BEGIN:VEVENT
DTSTART;TZID=America/Toronto:20241009T090000
DTEND;TZID=America/Toronto:20241009T100000
DTSTAMP:20260422T102844
CREATED:20240421T120545Z
LAST-MODIFIED:20240709T163127Z
UID:10003664-1728464400-1728468000@ccckl.ca
SUMMARY:Virtual Chair Yoga
DESCRIPTION:Offered in partnership with Brock CHC\, virtual chair yoga focuses on stretch and meditation practice to help calm the mind\, relax the body\, ease stiffness and discomfort\, improve balance\, strength and flexibility. This class at held at 21 Angeline St. N in-person as we follow along with a live virtual instructor. If you would like to join along at home\, a zoom link can be provided. \n\n\n\nEvery Wednesday from 9 – 10 am at 21 Angeline St. N in Lindsay  \n\n\n\nClick here to register.
URL:https://ccckl.ca/events/virtual-chair-yoga/2024-10-09/
LOCATION:Community Care City of Kawartha Lakes Community Health Centre\, 21 Angeline St. N\, Lindsay\, ON\, K9V 5B7\, Canada
END:VEVENT
BEGIN:VEVENT
DTSTART;TZID=America/Toronto:20241008T120000
DTEND;TZID=America/Toronto:20241008T140000
DTSTAMP:20260422T102844
CREATED:20240904T135216Z
LAST-MODIFIED:20250630T152344Z
UID:10003869-1728388800-1728396000@ccckl.ca
SUMMARY:Diners Club (Fenelon Falls)
DESCRIPTION:Join us for some great food in good company! \n\n\n\nPre-registration is required and doors open at noon. Please call us at 705-324-7323 ext. 654 to reserve your spot!
URL:https://ccckl.ca/events/diners-club-fenelon-falls/2024-10-08/
LOCATION:70 Murray St\, 70 Murray St\, Fenelon Falls\, Ontario\, K0M 1N0\, Canada
CATEGORIES:Diner's Club
END:VEVENT
BEGIN:VEVENT
DTSTART;TZID=America/Toronto:20241008T090000
DTEND;TZID=America/Toronto:20241008T100000
DTSTAMP:20260422T102844
CREATED:20240421T131608Z
LAST-MODIFIED:20240421T131637Z
UID:10003762-1728378000-1728381600@ccckl.ca
SUMMARY:Virtual Gentle Fit
DESCRIPTION:In partnership with Brock CHC\, this session aims to improve functional fitness through strength\, balance and cardio exercises. Classes are held virtually\, in your own space/home. Please contact us if you are interested in receiving the zoom link. \n\n\n\nEvery Tuesday from 9 – 10 am on Zoom. \n\n\n\nClick here to register.
URL:https://ccckl.ca/events/virtual-gentle-fit/2024-10-08/
LOCATION:Community Care City of Kawartha Lakes Community Health Centre\, 21 Angeline St. N\, Lindsay\, ON\, K9V 5B7\, Canada
END:VEVENT
BEGIN:VEVENT
DTSTART;TZID=America/Toronto:20241007T140000
DTEND;TZID=America/Toronto:20241007T150000
DTSTAMP:20260422T102844
CREATED:20240206T172252Z
LAST-MODIFIED:20240421T115207Z
UID:10003337-1728309600-1728313200@ccckl.ca
SUMMARY:Low Impact Exercise Class
DESCRIPTION:A new program led by a certified Seniors Fitness Instructor. Community-Based Exercise Classes focuses on cardio\, strength\, balance and flexibility. This program encourages participants to stay functionally fit longer\, increase physical activity levels and decrease their risk of falls. \n\n\n\nEvery Monday (except holidays) from 2 – 3 pm at 21 Angeline St. N in Lindsay  \n\n\n\nClick here to register.
URL:https://ccckl.ca/events/community-based-exercise-class-2/2024-10-07/
LOCATION:Community Care City of Kawartha Lakes Community Health Centre\, 21 Angeline St. N\, Lindsay\, ON\, K9V 5B7\, Canada
END:VEVENT
BEGIN:VEVENT
DTSTART;TZID=America/Toronto:20241007T093000
DTEND;TZID=America/Toronto:20241007T103000
DTSTAMP:20260422T102844
CREATED:20230810T154613Z
LAST-MODIFIED:20240421T115621Z
UID:10001709-1728293400-1728297000@ccckl.ca
SUMMARY:Burnt River SAGES
DESCRIPTION:Join us every Monday and Friday (except holidays) at 9:30 am at the Burnt River Community Centre for Gentle Exercise for Seniors. \n\n\n\nCost: $3 per session\, registration not required. First session is free! \n\n\n\nFor more information call 705-324-7323 ext. 165 or email wellness@ccckl.ca
URL:https://ccckl.ca/events/burnt-river-sages/2024-10-07/
LOCATION:Burnt River Somerville Centre\, 16 Somerville Centre Rd\, Burnt River\, Ontario\, K0M1C0\, Canada
CATEGORIES:SAGES
ATTACH;FMTTYPE=image/jpeg:https://ccckl.ca/wp-content/uploads/2023/03/Sages-logo-RGB.jpg
END:VEVENT
BEGIN:VEVENT
DTSTART;TZID=America/Toronto:20241004T093000
DTEND;TZID=America/Toronto:20241004T103000
DTSTAMP:20260422T102844
CREATED:20230810T154613Z
LAST-MODIFIED:20240421T115621Z
UID:10001708-1728034200-1728037800@ccckl.ca
SUMMARY:Burnt River SAGES
DESCRIPTION:Join us every Monday and Friday (except holidays) at 9:30 am at the Burnt River Community Centre for Gentle Exercise for Seniors. \n\n\n\nCost: $3 per session\, registration not required. First session is free! \n\n\n\nFor more information call 705-324-7323 ext. 165 or email wellness@ccckl.ca
URL:https://ccckl.ca/events/burnt-river-sages/2024-10-04/
LOCATION:Burnt River Somerville Centre\, 16 Somerville Centre Rd\, Burnt River\, Ontario\, K0M1C0\, Canada
CATEGORIES:SAGES
ATTACH;FMTTYPE=image/jpeg:https://ccckl.ca/wp-content/uploads/2023/03/Sages-logo-RGB.jpg
END:VEVENT
BEGIN:VEVENT
DTSTART;TZID=America/Toronto:20241003T120000
DTEND;TZID=America/Toronto:20241003T140000
DTSTAMP:20260422T102844
CREATED:20230810T133725Z
LAST-MODIFIED:20250630T152430Z
UID:10001268-1727956800-1727964000@ccckl.ca
SUMMARY:Diners Club (Bethany)
DESCRIPTION:Join us for some great food in good company! \n\n\n\nPre-registration is required and doors open at noon. Please call us at 705-324-7323 ext. 654 to reserve your spot!
URL:https://ccckl.ca/events/diners-club-bethany/2024-10-03/
LOCATION:Bethany United Church\, 3 George St\, Bethany\, Ontario\, L0A 1A0\, Canada
CATEGORIES:Diner's Club
END:VEVENT
BEGIN:VEVENT
DTSTART;TZID=America/Toronto:20241002T100000
DTEND;TZID=America/Toronto:20241002T110000
DTSTAMP:20260422T102844
CREATED:20240421T115857Z
LAST-MODIFIED:20240421T115858Z
UID:10003565-1727863200-1727866800@ccckl.ca
SUMMARY:Moderate Impact Exercise Class
DESCRIPTION:A new program led by a certified Seniors Fitness Instructor. Community-Based Exercise Classes focuses on cardio\, strength\, balance and flexibility. This program encourages participants to stay functionally fit longer\, increase physical activity levels and decrease their risk of falls. \n\n\n\nEvery Wednesday from 10:10 – 11 am at 21 Angeline St. N in Lindsay  \n\n\n\nClick here to register.
URL:https://ccckl.ca/events/low-impact-exercise-class-2/2024-10-02/
LOCATION:Community Care City of Kawartha Lakes Community Health Centre\, 21 Angeline St. N\, Lindsay\, ON\, K9V 5B7\, Canada
END:VEVENT
BEGIN:VEVENT
DTSTART;TZID=America/Toronto:20241002T090000
DTEND;TZID=America/Toronto:20241002T100000
DTSTAMP:20260422T102844
CREATED:20240421T120545Z
LAST-MODIFIED:20240709T163127Z
UID:10003663-1727859600-1727863200@ccckl.ca
SUMMARY:Virtual Chair Yoga
DESCRIPTION:Offered in partnership with Brock CHC\, virtual chair yoga focuses on stretch and meditation practice to help calm the mind\, relax the body\, ease stiffness and discomfort\, improve balance\, strength and flexibility. This class at held at 21 Angeline St. N in-person as we follow along with a live virtual instructor. If you would like to join along at home\, a zoom link can be provided. \n\n\n\nEvery Wednesday from 9 – 10 am at 21 Angeline St. N in Lindsay  \n\n\n\nClick here to register.
URL:https://ccckl.ca/events/virtual-chair-yoga/2024-10-02/
LOCATION:Community Care City of Kawartha Lakes Community Health Centre\, 21 Angeline St. N\, Lindsay\, ON\, K9V 5B7\, Canada
END:VEVENT
BEGIN:VEVENT
DTSTART;TZID=America/Toronto:20241001T120000
DTEND;TZID=America/Toronto:20241001T140000
DTSTAMP:20260422T102844
CREATED:20221026T143705Z
LAST-MODIFIED:20250630T152535Z
UID:10001485-1727784000-1727791200@ccckl.ca
SUMMARY:Diners Club (Lindsay)
DESCRIPTION:Join us for some great food in good company! \n\n\n\nPre-registration is required and doors open at noon. Please call us at 705-324-7323 ext. 654 to reserve your spot!
URL:https://ccckl.ca/events/diners-club-11/2024-10-01/
LOCATION:65 Melbourne St W\, 65 Melbourne St W\, Lindsay\, Ontario\, K9V 0G4\, Canada
CATEGORIES:Diner's Club
END:VEVENT
BEGIN:VEVENT
DTSTART;TZID=America/Toronto:20241001T090000
DTEND;TZID=America/Toronto:20241001T100000
DTSTAMP:20260422T102844
CREATED:20240421T131608Z
LAST-MODIFIED:20240421T131637Z
UID:10003761-1727773200-1727776800@ccckl.ca
SUMMARY:Virtual Gentle Fit
DESCRIPTION:In partnership with Brock CHC\, this session aims to improve functional fitness through strength\, balance and cardio exercises. Classes are held virtually\, in your own space/home. Please contact us if you are interested in receiving the zoom link. \n\n\n\nEvery Tuesday from 9 – 10 am on Zoom. \n\n\n\nClick here to register.
URL:https://ccckl.ca/events/virtual-gentle-fit/2024-10-01/
LOCATION:Community Care City of Kawartha Lakes Community Health Centre\, 21 Angeline St. N\, Lindsay\, ON\, K9V 5B7\, Canada
END:VEVENT
BEGIN:VEVENT
DTSTART;TZID=America/Toronto:20240930T140000
DTEND;TZID=America/Toronto:20240930T150000
DTSTAMP:20260422T102844
CREATED:20240206T172252Z
LAST-MODIFIED:20240421T115207Z
UID:10003336-1727704800-1727708400@ccckl.ca
SUMMARY:Low Impact Exercise Class
DESCRIPTION:A new program led by a certified Seniors Fitness Instructor. Community-Based Exercise Classes focuses on cardio\, strength\, balance and flexibility. This program encourages participants to stay functionally fit longer\, increase physical activity levels and decrease their risk of falls. \n\n\n\nEvery Monday (except holidays) from 2 – 3 pm at 21 Angeline St. N in Lindsay  \n\n\n\nClick here to register.
URL:https://ccckl.ca/events/community-based-exercise-class-2/2024-09-30/
LOCATION:Community Care City of Kawartha Lakes Community Health Centre\, 21 Angeline St. N\, Lindsay\, ON\, K9V 5B7\, Canada
END:VEVENT
BEGIN:VEVENT
DTSTART;TZID=America/Toronto:20240930T093000
DTEND;TZID=America/Toronto:20240930T103000
DTSTAMP:20260422T102844
CREATED:20230810T154613Z
LAST-MODIFIED:20240421T115621Z
UID:10001707-1727688600-1727692200@ccckl.ca
SUMMARY:Burnt River SAGES
DESCRIPTION:Join us every Monday and Friday (except holidays) at 9:30 am at the Burnt River Community Centre for Gentle Exercise for Seniors. \n\n\n\nCost: $3 per session\, registration not required. First session is free! \n\n\n\nFor more information call 705-324-7323 ext. 165 or email wellness@ccckl.ca
URL:https://ccckl.ca/events/burnt-river-sages/2024-09-30/
LOCATION:Burnt River Somerville Centre\, 16 Somerville Centre Rd\, Burnt River\, Ontario\, K0M1C0\, Canada
CATEGORIES:SAGES
ATTACH;FMTTYPE=image/jpeg:https://ccckl.ca/wp-content/uploads/2023/03/Sages-logo-RGB.jpg
END:VEVENT
BEGIN:VEVENT
DTSTART;TZID=America/Toronto:20240927T093000
DTEND;TZID=America/Toronto:20240927T103000
DTSTAMP:20260422T102844
CREATED:20230810T154613Z
LAST-MODIFIED:20240421T115621Z
UID:10001706-1727429400-1727433000@ccckl.ca
SUMMARY:Burnt River SAGES
DESCRIPTION:Join us every Monday and Friday (except holidays) at 9:30 am at the Burnt River Community Centre for Gentle Exercise for Seniors. \n\n\n\nCost: $3 per session\, registration not required. First session is free! \n\n\n\nFor more information call 705-324-7323 ext. 165 or email wellness@ccckl.ca
URL:https://ccckl.ca/events/burnt-river-sages/2024-09-27/
LOCATION:Burnt River Somerville Centre\, 16 Somerville Centre Rd\, Burnt River\, Ontario\, K0M1C0\, Canada
CATEGORIES:SAGES
ATTACH;FMTTYPE=image/jpeg:https://ccckl.ca/wp-content/uploads/2023/03/Sages-logo-RGB.jpg
END:VEVENT
BEGIN:VEVENT
DTSTART;TZID=America/Toronto:20240926T120000
DTEND;TZID=America/Toronto:20240926T140000
DTSTAMP:20260422T102844
CREATED:20230810T134223Z
LAST-MODIFIED:20250630T152407Z
UID:10001545-1727352000-1727359200@ccckl.ca
SUMMARY:Diners Club (Coboconk)
DESCRIPTION:Join us for some great food in good company! \n\n\n\nPre-registration is required and doors open at noon. Please call us at 705-324-7323 ext. 654 to reserve your spot!
URL:https://ccckl.ca/events/diners-club-coboconk/2024-09-26/
LOCATION:Coboconk Service Centre\, 9 Grandy Rd\, Coboconk\, Ontario\, Canada
CATEGORIES:Diner's Club
END:VEVENT
BEGIN:VEVENT
DTSTART;TZID=America/Toronto:20240925T100000
DTEND;TZID=America/Toronto:20240925T110000
DTSTAMP:20260422T102844
CREATED:20240421T115857Z
LAST-MODIFIED:20240421T115858Z
UID:10003564-1727258400-1727262000@ccckl.ca
SUMMARY:Moderate Impact Exercise Class
DESCRIPTION:A new program led by a certified Seniors Fitness Instructor. Community-Based Exercise Classes focuses on cardio\, strength\, balance and flexibility. This program encourages participants to stay functionally fit longer\, increase physical activity levels and decrease their risk of falls. \n\n\n\nEvery Wednesday from 10:10 – 11 am at 21 Angeline St. N in Lindsay  \n\n\n\nClick here to register.
URL:https://ccckl.ca/events/low-impact-exercise-class-2/2024-09-25/
LOCATION:Community Care City of Kawartha Lakes Community Health Centre\, 21 Angeline St. N\, Lindsay\, ON\, K9V 5B7\, Canada
END:VEVENT
BEGIN:VEVENT
DTSTART;TZID=America/Toronto:20240925T090000
DTEND;TZID=America/Toronto:20240925T100000
DTSTAMP:20260422T102844
CREATED:20240421T120545Z
LAST-MODIFIED:20240709T163127Z
UID:10003662-1727254800-1727258400@ccckl.ca
SUMMARY:Virtual Chair Yoga
DESCRIPTION:Offered in partnership with Brock CHC\, virtual chair yoga focuses on stretch and meditation practice to help calm the mind\, relax the body\, ease stiffness and discomfort\, improve balance\, strength and flexibility. This class at held at 21 Angeline St. N in-person as we follow along with a live virtual instructor. If you would like to join along at home\, a zoom link can be provided. \n\n\n\nEvery Wednesday from 9 – 10 am at 21 Angeline St. N in Lindsay  \n\n\n\nClick here to register.
URL:https://ccckl.ca/events/virtual-chair-yoga/2024-09-25/
LOCATION:Community Care City of Kawartha Lakes Community Health Centre\, 21 Angeline St. N\, Lindsay\, ON\, K9V 5B7\, Canada
END:VEVENT
BEGIN:VEVENT
DTSTART;TZID=America/Toronto:20240924T120000
DTEND;TZID=America/Toronto:20240924T140000
DTSTAMP:20260422T102844
CREATED:20221205T164816Z
LAST-MODIFIED:20250630T152521Z
UID:10001322-1727179200-1727186400@ccckl.ca
SUMMARY:Diners Club (Fenelon Falls)
DESCRIPTION:Join us for some great food in good company! \n\n\n\nPre-registration is required and doors open at noon. Please call us at 705-324-7323 ext. 654 to reserve your spot!
URL:https://ccckl.ca/events/diners-club-fenelon-falls-2/2024-09-24/
LOCATION:70 Murray St\, 70 Murray St\, Fenelon Falls\, Ontario\, K0M 1N0\, Canada
CATEGORIES:Diner's Club
END:VEVENT
BEGIN:VEVENT
DTSTART;TZID=America/Toronto:20240924T090000
DTEND;TZID=America/Toronto:20240924T100000
DTSTAMP:20260422T102844
CREATED:20240421T131608Z
LAST-MODIFIED:20240421T131637Z
UID:10003760-1727168400-1727172000@ccckl.ca
SUMMARY:Virtual Gentle Fit
DESCRIPTION:In partnership with Brock CHC\, this session aims to improve functional fitness through strength\, balance and cardio exercises. Classes are held virtually\, in your own space/home. Please contact us if you are interested in receiving the zoom link. \n\n\n\nEvery Tuesday from 9 – 10 am on Zoom. \n\n\n\nClick here to register.
URL:https://ccckl.ca/events/virtual-gentle-fit/2024-09-24/
LOCATION:Community Care City of Kawartha Lakes Community Health Centre\, 21 Angeline St. N\, Lindsay\, ON\, K9V 5B7\, Canada
END:VEVENT
BEGIN:VEVENT
DTSTART;TZID=America/Toronto:20240923T140000
DTEND;TZID=America/Toronto:20240923T150000
DTSTAMP:20260422T102844
CREATED:20240206T172252Z
LAST-MODIFIED:20240421T115207Z
UID:10003335-1727100000-1727103600@ccckl.ca
SUMMARY:Low Impact Exercise Class
DESCRIPTION:A new program led by a certified Seniors Fitness Instructor. Community-Based Exercise Classes focuses on cardio\, strength\, balance and flexibility. This program encourages participants to stay functionally fit longer\, increase physical activity levels and decrease their risk of falls. \n\n\n\nEvery Monday (except holidays) from 2 – 3 pm at 21 Angeline St. N in Lindsay  \n\n\n\nClick here to register.
URL:https://ccckl.ca/events/community-based-exercise-class-2/2024-09-23/
LOCATION:Community Care City of Kawartha Lakes Community Health Centre\, 21 Angeline St. N\, Lindsay\, ON\, K9V 5B7\, Canada
END:VEVENT
BEGIN:VEVENT
DTSTART;TZID=America/Toronto:20240923T093000
DTEND;TZID=America/Toronto:20240923T103000
DTSTAMP:20260422T102844
CREATED:20230810T154613Z
LAST-MODIFIED:20240421T115621Z
UID:10001705-1727083800-1727087400@ccckl.ca
SUMMARY:Burnt River SAGES
DESCRIPTION:Join us every Monday and Friday (except holidays) at 9:30 am at the Burnt River Community Centre for Gentle Exercise for Seniors. \n\n\n\nCost: $3 per session\, registration not required. First session is free! \n\n\n\nFor more information call 705-324-7323 ext. 165 or email wellness@ccckl.ca
URL:https://ccckl.ca/events/burnt-river-sages/2024-09-23/
LOCATION:Burnt River Somerville Centre\, 16 Somerville Centre Rd\, Burnt River\, Ontario\, K0M1C0\, Canada
CATEGORIES:SAGES
ATTACH;FMTTYPE=image/jpeg:https://ccckl.ca/wp-content/uploads/2023/03/Sages-logo-RGB.jpg
END:VEVENT
BEGIN:VEVENT
DTSTART;TZID=America/Toronto:20240920T093000
DTEND;TZID=America/Toronto:20240920T103000
DTSTAMP:20260422T102844
CREATED:20230810T154613Z
LAST-MODIFIED:20240421T115621Z
UID:10001704-1726824600-1726828200@ccckl.ca
SUMMARY:Burnt River SAGES
DESCRIPTION:Join us every Monday and Friday (except holidays) at 9:30 am at the Burnt River Community Centre for Gentle Exercise for Seniors. \n\n\n\nCost: $3 per session\, registration not required. First session is free! \n\n\n\nFor more information call 705-324-7323 ext. 165 or email wellness@ccckl.ca
URL:https://ccckl.ca/events/burnt-river-sages/2024-09-20/
LOCATION:Burnt River Somerville Centre\, 16 Somerville Centre Rd\, Burnt River\, Ontario\, K0M1C0\, Canada
CATEGORIES:SAGES
ATTACH;FMTTYPE=image/jpeg:https://ccckl.ca/wp-content/uploads/2023/03/Sages-logo-RGB.jpg
END:VEVENT
BEGIN:VEVENT
DTSTART;TZID=America/Toronto:20240919T120000
DTEND;TZID=America/Toronto:20240919T140000
DTSTAMP:20260422T102844
CREATED:20221205T171748Z
LAST-MODIFIED:20250630T152445Z
UID:10001430-1726747200-1726754400@ccckl.ca
SUMMARY:Diners Club (Burnt River)
DESCRIPTION:Join us for some great food in good company! \n\n\n\nPre-registration is required and doors open at noon. Please call us at 705-324-7323 ext. 654 to reserve your spot!
URL:https://ccckl.ca/events/diners-club-burnt-river/2024-09-19/
LOCATION:Burnt River Somerville Centre\, 16 Somerville Centre Rd\, Burnt River\, Ontario\, K0M1C0\, Canada
CATEGORIES:Diner's Club
END:VEVENT
BEGIN:VEVENT
DTSTART;TZID=America/Toronto:20240918T100000
DTEND;TZID=America/Toronto:20240918T110000
DTSTAMP:20260422T102844
CREATED:20240421T115857Z
LAST-MODIFIED:20240421T115858Z
UID:10003563-1726653600-1726657200@ccckl.ca
SUMMARY:Moderate Impact Exercise Class
DESCRIPTION:A new program led by a certified Seniors Fitness Instructor. Community-Based Exercise Classes focuses on cardio\, strength\, balance and flexibility. This program encourages participants to stay functionally fit longer\, increase physical activity levels and decrease their risk of falls. \n\n\n\nEvery Wednesday from 10:10 – 11 am at 21 Angeline St. N in Lindsay  \n\n\n\nClick here to register.
URL:https://ccckl.ca/events/low-impact-exercise-class-2/2024-09-18/
LOCATION:Community Care City of Kawartha Lakes Community Health Centre\, 21 Angeline St. N\, Lindsay\, ON\, K9V 5B7\, Canada
END:VEVENT
BEGIN:VEVENT
DTSTART;TZID=America/Toronto:20240918T090000
DTEND;TZID=America/Toronto:20240918T100000
DTSTAMP:20260422T102844
CREATED:20240421T120545Z
LAST-MODIFIED:20240709T163127Z
UID:10003661-1726650000-1726653600@ccckl.ca
SUMMARY:Virtual Chair Yoga
DESCRIPTION:Offered in partnership with Brock CHC\, virtual chair yoga focuses on stretch and meditation practice to help calm the mind\, relax the body\, ease stiffness and discomfort\, improve balance\, strength and flexibility. This class at held at 21 Angeline St. N in-person as we follow along with a live virtual instructor. If you would like to join along at home\, a zoom link can be provided. \n\n\n\nEvery Wednesday from 9 – 10 am at 21 Angeline St. N in Lindsay  \n\n\n\nClick here to register.
URL:https://ccckl.ca/events/virtual-chair-yoga/2024-09-18/
LOCATION:Community Care City of Kawartha Lakes Community Health Centre\, 21 Angeline St. N\, Lindsay\, ON\, K9V 5B7\, Canada
END:VEVENT
BEGIN:VEVENT
DTSTART;TZID=America/Toronto:20240917T133000
DTEND;TZID=America/Toronto:20240917T163000
DTSTAMP:20260422T102844
CREATED:20231130T200248Z
LAST-MODIFIED:20231130T200628Z
UID:10003162-1726579800-1726590600@ccckl.ca
SUMMARY:Good Food Box
DESCRIPTION:No garden? No problem! The Good Food Box program brings accessible\, affordable\, fresh and healthy food to the City of Kawartha Lakes. Anyone can purchase a Good Food Box\, with the season’s finest fresh fruits and vegetables from as many local growers as possible. \n\n\n\nA large box costs $20 and comes with healthy recipe ideas. \n\n\n\nCustomers pre-register by the second Tuesday of the month. \n\n\n\nPick up on the third Tuesday of the month at the Community Health Centre (21 Angeline St. Lindsay) between 1:30 and 4:30 p.m. \n\n\n\nTo register\, or for more information\, contact us at 705-324-7323 ext 165 or gfb@ccckl.ca.
URL:https://ccckl.ca/events/good-food-box-3/2024-09-17/
LOCATION:ON
END:VEVENT
END:VCALENDAR