BEGIN:VCALENDAR
VERSION:2.0
PRODID:-//Community Care City of Kawartha Lakes - ECPv6.15.13//NONSGML v1.0//EN
CALSCALE:GREGORIAN
METHOD:PUBLISH
X-ORIGINAL-URL:https://ccckl.ca
X-WR-CALDESC:Events for Community Care City of Kawartha Lakes
REFRESH-INTERVAL;VALUE=DURATION:PT1H
X-Robots-Tag:noindex
X-PUBLISHED-TTL:PT1H
BEGIN:VTIMEZONE
TZID:America/Toronto
BEGIN:DAYLIGHT
TZOFFSETFROM:-0500
TZOFFSETTO:-0400
TZNAME:EDT
DTSTART:20270314T070000
END:DAYLIGHT
BEGIN:STANDARD
TZOFFSETFROM:-0400
TZOFFSETTO:-0500
TZNAME:EST
DTSTART:20271107T060000
END:STANDARD
BEGIN:DAYLIGHT
TZOFFSETFROM:-0500
TZOFFSETTO:-0400
TZNAME:EDT
DTSTART:20280312T070000
END:DAYLIGHT
BEGIN:STANDARD
TZOFFSETFROM:-0400
TZOFFSETTO:-0500
TZNAME:EST
DTSTART:20281105T060000
END:STANDARD
BEGIN:DAYLIGHT
TZOFFSETFROM:-0500
TZOFFSETTO:-0400
TZNAME:EDT
DTSTART:20290311T070000
END:DAYLIGHT
BEGIN:STANDARD
TZOFFSETFROM:-0400
TZOFFSETTO:-0500
TZNAME:EST
DTSTART:20291104T060000
END:STANDARD
BEGIN:DAYLIGHT
TZOFFSETFROM:-0500
TZOFFSETTO:-0400
TZNAME:EDT
DTSTART:20300310T070000
END:DAYLIGHT
BEGIN:STANDARD
TZOFFSETFROM:-0400
TZOFFSETTO:-0500
TZNAME:EST
DTSTART:20301103T060000
END:STANDARD
END:VTIMEZONE
BEGIN:VEVENT
DTSTART;TZID=America/Toronto:20281221T120000
DTEND;TZID=America/Toronto:20281221T140000
DTSTAMP:20260423T044531
CREATED:20221205T171748Z
LAST-MODIFIED:20250630T152445Z
UID:10004137-1861012800-1861020000@ccckl.ca
SUMMARY:Diners Club (Burnt River)
DESCRIPTION:Join us for some great food in good company! \n\n\n\nPre-registration is required and doors open at noon. Please call us at 705-324-7323 ext. 654 to reserve your spot!
URL:https://ccckl.ca/events/diners-club-burnt-river/2028-12-21/
LOCATION:Burnt River Somerville Centre\, 16 Somerville Centre Rd\, Burnt River\, Ontario\, K0M1C0\, Canada
CATEGORIES:Diner's Club
END:VEVENT
BEGIN:VEVENT
DTSTART;TZID=America/Toronto:20281222T093000
DTEND;TZID=America/Toronto:20281222T103000
DTSTAMP:20260423T044531
CREATED:20230810T154613Z
LAST-MODIFIED:20240421T115621Z
UID:10003507-1861090200-1861093800@ccckl.ca
SUMMARY:Burnt River SAGES
DESCRIPTION:Join us every Monday and Friday (except holidays) at 9:30 am at the Burnt River Community Centre for Gentle Exercise for Seniors. \n\n\n\nCost: $3 per session\, registration not required. First session is free! \n\n\n\nFor more information call 705-324-7323 ext. 165 or email wellness@ccckl.ca
URL:https://ccckl.ca/events/burnt-river-sages/2028-12-22/
LOCATION:Burnt River Somerville Centre\, 16 Somerville Centre Rd\, Burnt River\, Ontario\, K0M1C0\, Canada
CATEGORIES:SAGES
ATTACH;FMTTYPE=image/jpeg:https://ccckl.ca/wp-content/uploads/2023/03/Sages-logo-RGB.jpg
END:VEVENT
BEGIN:VEVENT
DTSTART;TZID=America/Toronto:20281225T093000
DTEND;TZID=America/Toronto:20281225T103000
DTSTAMP:20260423T044531
CREATED:20230810T154613Z
LAST-MODIFIED:20240421T115621Z
UID:10003508-1861349400-1861353000@ccckl.ca
SUMMARY:Burnt River SAGES
DESCRIPTION:Join us every Monday and Friday (except holidays) at 9:30 am at the Burnt River Community Centre for Gentle Exercise for Seniors. \n\n\n\nCost: $3 per session\, registration not required. First session is free! \n\n\n\nFor more information call 705-324-7323 ext. 165 or email wellness@ccckl.ca
URL:https://ccckl.ca/events/burnt-river-sages/2028-12-25/
LOCATION:Burnt River Somerville Centre\, 16 Somerville Centre Rd\, Burnt River\, Ontario\, K0M1C0\, Canada
CATEGORIES:SAGES
ATTACH;FMTTYPE=image/jpeg:https://ccckl.ca/wp-content/uploads/2023/03/Sages-logo-RGB.jpg
END:VEVENT
BEGIN:VEVENT
DTSTART;TZID=America/Toronto:20281226T120000
DTEND;TZID=America/Toronto:20281226T140000
DTSTAMP:20260423T044531
CREATED:20221205T164816Z
LAST-MODIFIED:20250630T152521Z
UID:10004183-1861444800-1861452000@ccckl.ca
SUMMARY:Diners Club (Fenelon Falls)
DESCRIPTION:Join us for some great food in good company! \n\n\n\nPre-registration is required and doors open at noon. Please call us at 705-324-7323 ext. 654 to reserve your spot!
URL:https://ccckl.ca/events/diners-club-fenelon-falls-2/2028-12-26/
LOCATION:70 Murray St\, 70 Murray St\, Fenelon Falls\, Ontario\, K0M 1N0\, Canada
CATEGORIES:Diner's Club
END:VEVENT
BEGIN:VEVENT
DTSTART;TZID=America/Toronto:20281228T120000
DTEND;TZID=America/Toronto:20281228T140000
DTSTAMP:20260423T044531
CREATED:20230810T134223Z
LAST-MODIFIED:20250630T152407Z
UID:10003303-1861617600-1861624800@ccckl.ca
SUMMARY:Diners Club (Coboconk)
DESCRIPTION:Join us for some great food in good company! \n\n\n\nPre-registration is required and doors open at noon. Please call us at 705-324-7323 ext. 654 to reserve your spot!
URL:https://ccckl.ca/events/diners-club-coboconk/2028-12-28/
LOCATION:Coboconk Service Centre\, 9 Grandy Rd\, Coboconk\, Ontario\, Canada
CATEGORIES:Diner's Club
END:VEVENT
BEGIN:VEVENT
DTSTART;TZID=America/Toronto:20281229T093000
DTEND;TZID=America/Toronto:20281229T103000
DTSTAMP:20260423T044531
CREATED:20230810T154613Z
LAST-MODIFIED:20240421T115621Z
UID:10003509-1861695000-1861698600@ccckl.ca
SUMMARY:Burnt River SAGES
DESCRIPTION:Join us every Monday and Friday (except holidays) at 9:30 am at the Burnt River Community Centre for Gentle Exercise for Seniors. \n\n\n\nCost: $3 per session\, registration not required. First session is free! \n\n\n\nFor more information call 705-324-7323 ext. 165 or email wellness@ccckl.ca
URL:https://ccckl.ca/events/burnt-river-sages/2028-12-29/
LOCATION:Burnt River Somerville Centre\, 16 Somerville Centre Rd\, Burnt River\, Ontario\, K0M1C0\, Canada
CATEGORIES:SAGES
ATTACH;FMTTYPE=image/jpeg:https://ccckl.ca/wp-content/uploads/2023/03/Sages-logo-RGB.jpg
END:VEVENT
BEGIN:VEVENT
DTSTART;TZID=America/Toronto:20290101T093000
DTEND;TZID=America/Toronto:20290101T103000
DTSTAMP:20260423T044531
CREATED:20230810T154613Z
LAST-MODIFIED:20240421T115621Z
UID:10003510-1861954200-1861957800@ccckl.ca
SUMMARY:Burnt River SAGES
DESCRIPTION:Join us every Monday and Friday (except holidays) at 9:30 am at the Burnt River Community Centre for Gentle Exercise for Seniors. \n\n\n\nCost: $3 per session\, registration not required. First session is free! \n\n\n\nFor more information call 705-324-7323 ext. 165 or email wellness@ccckl.ca
URL:https://ccckl.ca/events/burnt-river-sages/2029-01-01/
LOCATION:Burnt River Somerville Centre\, 16 Somerville Centre Rd\, Burnt River\, Ontario\, K0M1C0\, Canada
CATEGORIES:SAGES
ATTACH;FMTTYPE=image/jpeg:https://ccckl.ca/wp-content/uploads/2023/03/Sages-logo-RGB.jpg
END:VEVENT
BEGIN:VEVENT
DTSTART;TZID=America/Toronto:20290102T120000
DTEND;TZID=America/Toronto:20290102T140000
DTSTAMP:20260423T044531
CREATED:20221026T143705Z
LAST-MODIFIED:20250630T152535Z
UID:10004206-1862049600-1862056800@ccckl.ca
SUMMARY:Diners Club (Lindsay)
DESCRIPTION:Join us for some great food in good company! \n\n\n\nPre-registration is required and doors open at noon. Please call us at 705-324-7323 ext. 654 to reserve your spot!
URL:https://ccckl.ca/events/diners-club-11/2029-01-02/
LOCATION:65 Melbourne St W\, 65 Melbourne St W\, Lindsay\, Ontario\, K9V 0G4\, Canada
CATEGORIES:Diner's Club
END:VEVENT
BEGIN:VEVENT
DTSTART;TZID=America/Toronto:20290104T120000
DTEND;TZID=America/Toronto:20290104T140000
DTSTAMP:20260423T044531
CREATED:20230810T133725Z
LAST-MODIFIED:20250630T152430Z
UID:10004115-1862222400-1862229600@ccckl.ca
SUMMARY:Diners Club (Bethany)
DESCRIPTION:Join us for some great food in good company! \n\n\n\nPre-registration is required and doors open at noon. Please call us at 705-324-7323 ext. 654 to reserve your spot!
URL:https://ccckl.ca/events/diners-club-bethany/2029-01-04/
LOCATION:Bethany United Church\, 3 George St\, Bethany\, Ontario\, L0A 1A0\, Canada
CATEGORIES:Diner's Club
END:VEVENT
BEGIN:VEVENT
DTSTART;TZID=America/Toronto:20290105T093000
DTEND;TZID=America/Toronto:20290105T103000
DTSTAMP:20260423T044531
CREATED:20230810T154613Z
LAST-MODIFIED:20240421T115621Z
UID:10003511-1862299800-1862303400@ccckl.ca
SUMMARY:Burnt River SAGES
DESCRIPTION:Join us every Monday and Friday (except holidays) at 9:30 am at the Burnt River Community Centre for Gentle Exercise for Seniors. \n\n\n\nCost: $3 per session\, registration not required. First session is free! \n\n\n\nFor more information call 705-324-7323 ext. 165 or email wellness@ccckl.ca
URL:https://ccckl.ca/events/burnt-river-sages/2029-01-05/
LOCATION:Burnt River Somerville Centre\, 16 Somerville Centre Rd\, Burnt River\, Ontario\, K0M1C0\, Canada
CATEGORIES:SAGES
ATTACH;FMTTYPE=image/jpeg:https://ccckl.ca/wp-content/uploads/2023/03/Sages-logo-RGB.jpg
END:VEVENT
BEGIN:VEVENT
DTSTART;TZID=America/Toronto:20290108T093000
DTEND;TZID=America/Toronto:20290108T103000
DTSTAMP:20260423T044531
CREATED:20230810T154613Z
LAST-MODIFIED:20240421T115621Z
UID:10003512-1862559000-1862562600@ccckl.ca
SUMMARY:Burnt River SAGES
DESCRIPTION:Join us every Monday and Friday (except holidays) at 9:30 am at the Burnt River Community Centre for Gentle Exercise for Seniors. \n\n\n\nCost: $3 per session\, registration not required. First session is free! \n\n\n\nFor more information call 705-324-7323 ext. 165 or email wellness@ccckl.ca
URL:https://ccckl.ca/events/burnt-river-sages/2029-01-08/
LOCATION:Burnt River Somerville Centre\, 16 Somerville Centre Rd\, Burnt River\, Ontario\, K0M1C0\, Canada
CATEGORIES:SAGES
ATTACH;FMTTYPE=image/jpeg:https://ccckl.ca/wp-content/uploads/2023/03/Sages-logo-RGB.jpg
END:VEVENT
BEGIN:VEVENT
DTSTART;TZID=America/Toronto:20290109T120000
DTEND;TZID=America/Toronto:20290109T140000
DTSTAMP:20260423T044531
CREATED:20240904T135216Z
LAST-MODIFIED:20250630T152344Z
UID:10003920-1862654400-1862661600@ccckl.ca
SUMMARY:Diners Club (Fenelon Falls)
DESCRIPTION:Join us for some great food in good company! \n\n\n\nPre-registration is required and doors open at noon. Please call us at 705-324-7323 ext. 654 to reserve your spot!
URL:https://ccckl.ca/events/diners-club-fenelon-falls/2029-01-09/
LOCATION:70 Murray St\, 70 Murray St\, Fenelon Falls\, Ontario\, K0M 1N0\, Canada
CATEGORIES:Diner's Club
END:VEVENT
BEGIN:VEVENT
DTSTART;TZID=America/Toronto:20290111T120000
DTEND;TZID=America/Toronto:20290111T140000
DTSTAMP:20260423T044531
CREATED:20250630T152232Z
LAST-MODIFIED:20250630T152234Z
UID:10004069-1862827200-1862834400@ccckl.ca
SUMMARY:Diners Club (Bobcaygeon)
DESCRIPTION:Join us for some great food in good company! \n\n\n\nPre-registration is required and doors open at noon. Please call us at 705-324-7323 ext. 654 to reserve your spot!
URL:https://ccckl.ca/events/diners-club-bobcaygeon-2/2029-01-11/
LOCATION:Trinity United Church\, 44 William St\, Bobcaygeon\, Ontario\, K0M 1A0\, Canada
CATEGORIES:Diner's Club
END:VEVENT
BEGIN:VEVENT
DTSTART;TZID=America/Toronto:20290112T093000
DTEND;TZID=America/Toronto:20290112T103000
DTSTAMP:20260423T044531
CREATED:20230810T154613Z
LAST-MODIFIED:20240421T115621Z
UID:10003513-1862904600-1862908200@ccckl.ca
SUMMARY:Burnt River SAGES
DESCRIPTION:Join us every Monday and Friday (except holidays) at 9:30 am at the Burnt River Community Centre for Gentle Exercise for Seniors. \n\n\n\nCost: $3 per session\, registration not required. First session is free! \n\n\n\nFor more information call 705-324-7323 ext. 165 or email wellness@ccckl.ca
URL:https://ccckl.ca/events/burnt-river-sages/2029-01-12/
LOCATION:Burnt River Somerville Centre\, 16 Somerville Centre Rd\, Burnt River\, Ontario\, K0M1C0\, Canada
CATEGORIES:SAGES
ATTACH;FMTTYPE=image/jpeg:https://ccckl.ca/wp-content/uploads/2023/03/Sages-logo-RGB.jpg
END:VEVENT
BEGIN:VEVENT
DTSTART;TZID=America/Toronto:20290115T093000
DTEND;TZID=America/Toronto:20290115T103000
DTSTAMP:20260423T044531
CREATED:20230810T154613Z
LAST-MODIFIED:20240421T115621Z
UID:10003514-1863163800-1863167400@ccckl.ca
SUMMARY:Burnt River SAGES
DESCRIPTION:Join us every Monday and Friday (except holidays) at 9:30 am at the Burnt River Community Centre for Gentle Exercise for Seniors. \n\n\n\nCost: $3 per session\, registration not required. First session is free! \n\n\n\nFor more information call 705-324-7323 ext. 165 or email wellness@ccckl.ca
URL:https://ccckl.ca/events/burnt-river-sages/2029-01-15/
LOCATION:Burnt River Somerville Centre\, 16 Somerville Centre Rd\, Burnt River\, Ontario\, K0M1C0\, Canada
CATEGORIES:SAGES
ATTACH;FMTTYPE=image/jpeg:https://ccckl.ca/wp-content/uploads/2023/03/Sages-logo-RGB.jpg
END:VEVENT
BEGIN:VEVENT
DTSTART;TZID=America/Toronto:20290116T120000
DTEND;TZID=America/Toronto:20290116T140000
DTSTAMP:20260423T044531
CREATED:20221205T170845Z
LAST-MODIFIED:20250630T152507Z
UID:10004161-1863259200-1863266400@ccckl.ca
SUMMARY:Diners Club (Lindsay)
DESCRIPTION:Join us for some great food in good company! \n\n\n\nPre-registration is required and doors open at noon. Please call us at 705-324-7323 ext. 654 to reserve your spot!
URL:https://ccckl.ca/events/diners-club-lindsay/2029-01-16/
LOCATION:65 Melbourne St W\, 65 Melbourne St W\, Lindsay\, Ontario\, K9V 0G4\, Canada
CATEGORIES:Diner's Club
END:VEVENT
BEGIN:VEVENT
DTSTART;TZID=America/Toronto:20290118T120000
DTEND;TZID=America/Toronto:20290118T140000
DTSTAMP:20260423T044531
CREATED:20221205T171748Z
LAST-MODIFIED:20250630T152445Z
UID:10004138-1863432000-1863439200@ccckl.ca
SUMMARY:Diners Club (Burnt River)
DESCRIPTION:Join us for some great food in good company! \n\n\n\nPre-registration is required and doors open at noon. Please call us at 705-324-7323 ext. 654 to reserve your spot!
URL:https://ccckl.ca/events/diners-club-burnt-river/2029-01-18/
LOCATION:Burnt River Somerville Centre\, 16 Somerville Centre Rd\, Burnt River\, Ontario\, K0M1C0\, Canada
CATEGORIES:Diner's Club
END:VEVENT
BEGIN:VEVENT
DTSTART;TZID=America/Toronto:20290119T093000
DTEND;TZID=America/Toronto:20290119T103000
DTSTAMP:20260423T044531
CREATED:20230810T154613Z
LAST-MODIFIED:20240421T115621Z
UID:10003515-1863509400-1863513000@ccckl.ca
SUMMARY:Burnt River SAGES
DESCRIPTION:Join us every Monday and Friday (except holidays) at 9:30 am at the Burnt River Community Centre for Gentle Exercise for Seniors. \n\n\n\nCost: $3 per session\, registration not required. First session is free! \n\n\n\nFor more information call 705-324-7323 ext. 165 or email wellness@ccckl.ca
URL:https://ccckl.ca/events/burnt-river-sages/2029-01-19/
LOCATION:Burnt River Somerville Centre\, 16 Somerville Centre Rd\, Burnt River\, Ontario\, K0M1C0\, Canada
CATEGORIES:SAGES
ATTACH;FMTTYPE=image/jpeg:https://ccckl.ca/wp-content/uploads/2023/03/Sages-logo-RGB.jpg
END:VEVENT
BEGIN:VEVENT
DTSTART;TZID=America/Toronto:20290122T093000
DTEND;TZID=America/Toronto:20290122T103000
DTSTAMP:20260423T044531
CREATED:20230810T154613Z
LAST-MODIFIED:20240421T115621Z
UID:10003516-1863768600-1863772200@ccckl.ca
SUMMARY:Burnt River SAGES
DESCRIPTION:Join us every Monday and Friday (except holidays) at 9:30 am at the Burnt River Community Centre for Gentle Exercise for Seniors. \n\n\n\nCost: $3 per session\, registration not required. First session is free! \n\n\n\nFor more information call 705-324-7323 ext. 165 or email wellness@ccckl.ca
URL:https://ccckl.ca/events/burnt-river-sages/2029-01-22/
LOCATION:Burnt River Somerville Centre\, 16 Somerville Centre Rd\, Burnt River\, Ontario\, K0M1C0\, Canada
CATEGORIES:SAGES
ATTACH;FMTTYPE=image/jpeg:https://ccckl.ca/wp-content/uploads/2023/03/Sages-logo-RGB.jpg
END:VEVENT
BEGIN:VEVENT
DTSTART;TZID=America/Toronto:20290123T120000
DTEND;TZID=America/Toronto:20290123T140000
DTSTAMP:20260423T044531
CREATED:20221205T164816Z
LAST-MODIFIED:20250630T152521Z
UID:10004184-1863864000-1863871200@ccckl.ca
SUMMARY:Diners Club (Fenelon Falls)
DESCRIPTION:Join us for some great food in good company! \n\n\n\nPre-registration is required and doors open at noon. Please call us at 705-324-7323 ext. 654 to reserve your spot!
URL:https://ccckl.ca/events/diners-club-fenelon-falls-2/2029-01-23/
LOCATION:70 Murray St\, 70 Murray St\, Fenelon Falls\, Ontario\, K0M 1N0\, Canada
CATEGORIES:Diner's Club
END:VEVENT
BEGIN:VEVENT
DTSTART;TZID=America/Toronto:20290125T120000
DTEND;TZID=America/Toronto:20290125T140000
DTSTAMP:20260423T044531
CREATED:20230810T134223Z
LAST-MODIFIED:20250630T152407Z
UID:10003928-1864036800-1864044000@ccckl.ca
SUMMARY:Diners Club (Coboconk)
DESCRIPTION:Join us for some great food in good company! \n\n\n\nPre-registration is required and doors open at noon. Please call us at 705-324-7323 ext. 654 to reserve your spot!
URL:https://ccckl.ca/events/diners-club-coboconk/2029-01-25/
LOCATION:Coboconk Service Centre\, 9 Grandy Rd\, Coboconk\, Ontario\, Canada
CATEGORIES:Diner's Club
END:VEVENT
BEGIN:VEVENT
DTSTART;TZID=America/Toronto:20290126T093000
DTEND;TZID=America/Toronto:20290126T103000
DTSTAMP:20260423T044531
CREATED:20230810T154613Z
LAST-MODIFIED:20240421T115621Z
UID:10003517-1864114200-1864117800@ccckl.ca
SUMMARY:Burnt River SAGES
DESCRIPTION:Join us every Monday and Friday (except holidays) at 9:30 am at the Burnt River Community Centre for Gentle Exercise for Seniors. \n\n\n\nCost: $3 per session\, registration not required. First session is free! \n\n\n\nFor more information call 705-324-7323 ext. 165 or email wellness@ccckl.ca
URL:https://ccckl.ca/events/burnt-river-sages/2029-01-26/
LOCATION:Burnt River Somerville Centre\, 16 Somerville Centre Rd\, Burnt River\, Ontario\, K0M1C0\, Canada
CATEGORIES:SAGES
ATTACH;FMTTYPE=image/jpeg:https://ccckl.ca/wp-content/uploads/2023/03/Sages-logo-RGB.jpg
END:VEVENT
BEGIN:VEVENT
DTSTART;TZID=America/Toronto:20290129T093000
DTEND;TZID=America/Toronto:20290129T103000
DTSTAMP:20260423T044531
CREATED:20230810T154613Z
LAST-MODIFIED:20240421T115621Z
UID:10003518-1864373400-1864377000@ccckl.ca
SUMMARY:Burnt River SAGES
DESCRIPTION:Join us every Monday and Friday (except holidays) at 9:30 am at the Burnt River Community Centre for Gentle Exercise for Seniors. \n\n\n\nCost: $3 per session\, registration not required. First session is free! \n\n\n\nFor more information call 705-324-7323 ext. 165 or email wellness@ccckl.ca
URL:https://ccckl.ca/events/burnt-river-sages/2029-01-29/
LOCATION:Burnt River Somerville Centre\, 16 Somerville Centre Rd\, Burnt River\, Ontario\, K0M1C0\, Canada
CATEGORIES:SAGES
ATTACH;FMTTYPE=image/jpeg:https://ccckl.ca/wp-content/uploads/2023/03/Sages-logo-RGB.jpg
END:VEVENT
BEGIN:VEVENT
DTSTART;TZID=America/Toronto:20290201T120000
DTEND;TZID=America/Toronto:20290201T140000
DTSTAMP:20260423T044531
CREATED:20230810T133725Z
LAST-MODIFIED:20250630T152430Z
UID:10004116-1864641600-1864648800@ccckl.ca
SUMMARY:Diners Club (Bethany)
DESCRIPTION:Join us for some great food in good company! \n\n\n\nPre-registration is required and doors open at noon. Please call us at 705-324-7323 ext. 654 to reserve your spot!
URL:https://ccckl.ca/events/diners-club-bethany/2029-02-01/
LOCATION:Bethany United Church\, 3 George St\, Bethany\, Ontario\, L0A 1A0\, Canada
CATEGORIES:Diner's Club
END:VEVENT
BEGIN:VEVENT
DTSTART;TZID=America/Toronto:20290202T093000
DTEND;TZID=America/Toronto:20290202T103000
DTSTAMP:20260423T044531
CREATED:20230810T154613Z
LAST-MODIFIED:20240421T115621Z
UID:10003519-1864719000-1864722600@ccckl.ca
SUMMARY:Burnt River SAGES
DESCRIPTION:Join us every Monday and Friday (except holidays) at 9:30 am at the Burnt River Community Centre for Gentle Exercise for Seniors. \n\n\n\nCost: $3 per session\, registration not required. First session is free! \n\n\n\nFor more information call 705-324-7323 ext. 165 or email wellness@ccckl.ca
URL:https://ccckl.ca/events/burnt-river-sages/2029-02-02/
LOCATION:Burnt River Somerville Centre\, 16 Somerville Centre Rd\, Burnt River\, Ontario\, K0M1C0\, Canada
CATEGORIES:SAGES
ATTACH;FMTTYPE=image/jpeg:https://ccckl.ca/wp-content/uploads/2023/03/Sages-logo-RGB.jpg
END:VEVENT
BEGIN:VEVENT
DTSTART;TZID=America/Toronto:20290205T093000
DTEND;TZID=America/Toronto:20290205T103000
DTSTAMP:20260423T044531
CREATED:20230810T154613Z
LAST-MODIFIED:20240421T115621Z
UID:10003520-1864978200-1864981800@ccckl.ca
SUMMARY:Burnt River SAGES
DESCRIPTION:Join us every Monday and Friday (except holidays) at 9:30 am at the Burnt River Community Centre for Gentle Exercise for Seniors. \n\n\n\nCost: $3 per session\, registration not required. First session is free! \n\n\n\nFor more information call 705-324-7323 ext. 165 or email wellness@ccckl.ca
URL:https://ccckl.ca/events/burnt-river-sages/2029-02-05/
LOCATION:Burnt River Somerville Centre\, 16 Somerville Centre Rd\, Burnt River\, Ontario\, K0M1C0\, Canada
CATEGORIES:SAGES
ATTACH;FMTTYPE=image/jpeg:https://ccckl.ca/wp-content/uploads/2023/03/Sages-logo-RGB.jpg
END:VEVENT
BEGIN:VEVENT
DTSTART;TZID=America/Toronto:20290206T120000
DTEND;TZID=America/Toronto:20290206T140000
DTSTAMP:20260423T044531
CREATED:20221026T143705Z
LAST-MODIFIED:20250630T152535Z
UID:10004207-1865073600-1865080800@ccckl.ca
SUMMARY:Diners Club (Lindsay)
DESCRIPTION:Join us for some great food in good company! \n\n\n\nPre-registration is required and doors open at noon. Please call us at 705-324-7323 ext. 654 to reserve your spot!
URL:https://ccckl.ca/events/diners-club-11/2029-02-06/
LOCATION:65 Melbourne St W\, 65 Melbourne St W\, Lindsay\, Ontario\, K9V 0G4\, Canada
CATEGORIES:Diner's Club
END:VEVENT
BEGIN:VEVENT
DTSTART;TZID=America/Toronto:20290208T120000
DTEND;TZID=America/Toronto:20290208T140000
DTSTAMP:20260423T044531
CREATED:20250630T152232Z
LAST-MODIFIED:20250630T152234Z
UID:10004070-1865246400-1865253600@ccckl.ca
SUMMARY:Diners Club (Bobcaygeon)
DESCRIPTION:Join us for some great food in good company! \n\n\n\nPre-registration is required and doors open at noon. Please call us at 705-324-7323 ext. 654 to reserve your spot!
URL:https://ccckl.ca/events/diners-club-bobcaygeon-2/2029-02-08/
LOCATION:Trinity United Church\, 44 William St\, Bobcaygeon\, Ontario\, K0M 1A0\, Canada
CATEGORIES:Diner's Club
END:VEVENT
BEGIN:VEVENT
DTSTART;TZID=America/Toronto:20290209T093000
DTEND;TZID=America/Toronto:20290209T103000
DTSTAMP:20260423T044531
CREATED:20230810T154613Z
LAST-MODIFIED:20240421T115621Z
UID:10003521-1865323800-1865327400@ccckl.ca
SUMMARY:Burnt River SAGES
DESCRIPTION:Join us every Monday and Friday (except holidays) at 9:30 am at the Burnt River Community Centre for Gentle Exercise for Seniors. \n\n\n\nCost: $3 per session\, registration not required. First session is free! \n\n\n\nFor more information call 705-324-7323 ext. 165 or email wellness@ccckl.ca
URL:https://ccckl.ca/events/burnt-river-sages/2029-02-09/
LOCATION:Burnt River Somerville Centre\, 16 Somerville Centre Rd\, Burnt River\, Ontario\, K0M1C0\, Canada
CATEGORIES:SAGES
ATTACH;FMTTYPE=image/jpeg:https://ccckl.ca/wp-content/uploads/2023/03/Sages-logo-RGB.jpg
END:VEVENT
BEGIN:VEVENT
DTSTART;TZID=America/Toronto:20290212T093000
DTEND;TZID=America/Toronto:20290212T103000
DTSTAMP:20260423T044531
CREATED:20230810T154613Z
LAST-MODIFIED:20240421T115621Z
UID:10003522-1865583000-1865586600@ccckl.ca
SUMMARY:Burnt River SAGES
DESCRIPTION:Join us every Monday and Friday (except holidays) at 9:30 am at the Burnt River Community Centre for Gentle Exercise for Seniors. \n\n\n\nCost: $3 per session\, registration not required. First session is free! \n\n\n\nFor more information call 705-324-7323 ext. 165 or email wellness@ccckl.ca
URL:https://ccckl.ca/events/burnt-river-sages/2029-02-12/
LOCATION:Burnt River Somerville Centre\, 16 Somerville Centre Rd\, Burnt River\, Ontario\, K0M1C0\, Canada
CATEGORIES:SAGES
ATTACH;FMTTYPE=image/jpeg:https://ccckl.ca/wp-content/uploads/2023/03/Sages-logo-RGB.jpg
END:VEVENT
END:VCALENDAR