BEGIN:VCALENDAR
VERSION:2.0
PRODID:-//Community Care City of Kawartha Lakes - ECPv6.15.13//NONSGML v1.0//EN
CALSCALE:GREGORIAN
METHOD:PUBLISH
X-ORIGINAL-URL:https://ccckl.ca
X-WR-CALDESC:Events for Community Care City of Kawartha Lakes
REFRESH-INTERVAL;VALUE=DURATION:PT1H
X-Robots-Tag:noindex
X-PUBLISHED-TTL:PT1H
BEGIN:VTIMEZONE
TZID:America/Toronto
BEGIN:DAYLIGHT
TZOFFSETFROM:-0500
TZOFFSETTO:-0400
TZNAME:EDT
DTSTART:20230312T070000
END:DAYLIGHT
BEGIN:STANDARD
TZOFFSETFROM:-0400
TZOFFSETTO:-0500
TZNAME:EST
DTSTART:20231105T060000
END:STANDARD
BEGIN:DAYLIGHT
TZOFFSETFROM:-0500
TZOFFSETTO:-0400
TZNAME:EDT
DTSTART:20240310T070000
END:DAYLIGHT
BEGIN:STANDARD
TZOFFSETFROM:-0400
TZOFFSETTO:-0500
TZNAME:EST
DTSTART:20241103T060000
END:STANDARD
BEGIN:DAYLIGHT
TZOFFSETFROM:-0500
TZOFFSETTO:-0400
TZNAME:EDT
DTSTART:20250309T070000
END:DAYLIGHT
BEGIN:STANDARD
TZOFFSETFROM:-0400
TZOFFSETTO:-0500
TZNAME:EST
DTSTART:20251102T060000
END:STANDARD
END:VTIMEZONE
BEGIN:VEVENT
DTSTART;TZID=America/Toronto:20240507T120000
DTEND;TZID=America/Toronto:20240507T140000
DTSTAMP:20260423T113854
CREATED:20221026T143705Z
LAST-MODIFIED:20250630T152535Z
UID:10001480-1715083200-1715090400@ccckl.ca
SUMMARY:Diners Club (Lindsay)
DESCRIPTION:Join us for some great food in good company! \n\n\n\nPre-registration is required and doors open at noon. Please call us at 705-324-7323 ext. 654 to reserve your spot!
URL:https://ccckl.ca/events/diners-club-11/2024-05-07/
LOCATION:65 Melbourne St W\, 65 Melbourne St W\, Lindsay\, Ontario\, K9V 0G4\, Canada
CATEGORIES:Diner's Club
END:VEVENT
BEGIN:VEVENT
DTSTART;TZID=America/Toronto:20240507T100000
DTEND;TZID=America/Toronto:20240507T110000
DTSTAMP:20260423T113854
CREATED:20230810T191211Z
LAST-MODIFIED:20231214T212853Z
UID:10002793-1715076000-1715079600@ccckl.ca
SUMMARY:Coboconk SAGES
DESCRIPTION:Join us every Tuesdays at 10:00 am at the Coboconk Legion for Gentle Exercise for Seniors. \n\n\n\nCost: $2 per session\, registration not required. First session is free! \n\n\n\nFor more information call 705-324-7323 ext. 165 or email wellness@ccckl.ca
URL:https://ccckl.ca/events/coboconk-sages-2/2024-05-07/
LOCATION:Royal Canadian Legion\, Branch 519\, 2916 Kawartha Lakes Rd 48\, Coboconk\, Ontario\, K0M 1K0\, Canada
CATEGORIES:SAGES
ATTACH;FMTTYPE=image/jpeg:https://ccckl.ca/wp-content/uploads/2023/03/Sages-logo-RGB.jpg
END:VEVENT
BEGIN:VEVENT
DTSTART;TZID=America/Toronto:20240507T093000
DTEND;TZID=America/Toronto:20240507T103000
DTSTAMP:20260423T113854
CREATED:20230810T191728Z
LAST-MODIFIED:20231218T163205Z
UID:10002907-1715074200-1715077800@ccckl.ca
SUMMARY:Manilla SAGES
DESCRIPTION:Join us every Tuesday at 9:30 at the Manilla Library for Gentle Exercise for Seniors. \n\n\n\nCost: $3 per session\, registration not required. First session is free! \n\n\n\nFor more information call 705-324-7323 ext. 165 or email wellness@ccckl.ca
URL:https://ccckl.ca/events/manilla-sages-2/2024-05-07/
LOCATION:Manilla Library\, 17025 Simcoe St.\, Manilla\, K0M 2J0\, Canada
CATEGORIES:SAGES
ATTACH;FMTTYPE=image/jpeg:https://ccckl.ca/wp-content/uploads/2023/03/Sages-logo-RGB.jpg
END:VEVENT
BEGIN:VEVENT
DTSTART;TZID=America/Toronto:20240507T090000
DTEND;TZID=America/Toronto:20240507T100000
DTSTAMP:20260423T113854
CREATED:20240421T131608Z
LAST-MODIFIED:20240421T131637Z
UID:10003740-1715072400-1715076000@ccckl.ca
SUMMARY:Virtual Gentle Fit
DESCRIPTION:In partnership with Brock CHC\, this session aims to improve functional fitness through strength\, balance and cardio exercises. Classes are held virtually\, in your own space/home. Please contact us if you are interested in receiving the zoom link. \n\n\n\nEvery Tuesday from 9 – 10 am on Zoom. \n\n\n\nClick here to register.
URL:https://ccckl.ca/events/virtual-gentle-fit/2024-05-07/
LOCATION:Community Care City of Kawartha Lakes Community Health Centre\, 21 Angeline St. N\, Lindsay\, ON\, K9V 5B7\, Canada
END:VEVENT
BEGIN:VEVENT
DTSTART;TZID=America/Toronto:20240506T140000
DTEND;TZID=America/Toronto:20240506T150000
DTSTAMP:20260423T113854
CREATED:20240206T172252Z
LAST-MODIFIED:20240421T115207Z
UID:10003319-1715004000-1715007600@ccckl.ca
SUMMARY:Low Impact Exercise Class
DESCRIPTION:A new program led by a certified Seniors Fitness Instructor. Community-Based Exercise Classes focuses on cardio\, strength\, balance and flexibility. This program encourages participants to stay functionally fit longer\, increase physical activity levels and decrease their risk of falls. \n\n\n\nEvery Monday (except holidays) from 2 – 3 pm at 21 Angeline St. N in Lindsay  \n\n\n\nClick here to register.
URL:https://ccckl.ca/events/community-based-exercise-class-2/2024-05-06/
LOCATION:Community Care City of Kawartha Lakes Community Health Centre\, 21 Angeline St. N\, Lindsay\, ON\, K9V 5B7\, Canada
END:VEVENT
BEGIN:VEVENT
DTSTART;TZID=America/Toronto:20240506T100000
DTEND;TZID=America/Toronto:20240506T110000
DTSTAMP:20260423T113854
CREATED:20230810T190900Z
LAST-MODIFIED:20231218T163714Z
UID:10002624-1714989600-1714993200@ccckl.ca
SUMMARY:Bobcaygeon SAGES
DESCRIPTION:Join us every Monday and Thursday at 10:00 am at the Bobcaygeon Senior’s Centre for Gentle Exercise for Seniors. \n\n\n\nCost: $3 per session\, pre-registration for the Bobcaygeon SAGES program is required. First session is free! \n\n\n\nFor more information\, or to register\, call 705-324-7323 ext. 165 or email wellness@ccckl.ca
URL:https://ccckl.ca/events/bobcaygeon-sages-2/2024-05-06/
LOCATION:Bobcaygeon Senior Centre\, 100 Head Street\, Bobcaygeon\, Canada
CATEGORIES:SAGES
ATTACH;FMTTYPE=image/jpeg:https://ccckl.ca/wp-content/uploads/2023/03/Sages-logo-RGB.jpg
END:VEVENT
BEGIN:VEVENT
DTSTART;TZID=America/Toronto:20240506T100000
DTEND;TZID=America/Toronto:20240506T110000
DTSTAMP:20260423T113854
CREATED:20230810T190727Z
LAST-MODIFIED:20231218T163457Z
UID:10002546-1714989600-1714993200@ccckl.ca
SUMMARY:Fenelon Falls SAGES
DESCRIPTION:Join us every Monday and Wednesday at 10:00 am at the Senior Citizens Club of Fenelon Falls for Gentle Exercise for Seniors. \n\n\n\nCost: $2 per session\, registration not required. First session is free! \n\n\n\nFor more information call 705-324-7323 ext. 165 or email wellness@ccckl.ca
URL:https://ccckl.ca/events/fenelon-falls-sages-3/2024-05-06/
LOCATION:Senior Citizens Club Of Fenelon Falls\, 58 Murray Street\, Fenelon Falls\, Ontario\, K0M 1N0\, Canada
CATEGORIES:SAGES
ATTACH;FMTTYPE=image/jpeg:https://ccckl.ca/wp-content/uploads/2023/03/Sages-logo-RGB.jpg
END:VEVENT
BEGIN:VEVENT
DTSTART;TZID=America/Toronto:20240506T093000
DTEND;TZID=America/Toronto:20240506T103000
DTSTAMP:20260423T113854
CREATED:20230810T154613Z
LAST-MODIFIED:20240421T115621Z
UID:10001665-1714987800-1714991400@ccckl.ca
SUMMARY:Burnt River SAGES
DESCRIPTION:Join us every Monday and Friday (except holidays) at 9:30 am at the Burnt River Community Centre for Gentle Exercise for Seniors. \n\n\n\nCost: $3 per session\, registration not required. First session is free! \n\n\n\nFor more information call 705-324-7323 ext. 165 or email wellness@ccckl.ca
URL:https://ccckl.ca/events/burnt-river-sages/2024-05-06/
LOCATION:Burnt River Somerville Centre\, 16 Somerville Centre Rd\, Burnt River\, Ontario\, K0M1C0\, Canada
CATEGORIES:SAGES
ATTACH;FMTTYPE=image/jpeg:https://ccckl.ca/wp-content/uploads/2023/03/Sages-logo-RGB.jpg
END:VEVENT
BEGIN:VEVENT
DTSTART;TZID=America/Toronto:20240503T093000
DTEND;TZID=America/Toronto:20240503T103000
DTSTAMP:20260423T113854
CREATED:20230810T154613Z
LAST-MODIFIED:20240421T115621Z
UID:10001664-1714728600-1714732200@ccckl.ca
SUMMARY:Burnt River SAGES
DESCRIPTION:Join us every Monday and Friday (except holidays) at 9:30 am at the Burnt River Community Centre for Gentle Exercise for Seniors. \n\n\n\nCost: $3 per session\, registration not required. First session is free! \n\n\n\nFor more information call 705-324-7323 ext. 165 or email wellness@ccckl.ca
URL:https://ccckl.ca/events/burnt-river-sages/2024-05-03/
LOCATION:Burnt River Somerville Centre\, 16 Somerville Centre Rd\, Burnt River\, Ontario\, K0M1C0\, Canada
CATEGORIES:SAGES
ATTACH;FMTTYPE=image/jpeg:https://ccckl.ca/wp-content/uploads/2023/03/Sages-logo-RGB.jpg
END:VEVENT
BEGIN:VEVENT
DTSTART;TZID=America/Toronto:20240502T120000
DTEND;TZID=America/Toronto:20240502T140000
DTSTAMP:20260423T113854
CREATED:20230810T133725Z
LAST-MODIFIED:20250630T152430Z
UID:10001263-1714651200-1714658400@ccckl.ca
SUMMARY:Diners Club (Bethany)
DESCRIPTION:Join us for some great food in good company! \n\n\n\nPre-registration is required and doors open at noon. Please call us at 705-324-7323 ext. 654 to reserve your spot!
URL:https://ccckl.ca/events/diners-club-bethany/2024-05-02/
LOCATION:Bethany United Church\, 3 George St\, Bethany\, Ontario\, L0A 1A0\, Canada
CATEGORIES:Diner's Club
END:VEVENT
BEGIN:VEVENT
DTSTART;TZID=America/Toronto:20240502T100000
DTEND;TZID=America/Toronto:20240502T110000
DTSTAMP:20260423T113854
CREATED:20230810T190900Z
LAST-MODIFIED:20231218T163714Z
UID:10002672-1714644000-1714647600@ccckl.ca
SUMMARY:Bobcaygeon SAGES
DESCRIPTION:Join us every Monday and Thursday at 10:00 am at the Bobcaygeon Senior’s Centre for Gentle Exercise for Seniors. \n\n\n\nCost: $3 per session\, pre-registration for the Bobcaygeon SAGES program is required. First session is free! \n\n\n\nFor more information\, or to register\, call 705-324-7323 ext. 165 or email wellness@ccckl.ca
URL:https://ccckl.ca/events/bobcaygeon-sages-2/2024-05-02/
LOCATION:Bobcaygeon Senior Centre\, 100 Head Street\, Bobcaygeon\, Canada
CATEGORIES:SAGES
ATTACH;FMTTYPE=image/jpeg:https://ccckl.ca/wp-content/uploads/2023/03/Sages-logo-RGB.jpg
END:VEVENT
BEGIN:VEVENT
DTSTART;TZID=America/Toronto:20240502T093000
DTEND;TZID=America/Toronto:20240502T103000
DTSTAMP:20260423T113854
CREATED:20231005T131611Z
LAST-MODIFIED:20231218T163348Z
UID:10002986-1714642200-1714645800@ccckl.ca
SUMMARY:Kirkfield SAGES
DESCRIPTION:Join us every Thursday at 9:30 am at the Kirkfield District Lions Club for Gentle Exercise for Seniors. \n\n\n\nCost: $3 per session\, registration not required. First session is free! \n\n\n\nFor more information call 705-324-7323 ext. 165 or email wellness@ccckl.ca
URL:https://ccckl.ca/events/kirkfield-sages-2/2024-05-02/
LOCATION:Kirkfield & District Lions Club\, 973 Portage Rd\, Kirkfield\, Ontario\, K0M 2B0\, Canada
CATEGORIES:SAGES
ATTACH;FMTTYPE=image/jpeg:https://ccckl.ca/wp-content/uploads/2023/03/Sages-logo-RGB.jpg
END:VEVENT
BEGIN:VEVENT
DTSTART;TZID=America/Toronto:20240501T100000
DTEND;TZID=America/Toronto:20240501T110000
DTSTAMP:20260423T113854
CREATED:20240421T115857Z
LAST-MODIFIED:20240421T115858Z
UID:10003543-1714557600-1714561200@ccckl.ca
SUMMARY:Moderate Impact Exercise Class
DESCRIPTION:A new program led by a certified Seniors Fitness Instructor. Community-Based Exercise Classes focuses on cardio\, strength\, balance and flexibility. This program encourages participants to stay functionally fit longer\, increase physical activity levels and decrease their risk of falls. \n\n\n\nEvery Wednesday from 10:10 – 11 am at 21 Angeline St. N in Lindsay  \n\n\n\nClick here to register.
URL:https://ccckl.ca/events/low-impact-exercise-class-2/2024-05-01/
LOCATION:Community Care City of Kawartha Lakes Community Health Centre\, 21 Angeline St. N\, Lindsay\, ON\, K9V 5B7\, Canada
END:VEVENT
BEGIN:VEVENT
DTSTART;TZID=America/Toronto:20240501T100000
DTEND;TZID=America/Toronto:20240501T110000
DTSTAMP:20260423T113854
CREATED:20230810T190727Z
LAST-MODIFIED:20231218T163457Z
UID:10002545-1714557600-1714561200@ccckl.ca
SUMMARY:Fenelon Falls SAGES
DESCRIPTION:Join us every Monday and Wednesday at 10:00 am at the Senior Citizens Club of Fenelon Falls for Gentle Exercise for Seniors. \n\n\n\nCost: $2 per session\, registration not required. First session is free! \n\n\n\nFor more information call 705-324-7323 ext. 165 or email wellness@ccckl.ca
URL:https://ccckl.ca/events/fenelon-falls-sages-3/2024-05-01/
LOCATION:Senior Citizens Club Of Fenelon Falls\, 58 Murray Street\, Fenelon Falls\, Ontario\, K0M 1N0\, Canada
CATEGORIES:SAGES
ATTACH;FMTTYPE=image/jpeg:https://ccckl.ca/wp-content/uploads/2023/03/Sages-logo-RGB.jpg
END:VEVENT
BEGIN:VEVENT
DTSTART;TZID=America/Toronto:20240501T090000
DTEND;TZID=America/Toronto:20240501T100000
DTSTAMP:20260423T113854
CREATED:20240421T120545Z
LAST-MODIFIED:20240709T163127Z
UID:10003641-1714554000-1714557600@ccckl.ca
SUMMARY:Virtual Chair Yoga
DESCRIPTION:Offered in partnership with Brock CHC\, virtual chair yoga focuses on stretch and meditation practice to help calm the mind\, relax the body\, ease stiffness and discomfort\, improve balance\, strength and flexibility. This class at held at 21 Angeline St. N in-person as we follow along with a live virtual instructor. If you would like to join along at home\, a zoom link can be provided. \n\n\n\nEvery Wednesday from 9 – 10 am at 21 Angeline St. N in Lindsay  \n\n\n\nClick here to register.
URL:https://ccckl.ca/events/virtual-chair-yoga/2024-05-01/
LOCATION:Community Care City of Kawartha Lakes Community Health Centre\, 21 Angeline St. N\, Lindsay\, ON\, K9V 5B7\, Canada
END:VEVENT
BEGIN:VEVENT
DTSTART;TZID=America/Toronto:20240430T180000
DTEND;TZID=America/Toronto:20240430T190000
DTSTAMP:20260423T113854
CREATED:20231214T211749Z
LAST-MODIFIED:20231214T211750Z
UID:10003298-1714500000-1714503600@ccckl.ca
SUMMARY:Get W.I.T.H. It (Walk in the Halls)
DESCRIPTION:The Get W.I.T.H. It (Walk in the Halls) program offers the chance to walk in a warm\, safe\, and fun environment during the winter months! The program is suitable for all ages and fitness levels. No pre-registration required.
URL:https://ccckl.ca/events/get-w-i-t-h-it-walk-in-the-halls/2024-04-30/
LOCATION:Lindsay Collegiate and Vocational Institute\, 260 Kent St W\, Lindsay\, ON\, K9V 2Z5\, Canada
CATEGORIES:Activity
END:VEVENT
BEGIN:VEVENT
DTSTART;TZID=America/Toronto:20240430T100000
DTEND;TZID=America/Toronto:20240430T110000
DTSTAMP:20260423T113854
CREATED:20230810T191211Z
LAST-MODIFIED:20231214T212853Z
UID:10002792-1714471200-1714474800@ccckl.ca
SUMMARY:Coboconk SAGES
DESCRIPTION:Join us every Tuesdays at 10:00 am at the Coboconk Legion for Gentle Exercise for Seniors. \n\n\n\nCost: $2 per session\, registration not required. First session is free! \n\n\n\nFor more information call 705-324-7323 ext. 165 or email wellness@ccckl.ca
URL:https://ccckl.ca/events/coboconk-sages-2/2024-04-30/
LOCATION:Royal Canadian Legion\, Branch 519\, 2916 Kawartha Lakes Rd 48\, Coboconk\, Ontario\, K0M 1K0\, Canada
CATEGORIES:SAGES
ATTACH;FMTTYPE=image/jpeg:https://ccckl.ca/wp-content/uploads/2023/03/Sages-logo-RGB.jpg
END:VEVENT
BEGIN:VEVENT
DTSTART;TZID=America/Toronto:20240430T093000
DTEND;TZID=America/Toronto:20240430T103000
DTSTAMP:20260423T113854
CREATED:20230810T191728Z
LAST-MODIFIED:20231218T163205Z
UID:10002906-1714469400-1714473000@ccckl.ca
SUMMARY:Manilla SAGES
DESCRIPTION:Join us every Tuesday at 9:30 at the Manilla Library for Gentle Exercise for Seniors. \n\n\n\nCost: $3 per session\, registration not required. First session is free! \n\n\n\nFor more information call 705-324-7323 ext. 165 or email wellness@ccckl.ca
URL:https://ccckl.ca/events/manilla-sages-2/2024-04-30/
LOCATION:Manilla Library\, 17025 Simcoe St.\, Manilla\, K0M 2J0\, Canada
CATEGORIES:SAGES
ATTACH;FMTTYPE=image/jpeg:https://ccckl.ca/wp-content/uploads/2023/03/Sages-logo-RGB.jpg
END:VEVENT
BEGIN:VEVENT
DTSTART;TZID=America/Toronto:20240430T090000
DTEND;TZID=America/Toronto:20240430T100000
DTSTAMP:20260423T113854
CREATED:20240421T131608Z
LAST-MODIFIED:20240421T131637Z
UID:10003739-1714467600-1714471200@ccckl.ca
SUMMARY:Virtual Gentle Fit
DESCRIPTION:In partnership with Brock CHC\, this session aims to improve functional fitness through strength\, balance and cardio exercises. Classes are held virtually\, in your own space/home. Please contact us if you are interested in receiving the zoom link. \n\n\n\nEvery Tuesday from 9 – 10 am on Zoom. \n\n\n\nClick here to register.
URL:https://ccckl.ca/events/virtual-gentle-fit/2024-04-30/
LOCATION:Community Care City of Kawartha Lakes Community Health Centre\, 21 Angeline St. N\, Lindsay\, ON\, K9V 5B7\, Canada
END:VEVENT
BEGIN:VEVENT
DTSTART;TZID=America/Toronto:20240429T140000
DTEND;TZID=America/Toronto:20240429T150000
DTSTAMP:20260423T113854
CREATED:20240206T172252Z
LAST-MODIFIED:20240421T115207Z
UID:10003318-1714399200-1714402800@ccckl.ca
SUMMARY:Low Impact Exercise Class
DESCRIPTION:A new program led by a certified Seniors Fitness Instructor. Community-Based Exercise Classes focuses on cardio\, strength\, balance and flexibility. This program encourages participants to stay functionally fit longer\, increase physical activity levels and decrease their risk of falls. \n\n\n\nEvery Monday (except holidays) from 2 – 3 pm at 21 Angeline St. N in Lindsay  \n\n\n\nClick here to register.
URL:https://ccckl.ca/events/community-based-exercise-class-2/2024-04-29/
LOCATION:Community Care City of Kawartha Lakes Community Health Centre\, 21 Angeline St. N\, Lindsay\, ON\, K9V 5B7\, Canada
END:VEVENT
BEGIN:VEVENT
DTSTART;TZID=America/Toronto:20240429T100000
DTEND;TZID=America/Toronto:20240429T110000
DTSTAMP:20260423T113854
CREATED:20230810T190900Z
LAST-MODIFIED:20231218T163714Z
UID:10002622-1714384800-1714388400@ccckl.ca
SUMMARY:Bobcaygeon SAGES
DESCRIPTION:Join us every Monday and Thursday at 10:00 am at the Bobcaygeon Senior’s Centre for Gentle Exercise for Seniors. \n\n\n\nCost: $3 per session\, pre-registration for the Bobcaygeon SAGES program is required. First session is free! \n\n\n\nFor more information\, or to register\, call 705-324-7323 ext. 165 or email wellness@ccckl.ca
URL:https://ccckl.ca/events/bobcaygeon-sages-2/2024-04-29/
LOCATION:Bobcaygeon Senior Centre\, 100 Head Street\, Bobcaygeon\, Canada
CATEGORIES:SAGES
ATTACH;FMTTYPE=image/jpeg:https://ccckl.ca/wp-content/uploads/2023/03/Sages-logo-RGB.jpg
END:VEVENT
BEGIN:VEVENT
DTSTART;TZID=America/Toronto:20240429T100000
DTEND;TZID=America/Toronto:20240429T110000
DTSTAMP:20260423T113854
CREATED:20230810T190727Z
LAST-MODIFIED:20231218T163457Z
UID:10002544-1714384800-1714388400@ccckl.ca
SUMMARY:Fenelon Falls SAGES
DESCRIPTION:Join us every Monday and Wednesday at 10:00 am at the Senior Citizens Club of Fenelon Falls for Gentle Exercise for Seniors. \n\n\n\nCost: $2 per session\, registration not required. First session is free! \n\n\n\nFor more information call 705-324-7323 ext. 165 or email wellness@ccckl.ca
URL:https://ccckl.ca/events/fenelon-falls-sages-3/2024-04-29/
LOCATION:Senior Citizens Club Of Fenelon Falls\, 58 Murray Street\, Fenelon Falls\, Ontario\, K0M 1N0\, Canada
CATEGORIES:SAGES
ATTACH;FMTTYPE=image/jpeg:https://ccckl.ca/wp-content/uploads/2023/03/Sages-logo-RGB.jpg
END:VEVENT
BEGIN:VEVENT
DTSTART;TZID=America/Toronto:20240429T093000
DTEND;TZID=America/Toronto:20240429T103000
DTSTAMP:20260423T113854
CREATED:20230810T154613Z
LAST-MODIFIED:20240421T115621Z
UID:10001663-1714383000-1714386600@ccckl.ca
SUMMARY:Burnt River SAGES
DESCRIPTION:Join us every Monday and Friday (except holidays) at 9:30 am at the Burnt River Community Centre for Gentle Exercise for Seniors. \n\n\n\nCost: $3 per session\, registration not required. First session is free! \n\n\n\nFor more information call 705-324-7323 ext. 165 or email wellness@ccckl.ca
URL:https://ccckl.ca/events/burnt-river-sages/2024-04-29/
LOCATION:Burnt River Somerville Centre\, 16 Somerville Centre Rd\, Burnt River\, Ontario\, K0M1C0\, Canada
CATEGORIES:SAGES
ATTACH;FMTTYPE=image/jpeg:https://ccckl.ca/wp-content/uploads/2023/03/Sages-logo-RGB.jpg
END:VEVENT
BEGIN:VEVENT
DTSTART;TZID=America/Toronto:20240426T093000
DTEND;TZID=America/Toronto:20240426T103000
DTSTAMP:20260423T113854
CREATED:20230810T154613Z
LAST-MODIFIED:20240421T115621Z
UID:10001662-1714123800-1714127400@ccckl.ca
SUMMARY:Burnt River SAGES
DESCRIPTION:Join us every Monday and Friday (except holidays) at 9:30 am at the Burnt River Community Centre for Gentle Exercise for Seniors. \n\n\n\nCost: $3 per session\, registration not required. First session is free! \n\n\n\nFor more information call 705-324-7323 ext. 165 or email wellness@ccckl.ca
URL:https://ccckl.ca/events/burnt-river-sages/2024-04-26/
LOCATION:Burnt River Somerville Centre\, 16 Somerville Centre Rd\, Burnt River\, Ontario\, K0M1C0\, Canada
CATEGORIES:SAGES
ATTACH;FMTTYPE=image/jpeg:https://ccckl.ca/wp-content/uploads/2023/03/Sages-logo-RGB.jpg
END:VEVENT
BEGIN:VEVENT
DTSTART;TZID=America/Toronto:20240425T180000
DTEND;TZID=America/Toronto:20240425T190000
DTSTAMP:20260423T113854
CREATED:20231214T211749Z
LAST-MODIFIED:20231214T211750Z
UID:10003297-1714068000-1714071600@ccckl.ca
SUMMARY:Get W.I.T.H. It (Walk in the Halls)
DESCRIPTION:The Get W.I.T.H. It (Walk in the Halls) program offers the chance to walk in a warm\, safe\, and fun environment during the winter months! The program is suitable for all ages and fitness levels. No pre-registration required.
URL:https://ccckl.ca/events/get-w-i-t-h-it-walk-in-the-halls/2024-04-25/
LOCATION:Lindsay Collegiate and Vocational Institute\, 260 Kent St W\, Lindsay\, ON\, K9V 2Z5\, Canada
CATEGORIES:Activity
END:VEVENT
BEGIN:VEVENT
DTSTART;TZID=America/Toronto:20240425T120000
DTEND;TZID=America/Toronto:20240425T140000
DTSTAMP:20260423T113854
CREATED:20230810T134223Z
LAST-MODIFIED:20250630T152407Z
UID:10001540-1714046400-1714053600@ccckl.ca
SUMMARY:Diners Club (Coboconk)
DESCRIPTION:Join us for some great food in good company! \n\n\n\nPre-registration is required and doors open at noon. Please call us at 705-324-7323 ext. 654 to reserve your spot!
URL:https://ccckl.ca/events/diners-club-coboconk/2024-04-25/
LOCATION:Coboconk Service Centre\, 9 Grandy Rd\, Coboconk\, Ontario\, Canada
CATEGORIES:Diner's Club
END:VEVENT
BEGIN:VEVENT
DTSTART;TZID=America/Toronto:20240425T100000
DTEND;TZID=America/Toronto:20240425T110000
DTSTAMP:20260423T113854
CREATED:20230810T190900Z
LAST-MODIFIED:20231218T163714Z
UID:10002671-1714039200-1714042800@ccckl.ca
SUMMARY:Bobcaygeon SAGES
DESCRIPTION:Join us every Monday and Thursday at 10:00 am at the Bobcaygeon Senior’s Centre for Gentle Exercise for Seniors. \n\n\n\nCost: $3 per session\, pre-registration for the Bobcaygeon SAGES program is required. First session is free! \n\n\n\nFor more information\, or to register\, call 705-324-7323 ext. 165 or email wellness@ccckl.ca
URL:https://ccckl.ca/events/bobcaygeon-sages-2/2024-04-25/
LOCATION:Bobcaygeon Senior Centre\, 100 Head Street\, Bobcaygeon\, Canada
CATEGORIES:SAGES
ATTACH;FMTTYPE=image/jpeg:https://ccckl.ca/wp-content/uploads/2023/03/Sages-logo-RGB.jpg
END:VEVENT
BEGIN:VEVENT
DTSTART;TZID=America/Toronto:20240425T093000
DTEND;TZID=America/Toronto:20240425T103000
DTSTAMP:20260423T113854
CREATED:20231005T131611Z
LAST-MODIFIED:20231218T163348Z
UID:10002985-1714037400-1714041000@ccckl.ca
SUMMARY:Kirkfield SAGES
DESCRIPTION:Join us every Thursday at 9:30 am at the Kirkfield District Lions Club for Gentle Exercise for Seniors. \n\n\n\nCost: $3 per session\, registration not required. First session is free! \n\n\n\nFor more information call 705-324-7323 ext. 165 or email wellness@ccckl.ca
URL:https://ccckl.ca/events/kirkfield-sages-2/2024-04-25/
LOCATION:Kirkfield & District Lions Club\, 973 Portage Rd\, Kirkfield\, Ontario\, K0M 2B0\, Canada
CATEGORIES:SAGES
ATTACH;FMTTYPE=image/jpeg:https://ccckl.ca/wp-content/uploads/2023/03/Sages-logo-RGB.jpg
END:VEVENT
BEGIN:VEVENT
DTSTART;TZID=America/Toronto:20240424T104500
DTEND;TZID=America/Toronto:20240424T120000
DTSTAMP:20260423T113854
CREATED:20231005T132529Z
LAST-MODIFIED:20231218T163605Z
UID:10003096-1713955500-1713960000@ccckl.ca
SUMMARY:Lindsay SAGES
DESCRIPTION:Join us Wednesdays* at 10:45 am at Victoria Park Armoury in Lindsay for Gentle Exercise for Seniors.  \n\n\n\n*except the first Wednesday of each month. \n\n\n\nCost: Connect with the Lindsay Senior’s Association for more information. First session is free! \n\n\n\nFor more information call 705-324-7323 ext. 165 or email wellness@ccckl.ca
URL:https://ccckl.ca/events/lindsay-sages-2/2024-04-24/
LOCATION:Victoria Park Armoury\, 210 Kent St W\, Lindsay\, Ontario\, K9V 2Y8\, Canada
CATEGORIES:SAGES
END:VEVENT
BEGIN:VEVENT
DTSTART;TZID=America/Toronto:20240424T100000
DTEND;TZID=America/Toronto:20240424T110000
DTSTAMP:20260423T113854
CREATED:20240421T115857Z
LAST-MODIFIED:20240421T115858Z
UID:10003542-1713952800-1713956400@ccckl.ca
SUMMARY:Moderate Impact Exercise Class
DESCRIPTION:A new program led by a certified Seniors Fitness Instructor. Community-Based Exercise Classes focuses on cardio\, strength\, balance and flexibility. This program encourages participants to stay functionally fit longer\, increase physical activity levels and decrease their risk of falls. \n\n\n\nEvery Wednesday from 10:10 – 11 am at 21 Angeline St. N in Lindsay  \n\n\n\nClick here to register.
URL:https://ccckl.ca/events/low-impact-exercise-class-2/2024-04-24/
LOCATION:Community Care City of Kawartha Lakes Community Health Centre\, 21 Angeline St. N\, Lindsay\, ON\, K9V 5B7\, Canada
END:VEVENT
END:VCALENDAR