BEGIN:VCALENDAR
VERSION:2.0
PRODID:-//Community Care City of Kawartha Lakes - ECPv6.15.13//NONSGML v1.0//EN
CALSCALE:GREGORIAN
METHOD:PUBLISH
X-WR-CALNAME:Community Care City of Kawartha Lakes
X-ORIGINAL-URL:https://ccckl.ca
X-WR-CALDESC:Events for Community Care City of Kawartha Lakes
REFRESH-INTERVAL;VALUE=DURATION:PT1H
X-Robots-Tag:noindex
X-PUBLISHED-TTL:PT1H
BEGIN:VTIMEZONE
TZID:America/Toronto
BEGIN:DAYLIGHT
TZOFFSETFROM:-0500
TZOFFSETTO:-0400
TZNAME:EDT
DTSTART:20280312T070000
END:DAYLIGHT
BEGIN:STANDARD
TZOFFSETFROM:-0400
TZOFFSETTO:-0500
TZNAME:EST
DTSTART:20281105T060000
END:STANDARD
BEGIN:DAYLIGHT
TZOFFSETFROM:-0500
TZOFFSETTO:-0400
TZNAME:EDT
DTSTART:20290311T070000
END:DAYLIGHT
BEGIN:STANDARD
TZOFFSETFROM:-0400
TZOFFSETTO:-0500
TZNAME:EST
DTSTART:20291104T060000
END:STANDARD
BEGIN:DAYLIGHT
TZOFFSETFROM:-0500
TZOFFSETTO:-0400
TZNAME:EDT
DTSTART:20300310T070000
END:DAYLIGHT
BEGIN:STANDARD
TZOFFSETFROM:-0400
TZOFFSETTO:-0500
TZNAME:EST
DTSTART:20301103T060000
END:STANDARD
END:VTIMEZONE
BEGIN:VEVENT
DTSTART;TZID=America/Toronto:20290508T120000
DTEND;TZID=America/Toronto:20290508T140000
DTSTAMP:20260423T121826
CREATED:20240904T135216Z
LAST-MODIFIED:20250630T152344Z
UID:10003924-1872936000-1872943200@ccckl.ca
SUMMARY:Diners Club (Fenelon Falls)
DESCRIPTION:Join us for some great food in good company! \n\n\n\nPre-registration is required and doors open at noon. Please call us at 705-324-7323 ext. 654 to reserve your spot!
URL:https://ccckl.ca/events/diners-club-fenelon-falls/2029-05-08/
LOCATION:70 Murray St\, 70 Murray St\, Fenelon Falls\, Ontario\, K0M 1N0\, Canada
CATEGORIES:Diner's Club
END:VEVENT
BEGIN:VEVENT
DTSTART;TZID=America/Toronto:20290510T120000
DTEND;TZID=America/Toronto:20290510T140000
DTSTAMP:20260423T121826
CREATED:20250630T152232Z
LAST-MODIFIED:20250630T152234Z
UID:10004073-1873108800-1873116000@ccckl.ca
SUMMARY:Diners Club (Bobcaygeon)
DESCRIPTION:Join us for some great food in good company! \n\n\n\nPre-registration is required and doors open at noon. Please call us at 705-324-7323 ext. 654 to reserve your spot!
URL:https://ccckl.ca/events/diners-club-bobcaygeon-2/2029-05-10/
LOCATION:Trinity United Church\, 44 William St\, Bobcaygeon\, Ontario\, K0M 1A0\, Canada
CATEGORIES:Diner's Club
END:VEVENT
BEGIN:VEVENT
DTSTART;TZID=America/Toronto:20290515T120000
DTEND;TZID=America/Toronto:20290515T140000
DTSTAMP:20260423T121826
CREATED:20221205T170845Z
LAST-MODIFIED:20250630T152507Z
UID:10004165-1873540800-1873548000@ccckl.ca
SUMMARY:Diners Club (Lindsay)
DESCRIPTION:Join us for some great food in good company! \n\n\n\nPre-registration is required and doors open at noon. Please call us at 705-324-7323 ext. 654 to reserve your spot!
URL:https://ccckl.ca/events/diners-club-lindsay/2029-05-15/
LOCATION:65 Melbourne St W\, 65 Melbourne St W\, Lindsay\, Ontario\, K9V 0G4\, Canada
CATEGORIES:Diner's Club
END:VEVENT
BEGIN:VEVENT
DTSTART;TZID=America/Toronto:20290517T120000
DTEND;TZID=America/Toronto:20290517T140000
DTSTAMP:20260423T121826
CREATED:20221205T171748Z
LAST-MODIFIED:20250630T152445Z
UID:10004142-1873713600-1873720800@ccckl.ca
SUMMARY:Diners Club (Burnt River)
DESCRIPTION:Join us for some great food in good company! \n\n\n\nPre-registration is required and doors open at noon. Please call us at 705-324-7323 ext. 654 to reserve your spot!
URL:https://ccckl.ca/events/diners-club-burnt-river/2029-05-17/
LOCATION:Burnt River Somerville Centre\, 16 Somerville Centre Rd\, Burnt River\, Ontario\, K0M1C0\, Canada
CATEGORIES:Diner's Club
END:VEVENT
BEGIN:VEVENT
DTSTART;TZID=America/Toronto:20290522T120000
DTEND;TZID=America/Toronto:20290522T140000
DTSTAMP:20260423T121826
CREATED:20221205T164816Z
LAST-MODIFIED:20250630T152521Z
UID:10004188-1874145600-1874152800@ccckl.ca
SUMMARY:Diners Club (Fenelon Falls)
DESCRIPTION:Join us for some great food in good company! \n\n\n\nPre-registration is required and doors open at noon. Please call us at 705-324-7323 ext. 654 to reserve your spot!
URL:https://ccckl.ca/events/diners-club-fenelon-falls-2/2029-05-22/
LOCATION:70 Murray St\, 70 Murray St\, Fenelon Falls\, Ontario\, K0M 1N0\, Canada
CATEGORIES:Diner's Club
END:VEVENT
BEGIN:VEVENT
DTSTART;TZID=America/Toronto:20290524T120000
DTEND;TZID=America/Toronto:20290524T140000
DTSTAMP:20260423T121826
CREATED:20230810T134223Z
LAST-MODIFIED:20250630T152407Z
UID:10003932-1874318400-1874325600@ccckl.ca
SUMMARY:Diners Club (Coboconk)
DESCRIPTION:Join us for some great food in good company! \n\n\n\nPre-registration is required and doors open at noon. Please call us at 705-324-7323 ext. 654 to reserve your spot!
URL:https://ccckl.ca/events/diners-club-coboconk/2029-05-24/
LOCATION:Coboconk Service Centre\, 9 Grandy Rd\, Coboconk\, Ontario\, Canada
CATEGORIES:Diner's Club
END:VEVENT
BEGIN:VEVENT
DTSTART;TZID=America/Toronto:20290605T120000
DTEND;TZID=America/Toronto:20290605T140000
DTSTAMP:20260423T121826
CREATED:20221026T143705Z
LAST-MODIFIED:20250630T152535Z
UID:10004211-1875355200-1875362400@ccckl.ca
SUMMARY:Diners Club (Lindsay)
DESCRIPTION:Join us for some great food in good company! \n\n\n\nPre-registration is required and doors open at noon. Please call us at 705-324-7323 ext. 654 to reserve your spot!
URL:https://ccckl.ca/events/diners-club-11/2029-06-05/
LOCATION:65 Melbourne St W\, 65 Melbourne St W\, Lindsay\, Ontario\, K9V 0G4\, Canada
CATEGORIES:Diner's Club
END:VEVENT
BEGIN:VEVENT
DTSTART;TZID=America/Toronto:20290607T120000
DTEND;TZID=America/Toronto:20290607T140000
DTSTAMP:20260423T121826
CREATED:20230810T133725Z
LAST-MODIFIED:20250630T152430Z
UID:10004120-1875528000-1875535200@ccckl.ca
SUMMARY:Diners Club (Bethany)
DESCRIPTION:Join us for some great food in good company! \n\n\n\nPre-registration is required and doors open at noon. Please call us at 705-324-7323 ext. 654 to reserve your spot!
URL:https://ccckl.ca/events/diners-club-bethany/2029-06-07/
LOCATION:Bethany United Church\, 3 George St\, Bethany\, Ontario\, L0A 1A0\, Canada
CATEGORIES:Diner's Club
END:VEVENT
BEGIN:VEVENT
DTSTART;TZID=America/Toronto:20290612T120000
DTEND;TZID=America/Toronto:20290612T140000
DTSTAMP:20260423T121826
CREATED:20240904T135216Z
LAST-MODIFIED:20250630T152344Z
UID:10003925-1875960000-1875967200@ccckl.ca
SUMMARY:Diners Club (Fenelon Falls)
DESCRIPTION:Join us for some great food in good company! \n\n\n\nPre-registration is required and doors open at noon. Please call us at 705-324-7323 ext. 654 to reserve your spot!
URL:https://ccckl.ca/events/diners-club-fenelon-falls/2029-06-12/
LOCATION:70 Murray St\, 70 Murray St\, Fenelon Falls\, Ontario\, K0M 1N0\, Canada
CATEGORIES:Diner's Club
END:VEVENT
BEGIN:VEVENT
DTSTART;TZID=America/Toronto:20290614T120000
DTEND;TZID=America/Toronto:20290614T140000
DTSTAMP:20260423T121826
CREATED:20250630T152232Z
LAST-MODIFIED:20250630T152234Z
UID:10004074-1876132800-1876140000@ccckl.ca
SUMMARY:Diners Club (Bobcaygeon)
DESCRIPTION:Join us for some great food in good company! \n\n\n\nPre-registration is required and doors open at noon. Please call us at 705-324-7323 ext. 654 to reserve your spot!
URL:https://ccckl.ca/events/diners-club-bobcaygeon-2/2029-06-14/
LOCATION:Trinity United Church\, 44 William St\, Bobcaygeon\, Ontario\, K0M 1A0\, Canada
CATEGORIES:Diner's Club
END:VEVENT
BEGIN:VEVENT
DTSTART;TZID=America/Toronto:20290619T120000
DTEND;TZID=America/Toronto:20290619T140000
DTSTAMP:20260423T121826
CREATED:20221205T170845Z
LAST-MODIFIED:20250630T152507Z
UID:10004166-1876564800-1876572000@ccckl.ca
SUMMARY:Diners Club (Lindsay)
DESCRIPTION:Join us for some great food in good company! \n\n\n\nPre-registration is required and doors open at noon. Please call us at 705-324-7323 ext. 654 to reserve your spot!
URL:https://ccckl.ca/events/diners-club-lindsay/2029-06-19/
LOCATION:65 Melbourne St W\, 65 Melbourne St W\, Lindsay\, Ontario\, K9V 0G4\, Canada
CATEGORIES:Diner's Club
END:VEVENT
BEGIN:VEVENT
DTSTART;TZID=America/Toronto:20290621T120000
DTEND;TZID=America/Toronto:20290621T140000
DTSTAMP:20260423T121826
CREATED:20221205T171748Z
LAST-MODIFIED:20250630T152445Z
UID:10004143-1876737600-1876744800@ccckl.ca
SUMMARY:Diners Club (Burnt River)
DESCRIPTION:Join us for some great food in good company! \n\n\n\nPre-registration is required and doors open at noon. Please call us at 705-324-7323 ext. 654 to reserve your spot!
URL:https://ccckl.ca/events/diners-club-burnt-river/2029-06-21/
LOCATION:Burnt River Somerville Centre\, 16 Somerville Centre Rd\, Burnt River\, Ontario\, K0M1C0\, Canada
CATEGORIES:Diner's Club
END:VEVENT
BEGIN:VEVENT
DTSTART;TZID=America/Toronto:20290626T120000
DTEND;TZID=America/Toronto:20290626T140000
DTSTAMP:20260423T121826
CREATED:20221205T164816Z
LAST-MODIFIED:20250630T152521Z
UID:10004189-1877169600-1877176800@ccckl.ca
SUMMARY:Diners Club (Fenelon Falls)
DESCRIPTION:Join us for some great food in good company! \n\n\n\nPre-registration is required and doors open at noon. Please call us at 705-324-7323 ext. 654 to reserve your spot!
URL:https://ccckl.ca/events/diners-club-fenelon-falls-2/2029-06-26/
LOCATION:70 Murray St\, 70 Murray St\, Fenelon Falls\, Ontario\, K0M 1N0\, Canada
CATEGORIES:Diner's Club
END:VEVENT
BEGIN:VEVENT
DTSTART;TZID=America/Toronto:20290628T120000
DTEND;TZID=America/Toronto:20290628T140000
DTSTAMP:20260423T121826
CREATED:20230810T134223Z
LAST-MODIFIED:20250630T152407Z
UID:10003933-1877342400-1877349600@ccckl.ca
SUMMARY:Diners Club (Coboconk)
DESCRIPTION:Join us for some great food in good company! \n\n\n\nPre-registration is required and doors open at noon. Please call us at 705-324-7323 ext. 654 to reserve your spot!
URL:https://ccckl.ca/events/diners-club-coboconk/2029-06-28/
LOCATION:Coboconk Service Centre\, 9 Grandy Rd\, Coboconk\, Ontario\, Canada
CATEGORIES:Diner's Club
END:VEVENT
BEGIN:VEVENT
DTSTART;TZID=America/Toronto:20290703T120000
DTEND;TZID=America/Toronto:20290703T140000
DTSTAMP:20260423T121826
CREATED:20221026T143705Z
LAST-MODIFIED:20250630T152535Z
UID:10004212-1877774400-1877781600@ccckl.ca
SUMMARY:Diners Club (Lindsay)
DESCRIPTION:Join us for some great food in good company! \n\n\n\nPre-registration is required and doors open at noon. Please call us at 705-324-7323 ext. 654 to reserve your spot!
URL:https://ccckl.ca/events/diners-club-11/2029-07-03/
LOCATION:65 Melbourne St W\, 65 Melbourne St W\, Lindsay\, Ontario\, K9V 0G4\, Canada
CATEGORIES:Diner's Club
END:VEVENT
BEGIN:VEVENT
DTSTART;TZID=America/Toronto:20290705T120000
DTEND;TZID=America/Toronto:20290705T140000
DTSTAMP:20260423T121826
CREATED:20230810T133725Z
LAST-MODIFIED:20250630T152430Z
UID:10004121-1877947200-1877954400@ccckl.ca
SUMMARY:Diners Club (Bethany)
DESCRIPTION:Join us for some great food in good company! \n\n\n\nPre-registration is required and doors open at noon. Please call us at 705-324-7323 ext. 654 to reserve your spot!
URL:https://ccckl.ca/events/diners-club-bethany/2029-07-05/
LOCATION:Bethany United Church\, 3 George St\, Bethany\, Ontario\, L0A 1A0\, Canada
CATEGORIES:Diner's Club
END:VEVENT
BEGIN:VEVENT
DTSTART;TZID=America/Toronto:20290710T120000
DTEND;TZID=America/Toronto:20290710T140000
DTSTAMP:20260423T121826
CREATED:20240904T135216Z
LAST-MODIFIED:20250630T152344Z
UID:10003926-1878379200-1878386400@ccckl.ca
SUMMARY:Diners Club (Fenelon Falls)
DESCRIPTION:Join us for some great food in good company! \n\n\n\nPre-registration is required and doors open at noon. Please call us at 705-324-7323 ext. 654 to reserve your spot!
URL:https://ccckl.ca/events/diners-club-fenelon-falls/2029-07-10/
LOCATION:70 Murray St\, 70 Murray St\, Fenelon Falls\, Ontario\, K0M 1N0\, Canada
CATEGORIES:Diner's Club
END:VEVENT
BEGIN:VEVENT
DTSTART;TZID=America/Toronto:20290712T120000
DTEND;TZID=America/Toronto:20290712T140000
DTSTAMP:20260423T121826
CREATED:20250630T152232Z
LAST-MODIFIED:20250630T152234Z
UID:10004075-1878552000-1878559200@ccckl.ca
SUMMARY:Diners Club (Bobcaygeon)
DESCRIPTION:Join us for some great food in good company! \n\n\n\nPre-registration is required and doors open at noon. Please call us at 705-324-7323 ext. 654 to reserve your spot!
URL:https://ccckl.ca/events/diners-club-bobcaygeon-2/2029-07-12/
LOCATION:Trinity United Church\, 44 William St\, Bobcaygeon\, Ontario\, K0M 1A0\, Canada
CATEGORIES:Diner's Club
END:VEVENT
BEGIN:VEVENT
DTSTART;TZID=America/Toronto:20290717T120000
DTEND;TZID=America/Toronto:20290717T140000
DTSTAMP:20260423T121826
CREATED:20221205T170845Z
LAST-MODIFIED:20250630T152507Z
UID:10004167-1878984000-1878991200@ccckl.ca
SUMMARY:Diners Club (Lindsay)
DESCRIPTION:Join us for some great food in good company! \n\n\n\nPre-registration is required and doors open at noon. Please call us at 705-324-7323 ext. 654 to reserve your spot!
URL:https://ccckl.ca/events/diners-club-lindsay/2029-07-17/
LOCATION:65 Melbourne St W\, 65 Melbourne St W\, Lindsay\, Ontario\, K9V 0G4\, Canada
CATEGORIES:Diner's Club
END:VEVENT
BEGIN:VEVENT
DTSTART;TZID=America/Toronto:20290719T120000
DTEND;TZID=America/Toronto:20290719T140000
DTSTAMP:20260423T121826
CREATED:20221205T171748Z
LAST-MODIFIED:20250630T152445Z
UID:10004144-1879156800-1879164000@ccckl.ca
SUMMARY:Diners Club (Burnt River)
DESCRIPTION:Join us for some great food in good company! \n\n\n\nPre-registration is required and doors open at noon. Please call us at 705-324-7323 ext. 654 to reserve your spot!
URL:https://ccckl.ca/events/diners-club-burnt-river/2029-07-19/
LOCATION:Burnt River Somerville Centre\, 16 Somerville Centre Rd\, Burnt River\, Ontario\, K0M1C0\, Canada
CATEGORIES:Diner's Club
END:VEVENT
BEGIN:VEVENT
DTSTART;TZID=America/Toronto:20290724T120000
DTEND;TZID=America/Toronto:20290724T140000
DTSTAMP:20260423T121826
CREATED:20221205T164816Z
LAST-MODIFIED:20250630T152521Z
UID:10004190-1879588800-1879596000@ccckl.ca
SUMMARY:Diners Club (Fenelon Falls)
DESCRIPTION:Join us for some great food in good company! \n\n\n\nPre-registration is required and doors open at noon. Please call us at 705-324-7323 ext. 654 to reserve your spot!
URL:https://ccckl.ca/events/diners-club-fenelon-falls-2/2029-07-24/
LOCATION:70 Murray St\, 70 Murray St\, Fenelon Falls\, Ontario\, K0M 1N0\, Canada
CATEGORIES:Diner's Club
END:VEVENT
BEGIN:VEVENT
DTSTART;TZID=America/Toronto:20290726T120000
DTEND;TZID=America/Toronto:20290726T140000
DTSTAMP:20260423T121826
CREATED:20230810T134223Z
LAST-MODIFIED:20250630T152407Z
UID:10003934-1879761600-1879768800@ccckl.ca
SUMMARY:Diners Club (Coboconk)
DESCRIPTION:Join us for some great food in good company! \n\n\n\nPre-registration is required and doors open at noon. Please call us at 705-324-7323 ext. 654 to reserve your spot!
URL:https://ccckl.ca/events/diners-club-coboconk/2029-07-26/
LOCATION:Coboconk Service Centre\, 9 Grandy Rd\, Coboconk\, Ontario\, Canada
CATEGORIES:Diner's Club
END:VEVENT
BEGIN:VEVENT
DTSTART;TZID=America/Toronto:20290802T120000
DTEND;TZID=America/Toronto:20290802T140000
DTSTAMP:20260423T121826
CREATED:20230810T133725Z
LAST-MODIFIED:20250630T152430Z
UID:10004122-1880366400-1880373600@ccckl.ca
SUMMARY:Diners Club (Bethany)
DESCRIPTION:Join us for some great food in good company! \n\n\n\nPre-registration is required and doors open at noon. Please call us at 705-324-7323 ext. 654 to reserve your spot!
URL:https://ccckl.ca/events/diners-club-bethany/2029-08-02/
LOCATION:Bethany United Church\, 3 George St\, Bethany\, Ontario\, L0A 1A0\, Canada
CATEGORIES:Diner's Club
END:VEVENT
BEGIN:VEVENT
DTSTART;TZID=America/Toronto:20290807T120000
DTEND;TZID=America/Toronto:20290807T140000
DTSTAMP:20260423T121826
CREATED:20221026T143705Z
LAST-MODIFIED:20250630T152535Z
UID:10004213-1880798400-1880805600@ccckl.ca
SUMMARY:Diners Club (Lindsay)
DESCRIPTION:Join us for some great food in good company! \n\n\n\nPre-registration is required and doors open at noon. Please call us at 705-324-7323 ext. 654 to reserve your spot!
URL:https://ccckl.ca/events/diners-club-11/2029-08-07/
LOCATION:65 Melbourne St W\, 65 Melbourne St W\, Lindsay\, Ontario\, K9V 0G4\, Canada
CATEGORIES:Diner's Club
END:VEVENT
BEGIN:VEVENT
DTSTART;TZID=America/Toronto:20290809T120000
DTEND;TZID=America/Toronto:20290809T140000
DTSTAMP:20260423T121826
CREATED:20250630T152232Z
LAST-MODIFIED:20250630T152234Z
UID:10004076-1880971200-1880978400@ccckl.ca
SUMMARY:Diners Club (Bobcaygeon)
DESCRIPTION:Join us for some great food in good company! \n\n\n\nPre-registration is required and doors open at noon. Please call us at 705-324-7323 ext. 654 to reserve your spot!
URL:https://ccckl.ca/events/diners-club-bobcaygeon-2/2029-08-09/
LOCATION:Trinity United Church\, 44 William St\, Bobcaygeon\, Ontario\, K0M 1A0\, Canada
CATEGORIES:Diner's Club
END:VEVENT
BEGIN:VEVENT
DTSTART;TZID=America/Toronto:20290814T120000
DTEND;TZID=America/Toronto:20290814T140000
DTSTAMP:20260423T121826
CREATED:20240904T135216Z
LAST-MODIFIED:20250630T152344Z
UID:10003927-1881403200-1881410400@ccckl.ca
SUMMARY:Diners Club (Fenelon Falls)
DESCRIPTION:Join us for some great food in good company! \n\n\n\nPre-registration is required and doors open at noon. Please call us at 705-324-7323 ext. 654 to reserve your spot!
URL:https://ccckl.ca/events/diners-club-fenelon-falls/2029-08-14/
LOCATION:70 Murray St\, 70 Murray St\, Fenelon Falls\, Ontario\, K0M 1N0\, Canada
CATEGORIES:Diner's Club
END:VEVENT
BEGIN:VEVENT
DTSTART;TZID=America/Toronto:20290816T120000
DTEND;TZID=America/Toronto:20290816T140000
DTSTAMP:20260423T121826
CREATED:20221205T171748Z
LAST-MODIFIED:20250630T152445Z
UID:10004145-1881576000-1881583200@ccckl.ca
SUMMARY:Diners Club (Burnt River)
DESCRIPTION:Join us for some great food in good company! \n\n\n\nPre-registration is required and doors open at noon. Please call us at 705-324-7323 ext. 654 to reserve your spot!
URL:https://ccckl.ca/events/diners-club-burnt-river/2029-08-16/
LOCATION:Burnt River Somerville Centre\, 16 Somerville Centre Rd\, Burnt River\, Ontario\, K0M1C0\, Canada
CATEGORIES:Diner's Club
END:VEVENT
BEGIN:VEVENT
DTSTART;TZID=America/Toronto:20290821T120000
DTEND;TZID=America/Toronto:20290821T140000
DTSTAMP:20260423T121826
CREATED:20221205T170845Z
LAST-MODIFIED:20250630T152507Z
UID:10004168-1882008000-1882015200@ccckl.ca
SUMMARY:Diners Club (Lindsay)
DESCRIPTION:Join us for some great food in good company! \n\n\n\nPre-registration is required and doors open at noon. Please call us at 705-324-7323 ext. 654 to reserve your spot!
URL:https://ccckl.ca/events/diners-club-lindsay/2029-08-21/
LOCATION:65 Melbourne St W\, 65 Melbourne St W\, Lindsay\, Ontario\, K9V 0G4\, Canada
CATEGORIES:Diner's Club
END:VEVENT
BEGIN:VEVENT
DTSTART;TZID=America/Toronto:20290823T120000
DTEND;TZID=America/Toronto:20290823T140000
DTSTAMP:20260423T121826
CREATED:20230810T134223Z
LAST-MODIFIED:20250630T152407Z
UID:10003935-1882180800-1882188000@ccckl.ca
SUMMARY:Diners Club (Coboconk)
DESCRIPTION:Join us for some great food in good company! \n\n\n\nPre-registration is required and doors open at noon. Please call us at 705-324-7323 ext. 654 to reserve your spot!
URL:https://ccckl.ca/events/diners-club-coboconk/2029-08-23/
LOCATION:Coboconk Service Centre\, 9 Grandy Rd\, Coboconk\, Ontario\, Canada
CATEGORIES:Diner's Club
END:VEVENT
BEGIN:VEVENT
DTSTART;TZID=America/Toronto:20290828T120000
DTEND;TZID=America/Toronto:20290828T140000
DTSTAMP:20260423T121826
CREATED:20221205T164816Z
LAST-MODIFIED:20250630T152521Z
UID:10004191-1882612800-1882620000@ccckl.ca
SUMMARY:Diners Club (Fenelon Falls)
DESCRIPTION:Join us for some great food in good company! \n\n\n\nPre-registration is required and doors open at noon. Please call us at 705-324-7323 ext. 654 to reserve your spot!
URL:https://ccckl.ca/events/diners-club-fenelon-falls-2/2029-08-28/
LOCATION:70 Murray St\, 70 Murray St\, Fenelon Falls\, Ontario\, K0M 1N0\, Canada
CATEGORIES:Diner's Club
END:VEVENT
END:VCALENDAR