BEGIN:VCALENDAR
VERSION:2.0
PRODID:-//Community Care City of Kawartha Lakes - ECPv6.15.13//NONSGML v1.0//EN
CALSCALE:GREGORIAN
METHOD:PUBLISH
X-WR-CALNAME:Community Care City of Kawartha Lakes
X-ORIGINAL-URL:https://ccckl.ca
X-WR-CALDESC:Events for Community Care City of Kawartha Lakes
REFRESH-INTERVAL;VALUE=DURATION:PT1H
X-Robots-Tag:noindex
X-PUBLISHED-TTL:PT1H
BEGIN:VTIMEZONE
TZID:America/Toronto
BEGIN:DAYLIGHT
TZOFFSETFROM:-0500
TZOFFSETTO:-0400
TZNAME:EDT
DTSTART:20230312T070000
END:DAYLIGHT
BEGIN:STANDARD
TZOFFSETFROM:-0400
TZOFFSETTO:-0500
TZNAME:EST
DTSTART:20231105T060000
END:STANDARD
BEGIN:DAYLIGHT
TZOFFSETFROM:-0500
TZOFFSETTO:-0400
TZNAME:EDT
DTSTART:20240310T070000
END:DAYLIGHT
BEGIN:STANDARD
TZOFFSETFROM:-0400
TZOFFSETTO:-0500
TZNAME:EST
DTSTART:20241103T060000
END:STANDARD
BEGIN:DAYLIGHT
TZOFFSETFROM:-0500
TZOFFSETTO:-0400
TZNAME:EDT
DTSTART:20250309T070000
END:DAYLIGHT
BEGIN:STANDARD
TZOFFSETFROM:-0400
TZOFFSETTO:-0500
TZNAME:EST
DTSTART:20251102T060000
END:STANDARD
END:VTIMEZONE
BEGIN:VEVENT
DTSTART;TZID=America/Toronto:20240408T100000
DTEND;TZID=America/Toronto:20240408T110000
DTSTAMP:20260423T200011
CREATED:20230810T190900Z
LAST-MODIFIED:20231218T163714Z
UID:10002616-1712570400-1712574000@ccckl.ca
SUMMARY:Bobcaygeon SAGES
DESCRIPTION:Join us every Monday and Thursday at 10:00 am at the Bobcaygeon Senior’s Centre for Gentle Exercise for Seniors. \n\n\n\nCost: $3 per session\, pre-registration for the Bobcaygeon SAGES program is required. First session is free! \n\n\n\nFor more information\, or to register\, call 705-324-7323 ext. 165 or email wellness@ccckl.ca
URL:https://ccckl.ca/events/bobcaygeon-sages-2/2024-04-08/
LOCATION:Bobcaygeon Senior Centre\, 100 Head Street\, Bobcaygeon\, Canada
CATEGORIES:SAGES
ATTACH;FMTTYPE=image/jpeg:https://ccckl.ca/wp-content/uploads/2023/03/Sages-logo-RGB.jpg
END:VEVENT
BEGIN:VEVENT
DTSTART;TZID=America/Toronto:20240408T100000
DTEND;TZID=America/Toronto:20240408T110000
DTSTAMP:20260423T200011
CREATED:20230810T190727Z
LAST-MODIFIED:20231218T163457Z
UID:10002538-1712570400-1712574000@ccckl.ca
SUMMARY:Fenelon Falls SAGES
DESCRIPTION:Join us every Monday and Wednesday at 10:00 am at the Senior Citizens Club of Fenelon Falls for Gentle Exercise for Seniors. \n\n\n\nCost: $2 per session\, registration not required. First session is free! \n\n\n\nFor more information call 705-324-7323 ext. 165 or email wellness@ccckl.ca
URL:https://ccckl.ca/events/fenelon-falls-sages-3/2024-04-08/
LOCATION:Senior Citizens Club Of Fenelon Falls\, 58 Murray Street\, Fenelon Falls\, Ontario\, K0M 1N0\, Canada
CATEGORIES:SAGES
ATTACH;FMTTYPE=image/jpeg:https://ccckl.ca/wp-content/uploads/2023/03/Sages-logo-RGB.jpg
END:VEVENT
BEGIN:VEVENT
DTSTART;TZID=America/Toronto:20240408T093000
DTEND;TZID=America/Toronto:20240408T103000
DTSTAMP:20260423T200011
CREATED:20230810T154613Z
LAST-MODIFIED:20240421T115621Z
UID:10001657-1712568600-1712572200@ccckl.ca
SUMMARY:Burnt River SAGES
DESCRIPTION:Join us every Monday and Friday (except holidays) at 9:30 am at the Burnt River Community Centre for Gentle Exercise for Seniors. \n\n\n\nCost: $3 per session\, registration not required. First session is free! \n\n\n\nFor more information call 705-324-7323 ext. 165 or email wellness@ccckl.ca
URL:https://ccckl.ca/events/burnt-river-sages/2024-04-08/
LOCATION:Burnt River Somerville Centre\, 16 Somerville Centre Rd\, Burnt River\, Ontario\, K0M1C0\, Canada
CATEGORIES:SAGES
ATTACH;FMTTYPE=image/jpeg:https://ccckl.ca/wp-content/uploads/2023/03/Sages-logo-RGB.jpg
END:VEVENT
BEGIN:VEVENT
DTSTART;TZID=America/Toronto:20240405T093000
DTEND;TZID=America/Toronto:20240405T103000
DTSTAMP:20260423T200011
CREATED:20230810T154613Z
LAST-MODIFIED:20240421T115621Z
UID:10001656-1712309400-1712313000@ccckl.ca
SUMMARY:Burnt River SAGES
DESCRIPTION:Join us every Monday and Friday (except holidays) at 9:30 am at the Burnt River Community Centre for Gentle Exercise for Seniors. \n\n\n\nCost: $3 per session\, registration not required. First session is free! \n\n\n\nFor more information call 705-324-7323 ext. 165 or email wellness@ccckl.ca
URL:https://ccckl.ca/events/burnt-river-sages/2024-04-05/
LOCATION:Burnt River Somerville Centre\, 16 Somerville Centre Rd\, Burnt River\, Ontario\, K0M1C0\, Canada
CATEGORIES:SAGES
ATTACH;FMTTYPE=image/jpeg:https://ccckl.ca/wp-content/uploads/2023/03/Sages-logo-RGB.jpg
END:VEVENT
BEGIN:VEVENT
DTSTART;TZID=America/Toronto:20240404T180000
DTEND;TZID=America/Toronto:20240404T190000
DTSTAMP:20260423T200011
CREATED:20231214T211749Z
LAST-MODIFIED:20231214T211750Z
UID:10003291-1712253600-1712257200@ccckl.ca
SUMMARY:Get W.I.T.H. It (Walk in the Halls)
DESCRIPTION:The Get W.I.T.H. It (Walk in the Halls) program offers the chance to walk in a warm\, safe\, and fun environment during the winter months! The program is suitable for all ages and fitness levels. No pre-registration required.
URL:https://ccckl.ca/events/get-w-i-t-h-it-walk-in-the-halls/2024-04-04/
LOCATION:Lindsay Collegiate and Vocational Institute\, 260 Kent St W\, Lindsay\, ON\, K9V 2Z5\, Canada
CATEGORIES:Activity
END:VEVENT
BEGIN:VEVENT
DTSTART;TZID=America/Toronto:20240404T120000
DTEND;TZID=America/Toronto:20240404T140000
DTSTAMP:20260423T200011
CREATED:20230810T133725Z
LAST-MODIFIED:20250630T152430Z
UID:10001262-1712232000-1712239200@ccckl.ca
SUMMARY:Diners Club (Bethany)
DESCRIPTION:Join us for some great food in good company! \n\n\n\nPre-registration is required and doors open at noon. Please call us at 705-324-7323 ext. 654 to reserve your spot!
URL:https://ccckl.ca/events/diners-club-bethany/2024-04-04/
LOCATION:Bethany United Church\, 3 George St\, Bethany\, Ontario\, L0A 1A0\, Canada
CATEGORIES:Diner's Club
END:VEVENT
BEGIN:VEVENT
DTSTART;TZID=America/Toronto:20240404T100000
DTEND;TZID=America/Toronto:20240404T110000
DTSTAMP:20260423T200011
CREATED:20230810T190900Z
LAST-MODIFIED:20231218T163714Z
UID:10002668-1712224800-1712228400@ccckl.ca
SUMMARY:Bobcaygeon SAGES
DESCRIPTION:Join us every Monday and Thursday at 10:00 am at the Bobcaygeon Senior’s Centre for Gentle Exercise for Seniors. \n\n\n\nCost: $3 per session\, pre-registration for the Bobcaygeon SAGES program is required. First session is free! \n\n\n\nFor more information\, or to register\, call 705-324-7323 ext. 165 or email wellness@ccckl.ca
URL:https://ccckl.ca/events/bobcaygeon-sages-2/2024-04-04/
LOCATION:Bobcaygeon Senior Centre\, 100 Head Street\, Bobcaygeon\, Canada
CATEGORIES:SAGES
ATTACH;FMTTYPE=image/jpeg:https://ccckl.ca/wp-content/uploads/2023/03/Sages-logo-RGB.jpg
END:VEVENT
BEGIN:VEVENT
DTSTART;TZID=America/Toronto:20240404T093000
DTEND;TZID=America/Toronto:20240404T103000
DTSTAMP:20260423T200011
CREATED:20231005T131611Z
LAST-MODIFIED:20231218T163348Z
UID:10002982-1712223000-1712226600@ccckl.ca
SUMMARY:Kirkfield SAGES
DESCRIPTION:Join us every Thursday at 9:30 am at the Kirkfield District Lions Club for Gentle Exercise for Seniors. \n\n\n\nCost: $3 per session\, registration not required. First session is free! \n\n\n\nFor more information call 705-324-7323 ext. 165 or email wellness@ccckl.ca
URL:https://ccckl.ca/events/kirkfield-sages-2/2024-04-04/
LOCATION:Kirkfield & District Lions Club\, 973 Portage Rd\, Kirkfield\, Ontario\, K0M 2B0\, Canada
CATEGORIES:SAGES
ATTACH;FMTTYPE=image/jpeg:https://ccckl.ca/wp-content/uploads/2023/03/Sages-logo-RGB.jpg
END:VEVENT
BEGIN:VEVENT
DTSTART;TZID=America/Toronto:20240403T190000
DTEND;TZID=America/Toronto:20240403T210000
DTSTAMP:20260423T200011
CREATED:20230810T190251Z
LAST-MODIFIED:20231214T212226Z
UID:10002476-1712170800-1712178000@ccckl.ca
SUMMARY:Pickleball Bobcaygeon
DESCRIPTION:Community Care is pleased to offer all ages the chance to enjoy pickleball – the great game with the strange name! \n\n\n\nPickleball is a court game that is a cross between tennis\, badminton and table tennis. It can be played indoors or out\, on a badminton-sized court with a plastic wiffle ball and paddles similar to those used in racquetball. Those looking to get or keep active throughout the year are encouraged to try this fun\, recreational activity! \n\n\n\nNo pre-registration required. Cost: $3 per participant\, first visit is free.
URL:https://ccckl.ca/events/pickleball-bobcaygeon/2024-04-03/
LOCATION:Bobcaygeon Public School\, 30 Balaclava St.\, Bobcaygeon\, ON\, K0M 1A0\, Canada
CATEGORIES:Pickleball
END:VEVENT
BEGIN:VEVENT
DTSTART;TZID=America/Toronto:20240403T100000
DTEND;TZID=America/Toronto:20240403T110000
DTSTAMP:20260423T200011
CREATED:20230810T190727Z
LAST-MODIFIED:20231218T163457Z
UID:10002537-1712138400-1712142000@ccckl.ca
SUMMARY:Fenelon Falls SAGES
DESCRIPTION:Join us every Monday and Wednesday at 10:00 am at the Senior Citizens Club of Fenelon Falls for Gentle Exercise for Seniors. \n\n\n\nCost: $2 per session\, registration not required. First session is free! \n\n\n\nFor more information call 705-324-7323 ext. 165 or email wellness@ccckl.ca
URL:https://ccckl.ca/events/fenelon-falls-sages-3/2024-04-03/
LOCATION:Senior Citizens Club Of Fenelon Falls\, 58 Murray Street\, Fenelon Falls\, Ontario\, K0M 1N0\, Canada
CATEGORIES:SAGES
ATTACH;FMTTYPE=image/jpeg:https://ccckl.ca/wp-content/uploads/2023/03/Sages-logo-RGB.jpg
END:VEVENT
BEGIN:VEVENT
DTSTART;TZID=America/Toronto:20240402T180000
DTEND;TZID=America/Toronto:20240402T190000
DTSTAMP:20260423T200011
CREATED:20231214T211749Z
LAST-MODIFIED:20231214T211750Z
UID:10003290-1712080800-1712084400@ccckl.ca
SUMMARY:Get W.I.T.H. It (Walk in the Halls)
DESCRIPTION:The Get W.I.T.H. It (Walk in the Halls) program offers the chance to walk in a warm\, safe\, and fun environment during the winter months! The program is suitable for all ages and fitness levels. No pre-registration required.
URL:https://ccckl.ca/events/get-w-i-t-h-it-walk-in-the-halls/2024-04-02/
LOCATION:Lindsay Collegiate and Vocational Institute\, 260 Kent St W\, Lindsay\, ON\, K9V 2Z5\, Canada
CATEGORIES:Activity
END:VEVENT
BEGIN:VEVENT
DTSTART;TZID=America/Toronto:20240402T120000
DTEND;TZID=America/Toronto:20240402T140000
DTSTAMP:20260423T200011
CREATED:20221026T143705Z
LAST-MODIFIED:20250630T152535Z
UID:10001479-1712059200-1712066400@ccckl.ca
SUMMARY:Diners Club (Lindsay)
DESCRIPTION:Join us for some great food in good company! \n\n\n\nPre-registration is required and doors open at noon. Please call us at 705-324-7323 ext. 654 to reserve your spot!
URL:https://ccckl.ca/events/diners-club-11/2024-04-02/
LOCATION:65 Melbourne St W\, 65 Melbourne St W\, Lindsay\, Ontario\, K9V 0G4\, Canada
CATEGORIES:Diner's Club
END:VEVENT
BEGIN:VEVENT
DTSTART;TZID=America/Toronto:20240402T100000
DTEND;TZID=America/Toronto:20240402T110000
DTSTAMP:20260423T200011
CREATED:20230810T191211Z
LAST-MODIFIED:20231214T212853Z
UID:10002788-1712052000-1712055600@ccckl.ca
SUMMARY:Coboconk SAGES
DESCRIPTION:Join us every Tuesdays at 10:00 am at the Coboconk Legion for Gentle Exercise for Seniors. \n\n\n\nCost: $2 per session\, registration not required. First session is free! \n\n\n\nFor more information call 705-324-7323 ext. 165 or email wellness@ccckl.ca
URL:https://ccckl.ca/events/coboconk-sages-2/2024-04-02/
LOCATION:Royal Canadian Legion\, Branch 519\, 2916 Kawartha Lakes Rd 48\, Coboconk\, Ontario\, K0M 1K0\, Canada
CATEGORIES:SAGES
ATTACH;FMTTYPE=image/jpeg:https://ccckl.ca/wp-content/uploads/2023/03/Sages-logo-RGB.jpg
END:VEVENT
BEGIN:VEVENT
DTSTART;TZID=America/Toronto:20240402T093000
DTEND;TZID=America/Toronto:20240402T103000
DTSTAMP:20260423T200011
CREATED:20230810T191728Z
LAST-MODIFIED:20231218T163205Z
UID:10002902-1712050200-1712053800@ccckl.ca
SUMMARY:Manilla SAGES
DESCRIPTION:Join us every Tuesday at 9:30 at the Manilla Library for Gentle Exercise for Seniors. \n\n\n\nCost: $3 per session\, registration not required. First session is free! \n\n\n\nFor more information call 705-324-7323 ext. 165 or email wellness@ccckl.ca
URL:https://ccckl.ca/events/manilla-sages-2/2024-04-02/
LOCATION:Manilla Library\, 17025 Simcoe St.\, Manilla\, K0M 2J0\, Canada
CATEGORIES:SAGES
ATTACH;FMTTYPE=image/jpeg:https://ccckl.ca/wp-content/uploads/2023/03/Sages-logo-RGB.jpg
END:VEVENT
BEGIN:VEVENT
DTSTART;TZID=America/Toronto:20240328T180000
DTEND;TZID=America/Toronto:20240328T190000
DTSTAMP:20260423T200011
CREATED:20231214T211749Z
LAST-MODIFIED:20231214T211750Z
UID:10003289-1711648800-1711652400@ccckl.ca
SUMMARY:Get W.I.T.H. It (Walk in the Halls)
DESCRIPTION:The Get W.I.T.H. It (Walk in the Halls) program offers the chance to walk in a warm\, safe\, and fun environment during the winter months! The program is suitable for all ages and fitness levels. No pre-registration required.
URL:https://ccckl.ca/events/get-w-i-t-h-it-walk-in-the-halls/2024-03-28/
LOCATION:Lindsay Collegiate and Vocational Institute\, 260 Kent St W\, Lindsay\, ON\, K9V 2Z5\, Canada
CATEGORIES:Activity
END:VEVENT
BEGIN:VEVENT
DTSTART;TZID=America/Toronto:20240328T120000
DTEND;TZID=America/Toronto:20240328T140000
DTSTAMP:20260423T200011
CREATED:20230810T134223Z
LAST-MODIFIED:20250630T152407Z
UID:10001539-1711627200-1711634400@ccckl.ca
SUMMARY:Diners Club (Coboconk)
DESCRIPTION:Join us for some great food in good company! \n\n\n\nPre-registration is required and doors open at noon. Please call us at 705-324-7323 ext. 654 to reserve your spot!
URL:https://ccckl.ca/events/diners-club-coboconk/2024-03-28/
LOCATION:Coboconk Service Centre\, 9 Grandy Rd\, Coboconk\, Ontario\, Canada
CATEGORIES:Diner's Club
END:VEVENT
BEGIN:VEVENT
DTSTART;TZID=America/Toronto:20240328T100000
DTEND;TZID=America/Toronto:20240328T110000
DTSTAMP:20260423T200011
CREATED:20230810T190900Z
LAST-MODIFIED:20231218T163714Z
UID:10002667-1711620000-1711623600@ccckl.ca
SUMMARY:Bobcaygeon SAGES
DESCRIPTION:Join us every Monday and Thursday at 10:00 am at the Bobcaygeon Senior’s Centre for Gentle Exercise for Seniors. \n\n\n\nCost: $3 per session\, pre-registration for the Bobcaygeon SAGES program is required. First session is free! \n\n\n\nFor more information\, or to register\, call 705-324-7323 ext. 165 or email wellness@ccckl.ca
URL:https://ccckl.ca/events/bobcaygeon-sages-2/2024-03-28/
LOCATION:Bobcaygeon Senior Centre\, 100 Head Street\, Bobcaygeon\, Canada
CATEGORIES:SAGES
ATTACH;FMTTYPE=image/jpeg:https://ccckl.ca/wp-content/uploads/2023/03/Sages-logo-RGB.jpg
END:VEVENT
BEGIN:VEVENT
DTSTART;TZID=America/Toronto:20240328T093000
DTEND;TZID=America/Toronto:20240328T103000
DTSTAMP:20260423T200011
CREATED:20231005T131611Z
LAST-MODIFIED:20231218T163348Z
UID:10002981-1711618200-1711621800@ccckl.ca
SUMMARY:Kirkfield SAGES
DESCRIPTION:Join us every Thursday at 9:30 am at the Kirkfield District Lions Club for Gentle Exercise for Seniors. \n\n\n\nCost: $3 per session\, registration not required. First session is free! \n\n\n\nFor more information call 705-324-7323 ext. 165 or email wellness@ccckl.ca
URL:https://ccckl.ca/events/kirkfield-sages-2/2024-03-28/
LOCATION:Kirkfield & District Lions Club\, 973 Portage Rd\, Kirkfield\, Ontario\, K0M 2B0\, Canada
CATEGORIES:SAGES
ATTACH;FMTTYPE=image/jpeg:https://ccckl.ca/wp-content/uploads/2023/03/Sages-logo-RGB.jpg
END:VEVENT
BEGIN:VEVENT
DTSTART;TZID=America/Toronto:20240327T190000
DTEND;TZID=America/Toronto:20240327T210000
DTSTAMP:20260423T200011
CREATED:20230810T190251Z
LAST-MODIFIED:20231214T212226Z
UID:10002475-1711566000-1711573200@ccckl.ca
SUMMARY:Pickleball Bobcaygeon
DESCRIPTION:Community Care is pleased to offer all ages the chance to enjoy pickleball – the great game with the strange name! \n\n\n\nPickleball is a court game that is a cross between tennis\, badminton and table tennis. It can be played indoors or out\, on a badminton-sized court with a plastic wiffle ball and paddles similar to those used in racquetball. Those looking to get or keep active throughout the year are encouraged to try this fun\, recreational activity! \n\n\n\nNo pre-registration required. Cost: $3 per participant\, first visit is free.
URL:https://ccckl.ca/events/pickleball-bobcaygeon/2024-03-27/
LOCATION:Bobcaygeon Public School\, 30 Balaclava St.\, Bobcaygeon\, ON\, K0M 1A0\, Canada
CATEGORIES:Pickleball
END:VEVENT
BEGIN:VEVENT
DTSTART;TZID=America/Toronto:20240327T104500
DTEND;TZID=America/Toronto:20240327T120000
DTSTAMP:20260423T200011
CREATED:20231005T132529Z
LAST-MODIFIED:20231218T163605Z
UID:10003093-1711536300-1711540800@ccckl.ca
SUMMARY:Lindsay SAGES
DESCRIPTION:Join us Wednesdays* at 10:45 am at Victoria Park Armoury in Lindsay for Gentle Exercise for Seniors.  \n\n\n\n*except the first Wednesday of each month. \n\n\n\nCost: Connect with the Lindsay Senior’s Association for more information. First session is free! \n\n\n\nFor more information call 705-324-7323 ext. 165 or email wellness@ccckl.ca
URL:https://ccckl.ca/events/lindsay-sages-2/2024-03-27/
LOCATION:Victoria Park Armoury\, 210 Kent St W\, Lindsay\, Ontario\, K9V 2Y8\, Canada
CATEGORIES:SAGES
END:VEVENT
BEGIN:VEVENT
DTSTART;TZID=America/Toronto:20240327T100000
DTEND;TZID=America/Toronto:20240327T110000
DTSTAMP:20260423T200011
CREATED:20230810T190727Z
LAST-MODIFIED:20231218T163457Z
UID:10002536-1711533600-1711537200@ccckl.ca
SUMMARY:Fenelon Falls SAGES
DESCRIPTION:Join us every Monday and Wednesday at 10:00 am at the Senior Citizens Club of Fenelon Falls for Gentle Exercise for Seniors. \n\n\n\nCost: $2 per session\, registration not required. First session is free! \n\n\n\nFor more information call 705-324-7323 ext. 165 or email wellness@ccckl.ca
URL:https://ccckl.ca/events/fenelon-falls-sages-3/2024-03-27/
LOCATION:Senior Citizens Club Of Fenelon Falls\, 58 Murray Street\, Fenelon Falls\, Ontario\, K0M 1N0\, Canada
CATEGORIES:SAGES
ATTACH;FMTTYPE=image/jpeg:https://ccckl.ca/wp-content/uploads/2023/03/Sages-logo-RGB.jpg
END:VEVENT
BEGIN:VEVENT
DTSTART;TZID=America/Toronto:20240326T180000
DTEND;TZID=America/Toronto:20240326T190000
DTSTAMP:20260423T200011
CREATED:20231214T211749Z
LAST-MODIFIED:20231214T211750Z
UID:10003288-1711476000-1711479600@ccckl.ca
SUMMARY:Get W.I.T.H. It (Walk in the Halls)
DESCRIPTION:The Get W.I.T.H. It (Walk in the Halls) program offers the chance to walk in a warm\, safe\, and fun environment during the winter months! The program is suitable for all ages and fitness levels. No pre-registration required.
URL:https://ccckl.ca/events/get-w-i-t-h-it-walk-in-the-halls/2024-03-26/
LOCATION:Lindsay Collegiate and Vocational Institute\, 260 Kent St W\, Lindsay\, ON\, K9V 2Z5\, Canada
CATEGORIES:Activity
END:VEVENT
BEGIN:VEVENT
DTSTART;TZID=America/Toronto:20240326T120000
DTEND;TZID=America/Toronto:20240326T140000
DTSTAMP:20260423T200011
CREATED:20221205T164816Z
LAST-MODIFIED:20250630T152521Z
UID:10001316-1711454400-1711461600@ccckl.ca
SUMMARY:Diners Club (Fenelon Falls)
DESCRIPTION:Join us for some great food in good company! \n\n\n\nPre-registration is required and doors open at noon. Please call us at 705-324-7323 ext. 654 to reserve your spot!
URL:https://ccckl.ca/events/diners-club-fenelon-falls-2/2024-03-26/
LOCATION:70 Murray St\, 70 Murray St\, Fenelon Falls\, Ontario\, K0M 1N0\, Canada
CATEGORIES:Diner's Club
END:VEVENT
BEGIN:VEVENT
DTSTART;TZID=America/Toronto:20240326T100000
DTEND;TZID=America/Toronto:20240326T110000
DTSTAMP:20260423T200011
CREATED:20230810T191211Z
LAST-MODIFIED:20231214T212853Z
UID:10002787-1711447200-1711450800@ccckl.ca
SUMMARY:Coboconk SAGES
DESCRIPTION:Join us every Tuesdays at 10:00 am at the Coboconk Legion for Gentle Exercise for Seniors. \n\n\n\nCost: $2 per session\, registration not required. First session is free! \n\n\n\nFor more information call 705-324-7323 ext. 165 or email wellness@ccckl.ca
URL:https://ccckl.ca/events/coboconk-sages-2/2024-03-26/
LOCATION:Royal Canadian Legion\, Branch 519\, 2916 Kawartha Lakes Rd 48\, Coboconk\, Ontario\, K0M 1K0\, Canada
CATEGORIES:SAGES
ATTACH;FMTTYPE=image/jpeg:https://ccckl.ca/wp-content/uploads/2023/03/Sages-logo-RGB.jpg
END:VEVENT
BEGIN:VEVENT
DTSTART;TZID=America/Toronto:20240326T093000
DTEND;TZID=America/Toronto:20240326T103000
DTSTAMP:20260423T200011
CREATED:20230810T191728Z
LAST-MODIFIED:20231218T163205Z
UID:10002901-1711445400-1711449000@ccckl.ca
SUMMARY:Manilla SAGES
DESCRIPTION:Join us every Tuesday at 9:30 at the Manilla Library for Gentle Exercise for Seniors. \n\n\n\nCost: $3 per session\, registration not required. First session is free! \n\n\n\nFor more information call 705-324-7323 ext. 165 or email wellness@ccckl.ca
URL:https://ccckl.ca/events/manilla-sages-2/2024-03-26/
LOCATION:Manilla Library\, 17025 Simcoe St.\, Manilla\, K0M 2J0\, Canada
CATEGORIES:SAGES
ATTACH;FMTTYPE=image/jpeg:https://ccckl.ca/wp-content/uploads/2023/03/Sages-logo-RGB.jpg
END:VEVENT
BEGIN:VEVENT
DTSTART;TZID=America/Toronto:20240325T190000
DTEND;TZID=America/Toronto:20240325T210000
DTSTAMP:20260423T200011
CREATED:20230810T190251Z
LAST-MODIFIED:20231214T212226Z
UID:10002474-1711393200-1711400400@ccckl.ca
SUMMARY:Pickleball Bobcaygeon
DESCRIPTION:Community Care is pleased to offer all ages the chance to enjoy pickleball – the great game with the strange name! \n\n\n\nPickleball is a court game that is a cross between tennis\, badminton and table tennis. It can be played indoors or out\, on a badminton-sized court with a plastic wiffle ball and paddles similar to those used in racquetball. Those looking to get or keep active throughout the year are encouraged to try this fun\, recreational activity! \n\n\n\nNo pre-registration required. Cost: $3 per participant\, first visit is free.
URL:https://ccckl.ca/events/pickleball-bobcaygeon/2024-03-25/
LOCATION:Bobcaygeon Public School\, 30 Balaclava St.\, Bobcaygeon\, ON\, K0M 1A0\, Canada
CATEGORIES:Pickleball
END:VEVENT
BEGIN:VEVENT
DTSTART;TZID=America/Toronto:20240325T150000
DTEND;TZID=America/Toronto:20240325T160000
DTSTAMP:20260423T200011
CREATED:20240421T115131Z
LAST-MODIFIED:20240421T115131Z
UID:10003422-1711378800-1711382400@ccckl.ca
SUMMARY:Low Impact Exercise Class
DESCRIPTION:A new program led by a certified Seniors Fitness Instructor. Community-Based Exercise Classes focuses on cardio\, strength\, balance and flexibility. This program encourages participants to stay functionally fit longer\, increase physical activity levels and decrease their risk of falls. \n\n\n\nEvery Monday (except holidays) from 3 – 4 pm at 21 Angeline St. N in Lindsay  \n\n\n\nClick here to register.
URL:https://ccckl.ca/events/low-impact-exercise-class/2024-03-25/
LOCATION:Community Care City of Kawartha Lakes Community Health Centre\, 21 Angeline St. N\, Lindsay\, ON\, K9V 5B7\, Canada
END:VEVENT
BEGIN:VEVENT
DTSTART;TZID=America/Toronto:20240325T140000
DTEND;TZID=America/Toronto:20240325T150000
DTSTAMP:20260423T200011
CREATED:20240206T172252Z
LAST-MODIFIED:20240421T115207Z
UID:10003314-1711375200-1711378800@ccckl.ca
SUMMARY:Low Impact Exercise Class
DESCRIPTION:A new program led by a certified Seniors Fitness Instructor. Community-Based Exercise Classes focuses on cardio\, strength\, balance and flexibility. This program encourages participants to stay functionally fit longer\, increase physical activity levels and decrease their risk of falls. \n\n\n\nEvery Monday (except holidays) from 2 – 3 pm at 21 Angeline St. N in Lindsay  \n\n\n\nClick here to register.
URL:https://ccckl.ca/events/community-based-exercise-class-2/2024-03-25/
LOCATION:Community Care City of Kawartha Lakes Community Health Centre\, 21 Angeline St. N\, Lindsay\, ON\, K9V 5B7\, Canada
END:VEVENT
BEGIN:VEVENT
DTSTART;TZID=America/Toronto:20240325T100000
DTEND;TZID=America/Toronto:20240325T110000
DTSTAMP:20260423T200011
CREATED:20230810T190900Z
LAST-MODIFIED:20231218T163714Z
UID:10002613-1711360800-1711364400@ccckl.ca
SUMMARY:Bobcaygeon SAGES
DESCRIPTION:Join us every Monday and Thursday at 10:00 am at the Bobcaygeon Senior’s Centre for Gentle Exercise for Seniors. \n\n\n\nCost: $3 per session\, pre-registration for the Bobcaygeon SAGES program is required. First session is free! \n\n\n\nFor more information\, or to register\, call 705-324-7323 ext. 165 or email wellness@ccckl.ca
URL:https://ccckl.ca/events/bobcaygeon-sages-2/2024-03-25/
LOCATION:Bobcaygeon Senior Centre\, 100 Head Street\, Bobcaygeon\, Canada
CATEGORIES:SAGES
ATTACH;FMTTYPE=image/jpeg:https://ccckl.ca/wp-content/uploads/2023/03/Sages-logo-RGB.jpg
END:VEVENT
BEGIN:VEVENT
DTSTART;TZID=America/Toronto:20240325T100000
DTEND;TZID=America/Toronto:20240325T110000
DTSTAMP:20260423T200011
CREATED:20230810T190727Z
LAST-MODIFIED:20231218T163457Z
UID:10002535-1711360800-1711364400@ccckl.ca
SUMMARY:Fenelon Falls SAGES
DESCRIPTION:Join us every Monday and Wednesday at 10:00 am at the Senior Citizens Club of Fenelon Falls for Gentle Exercise for Seniors. \n\n\n\nCost: $2 per session\, registration not required. First session is free! \n\n\n\nFor more information call 705-324-7323 ext. 165 or email wellness@ccckl.ca
URL:https://ccckl.ca/events/fenelon-falls-sages-3/2024-03-25/
LOCATION:Senior Citizens Club Of Fenelon Falls\, 58 Murray Street\, Fenelon Falls\, Ontario\, K0M 1N0\, Canada
CATEGORIES:SAGES
ATTACH;FMTTYPE=image/jpeg:https://ccckl.ca/wp-content/uploads/2023/03/Sages-logo-RGB.jpg
END:VEVENT
END:VCALENDAR