BEGIN:VCALENDAR
VERSION:2.0
PRODID:-//Community Care City of Kawartha Lakes - ECPv6.15.13//NONSGML v1.0//EN
CALSCALE:GREGORIAN
METHOD:PUBLISH
X-ORIGINAL-URL:https://ccckl.ca
X-WR-CALDESC:Events for Community Care City of Kawartha Lakes
REFRESH-INTERVAL;VALUE=DURATION:PT1H
X-Robots-Tag:noindex
X-PUBLISHED-TTL:PT1H
BEGIN:VTIMEZONE
TZID:America/Toronto
BEGIN:DAYLIGHT
TZOFFSETFROM:-0500
TZOFFSETTO:-0400
TZNAME:EDT
DTSTART:20220313T070000
END:DAYLIGHT
BEGIN:STANDARD
TZOFFSETFROM:-0400
TZOFFSETTO:-0500
TZNAME:EST
DTSTART:20221106T060000
END:STANDARD
BEGIN:DAYLIGHT
TZOFFSETFROM:-0500
TZOFFSETTO:-0400
TZNAME:EDT
DTSTART:20230312T070000
END:DAYLIGHT
BEGIN:STANDARD
TZOFFSETFROM:-0400
TZOFFSETTO:-0500
TZNAME:EST
DTSTART:20231105T060000
END:STANDARD
BEGIN:DAYLIGHT
TZOFFSETFROM:-0500
TZOFFSETTO:-0400
TZNAME:EDT
DTSTART:20240310T070000
END:DAYLIGHT
BEGIN:STANDARD
TZOFFSETFROM:-0400
TZOFFSETTO:-0500
TZNAME:EST
DTSTART:20241103T060000
END:STANDARD
END:VTIMEZONE
BEGIN:VEVENT
DTSTART;TZID=America/Toronto:20231204T093000
DTEND;TZID=America/Toronto:20231204T103000
DTSTAMP:20260425T000155
CREATED:20230810T154613Z
LAST-MODIFIED:20240421T115621Z
UID:10001627-1701682200-1701685800@ccckl.ca
SUMMARY:Burnt River SAGES
DESCRIPTION:Join us every Monday and Friday (except holidays) at 9:30 am at the Burnt River Community Centre for Gentle Exercise for Seniors. \n\n\n\nCost: $3 per session\, registration not required. First session is free! \n\n\n\nFor more information call 705-324-7323 ext. 165 or email wellness@ccckl.ca
URL:https://ccckl.ca/events/burnt-river-sages/2023-12-04/
LOCATION:Burnt River Somerville Centre\, 16 Somerville Centre Rd\, Burnt River\, Ontario\, K0M1C0\, Canada
CATEGORIES:SAGES
ATTACH;FMTTYPE=image/jpeg:https://ccckl.ca/wp-content/uploads/2023/03/Sages-logo-RGB.jpg
END:VEVENT
BEGIN:VEVENT
DTSTART;TZID=America/Toronto:20231201T093000
DTEND;TZID=America/Toronto:20231201T103000
DTSTAMP:20260425T000155
CREATED:20230810T154613Z
LAST-MODIFIED:20240421T115621Z
UID:10001626-1701423000-1701426600@ccckl.ca
SUMMARY:Burnt River SAGES
DESCRIPTION:Join us every Monday and Friday (except holidays) at 9:30 am at the Burnt River Community Centre for Gentle Exercise for Seniors. \n\n\n\nCost: $3 per session\, registration not required. First session is free! \n\n\n\nFor more information call 705-324-7323 ext. 165 or email wellness@ccckl.ca
URL:https://ccckl.ca/events/burnt-river-sages/2023-12-01/
LOCATION:Burnt River Somerville Centre\, 16 Somerville Centre Rd\, Burnt River\, Ontario\, K0M1C0\, Canada
CATEGORIES:SAGES
ATTACH;FMTTYPE=image/jpeg:https://ccckl.ca/wp-content/uploads/2023/03/Sages-logo-RGB.jpg
END:VEVENT
BEGIN:VEVENT
DTSTART;TZID=America/Toronto:20231130T180000
DTEND;TZID=America/Toronto:20231130T190000
DTSTAMP:20260425T000155
CREATED:20231214T211749Z
LAST-MODIFIED:20231214T211750Z
UID:10003262-1701367200-1701370800@ccckl.ca
SUMMARY:Get W.I.T.H. It (Walk in the Halls)
DESCRIPTION:The Get W.I.T.H. It (Walk in the Halls) program offers the chance to walk in a warm\, safe\, and fun environment during the winter months! The program is suitable for all ages and fitness levels. No pre-registration required.
URL:https://ccckl.ca/events/get-w-i-t-h-it-walk-in-the-halls/2023-11-30/
LOCATION:Lindsay Collegiate and Vocational Institute\, 260 Kent St W\, Lindsay\, ON\, K9V 2Z5\, Canada
CATEGORIES:Activity
END:VEVENT
BEGIN:VEVENT
DTSTART;TZID=America/Toronto:20231130T100000
DTEND;TZID=America/Toronto:20231130T110000
DTSTAMP:20260425T000155
CREATED:20230810T190900Z
LAST-MODIFIED:20231218T163714Z
UID:10002650-1701338400-1701342000@ccckl.ca
SUMMARY:Bobcaygeon SAGES
DESCRIPTION:Join us every Monday and Thursday at 10:00 am at the Bobcaygeon Senior’s Centre for Gentle Exercise for Seniors. \n\n\n\nCost: $3 per session\, pre-registration for the Bobcaygeon SAGES program is required. First session is free! \n\n\n\nFor more information\, or to register\, call 705-324-7323 ext. 165 or email wellness@ccckl.ca
URL:https://ccckl.ca/events/bobcaygeon-sages-2/2023-11-30/
LOCATION:Bobcaygeon Senior Centre\, 100 Head Street\, Bobcaygeon\, Canada
CATEGORIES:SAGES
ATTACH;FMTTYPE=image/jpeg:https://ccckl.ca/wp-content/uploads/2023/03/Sages-logo-RGB.jpg
END:VEVENT
BEGIN:VEVENT
DTSTART;TZID=America/Toronto:20231130T093000
DTEND;TZID=America/Toronto:20231130T103000
DTSTAMP:20260425T000155
CREATED:20231005T131611Z
LAST-MODIFIED:20231218T163348Z
UID:10002966-1701336600-1701340200@ccckl.ca
SUMMARY:Kirkfield SAGES
DESCRIPTION:Join us every Thursday at 9:30 am at the Kirkfield District Lions Club for Gentle Exercise for Seniors. \n\n\n\nCost: $3 per session\, registration not required. First session is free! \n\n\n\nFor more information call 705-324-7323 ext. 165 or email wellness@ccckl.ca
URL:https://ccckl.ca/events/kirkfield-sages-2/2023-11-30/
LOCATION:Kirkfield & District Lions Club\, 973 Portage Rd\, Kirkfield\, Ontario\, K0M 2B0\, Canada
CATEGORIES:SAGES
ATTACH;FMTTYPE=image/jpeg:https://ccckl.ca/wp-content/uploads/2023/03/Sages-logo-RGB.jpg
END:VEVENT
BEGIN:VEVENT
DTSTART;TZID=America/Toronto:20231129T190000
DTEND;TZID=America/Toronto:20231129T210000
DTSTAMP:20260425T000155
CREATED:20230810T190251Z
LAST-MODIFIED:20231214T212226Z
UID:10002446-1701284400-1701291600@ccckl.ca
SUMMARY:Pickleball Bobcaygeon
DESCRIPTION:Community Care is pleased to offer all ages the chance to enjoy pickleball – the great game with the strange name! \n\n\n\nPickleball is a court game that is a cross between tennis\, badminton and table tennis. It can be played indoors or out\, on a badminton-sized court with a plastic wiffle ball and paddles similar to those used in racquetball. Those looking to get or keep active throughout the year are encouraged to try this fun\, recreational activity! \n\n\n\nNo pre-registration required. Cost: $3 per participant\, first visit is free.
URL:https://ccckl.ca/events/pickleball-bobcaygeon/2023-11-29/
LOCATION:Bobcaygeon Public School\, 30 Balaclava St.\, Bobcaygeon\, ON\, K0M 1A0\, Canada
CATEGORIES:Pickleball
END:VEVENT
BEGIN:VEVENT
DTSTART;TZID=America/Toronto:20231129T104500
DTEND;TZID=America/Toronto:20231129T120000
DTSTAMP:20260425T000155
CREATED:20231005T132529Z
LAST-MODIFIED:20231218T163605Z
UID:10003080-1701254700-1701259200@ccckl.ca
SUMMARY:Lindsay SAGES
DESCRIPTION:Join us Wednesdays* at 10:45 am at Victoria Park Armoury in Lindsay for Gentle Exercise for Seniors.  \n\n\n\n*except the first Wednesday of each month. \n\n\n\nCost: Connect with the Lindsay Senior’s Association for more information. First session is free! \n\n\n\nFor more information call 705-324-7323 ext. 165 or email wellness@ccckl.ca
URL:https://ccckl.ca/events/lindsay-sages-2/2023-11-29/
LOCATION:Victoria Park Armoury\, 210 Kent St W\, Lindsay\, Ontario\, K9V 2Y8\, Canada
CATEGORIES:SAGES
END:VEVENT
BEGIN:VEVENT
DTSTART;TZID=America/Toronto:20231129T100000
DTEND;TZID=America/Toronto:20231129T110000
DTSTAMP:20260425T000155
CREATED:20230810T190727Z
LAST-MODIFIED:20231218T163457Z
UID:10002505-1701252000-1701255600@ccckl.ca
SUMMARY:Fenelon Falls SAGES
DESCRIPTION:Join us every Monday and Wednesday at 10:00 am at the Senior Citizens Club of Fenelon Falls for Gentle Exercise for Seniors. \n\n\n\nCost: $2 per session\, registration not required. First session is free! \n\n\n\nFor more information call 705-324-7323 ext. 165 or email wellness@ccckl.ca
URL:https://ccckl.ca/events/fenelon-falls-sages-3/2023-11-29/
LOCATION:Senior Citizens Club Of Fenelon Falls\, 58 Murray Street\, Fenelon Falls\, Ontario\, K0M 1N0\, Canada
CATEGORIES:SAGES
ATTACH;FMTTYPE=image/jpeg:https://ccckl.ca/wp-content/uploads/2023/03/Sages-logo-RGB.jpg
END:VEVENT
BEGIN:VEVENT
DTSTART;TZID=America/Toronto:20231128T180000
DTEND;TZID=America/Toronto:20231128T190000
DTSTAMP:20260425T000155
CREATED:20231214T211749Z
LAST-MODIFIED:20231214T211750Z
UID:10003261-1701194400-1701198000@ccckl.ca
SUMMARY:Get W.I.T.H. It (Walk in the Halls)
DESCRIPTION:The Get W.I.T.H. It (Walk in the Halls) program offers the chance to walk in a warm\, safe\, and fun environment during the winter months! The program is suitable for all ages and fitness levels. No pre-registration required.
URL:https://ccckl.ca/events/get-w-i-t-h-it-walk-in-the-halls/2023-11-28/
LOCATION:Lindsay Collegiate and Vocational Institute\, 260 Kent St W\, Lindsay\, ON\, K9V 2Z5\, Canada
CATEGORIES:Activity
END:VEVENT
BEGIN:VEVENT
DTSTART;TZID=America/Toronto:20231128T120000
DTEND;TZID=America/Toronto:20231128T140000
DTSTAMP:20260425T000155
CREATED:20221205T164816Z
LAST-MODIFIED:20250630T152521Z
UID:10000798-1701172800-1701180000@ccckl.ca
SUMMARY:Diners Club (Fenelon Falls)
DESCRIPTION:Join us for some great food in good company! \n\n\n\nPre-registration is required and doors open at noon. Please call us at 705-324-7323 ext. 654 to reserve your spot!
URL:https://ccckl.ca/events/diners-club-fenelon-falls-2/2023-11-28/
LOCATION:70 Murray St\, 70 Murray St\, Fenelon Falls\, Ontario\, K0M 1N0\, Canada
CATEGORIES:Diner's Club
END:VEVENT
BEGIN:VEVENT
DTSTART;TZID=America/Toronto:20231128T100000
DTEND;TZID=America/Toronto:20231128T110000
DTSTAMP:20260425T000155
CREATED:20230810T191211Z
LAST-MODIFIED:20231214T212853Z
UID:10002770-1701165600-1701169200@ccckl.ca
SUMMARY:Coboconk SAGES
DESCRIPTION:Join us every Tuesdays at 10:00 am at the Coboconk Legion for Gentle Exercise for Seniors. \n\n\n\nCost: $2 per session\, registration not required. First session is free! \n\n\n\nFor more information call 705-324-7323 ext. 165 or email wellness@ccckl.ca
URL:https://ccckl.ca/events/coboconk-sages-2/2023-11-28/
LOCATION:Royal Canadian Legion\, Branch 519\, 2916 Kawartha Lakes Rd 48\, Coboconk\, Ontario\, K0M 1K0\, Canada
CATEGORIES:SAGES
ATTACH;FMTTYPE=image/jpeg:https://ccckl.ca/wp-content/uploads/2023/03/Sages-logo-RGB.jpg
END:VEVENT
BEGIN:VEVENT
DTSTART;TZID=America/Toronto:20231128T093000
DTEND;TZID=America/Toronto:20231128T103000
DTSTAMP:20260425T000155
CREATED:20230810T191728Z
LAST-MODIFIED:20231218T163205Z
UID:10002886-1701163800-1701167400@ccckl.ca
SUMMARY:Manilla SAGES
DESCRIPTION:Join us every Tuesday at 9:30 at the Manilla Library for Gentle Exercise for Seniors. \n\n\n\nCost: $3 per session\, registration not required. First session is free! \n\n\n\nFor more information call 705-324-7323 ext. 165 or email wellness@ccckl.ca
URL:https://ccckl.ca/events/manilla-sages-2/2023-11-28/
LOCATION:Manilla Library\, 17025 Simcoe St.\, Manilla\, K0M 2J0\, Canada
CATEGORIES:SAGES
ATTACH;FMTTYPE=image/jpeg:https://ccckl.ca/wp-content/uploads/2023/03/Sages-logo-RGB.jpg
END:VEVENT
BEGIN:VEVENT
DTSTART;TZID=America/Toronto:20231127T190000
DTEND;TZID=America/Toronto:20231127T210000
DTSTAMP:20260425T000155
CREATED:20230810T190251Z
LAST-MODIFIED:20231214T212226Z
UID:10002445-1701111600-1701118800@ccckl.ca
SUMMARY:Pickleball Bobcaygeon
DESCRIPTION:Community Care is pleased to offer all ages the chance to enjoy pickleball – the great game with the strange name! \n\n\n\nPickleball is a court game that is a cross between tennis\, badminton and table tennis. It can be played indoors or out\, on a badminton-sized court with a plastic wiffle ball and paddles similar to those used in racquetball. Those looking to get or keep active throughout the year are encouraged to try this fun\, recreational activity! \n\n\n\nNo pre-registration required. Cost: $3 per participant\, first visit is free.
URL:https://ccckl.ca/events/pickleball-bobcaygeon/2023-11-27/
LOCATION:Bobcaygeon Public School\, 30 Balaclava St.\, Bobcaygeon\, ON\, K0M 1A0\, Canada
CATEGORIES:Pickleball
END:VEVENT
BEGIN:VEVENT
DTSTART;TZID=America/Toronto:20231127T100000
DTEND;TZID=America/Toronto:20231127T110000
DTSTAMP:20260425T000155
CREATED:20230810T190900Z
LAST-MODIFIED:20231218T163714Z
UID:10002582-1701079200-1701082800@ccckl.ca
SUMMARY:Bobcaygeon SAGES
DESCRIPTION:Join us every Monday and Thursday at 10:00 am at the Bobcaygeon Senior’s Centre for Gentle Exercise for Seniors. \n\n\n\nCost: $3 per session\, pre-registration for the Bobcaygeon SAGES program is required. First session is free! \n\n\n\nFor more information\, or to register\, call 705-324-7323 ext. 165 or email wellness@ccckl.ca
URL:https://ccckl.ca/events/bobcaygeon-sages-2/2023-11-27/
LOCATION:Bobcaygeon Senior Centre\, 100 Head Street\, Bobcaygeon\, Canada
CATEGORIES:SAGES
ATTACH;FMTTYPE=image/jpeg:https://ccckl.ca/wp-content/uploads/2023/03/Sages-logo-RGB.jpg
END:VEVENT
BEGIN:VEVENT
DTSTART;TZID=America/Toronto:20231127T100000
DTEND;TZID=America/Toronto:20231127T110000
DTSTAMP:20260425T000155
CREATED:20230810T190727Z
LAST-MODIFIED:20231218T163457Z
UID:10002504-1701079200-1701082800@ccckl.ca
SUMMARY:Fenelon Falls SAGES
DESCRIPTION:Join us every Monday and Wednesday at 10:00 am at the Senior Citizens Club of Fenelon Falls for Gentle Exercise for Seniors. \n\n\n\nCost: $2 per session\, registration not required. First session is free! \n\n\n\nFor more information call 705-324-7323 ext. 165 or email wellness@ccckl.ca
URL:https://ccckl.ca/events/fenelon-falls-sages-3/2023-11-27/
LOCATION:Senior Citizens Club Of Fenelon Falls\, 58 Murray Street\, Fenelon Falls\, Ontario\, K0M 1N0\, Canada
CATEGORIES:SAGES
ATTACH;FMTTYPE=image/jpeg:https://ccckl.ca/wp-content/uploads/2023/03/Sages-logo-RGB.jpg
END:VEVENT
BEGIN:VEVENT
DTSTART;TZID=America/Toronto:20231127T093000
DTEND;TZID=America/Toronto:20231127T103000
DTSTAMP:20260425T000155
CREATED:20230810T154613Z
LAST-MODIFIED:20240421T115621Z
UID:10001625-1701077400-1701081000@ccckl.ca
SUMMARY:Burnt River SAGES
DESCRIPTION:Join us every Monday and Friday (except holidays) at 9:30 am at the Burnt River Community Centre for Gentle Exercise for Seniors. \n\n\n\nCost: $3 per session\, registration not required. First session is free! \n\n\n\nFor more information call 705-324-7323 ext. 165 or email wellness@ccckl.ca
URL:https://ccckl.ca/events/burnt-river-sages/2023-11-27/
LOCATION:Burnt River Somerville Centre\, 16 Somerville Centre Rd\, Burnt River\, Ontario\, K0M1C0\, Canada
CATEGORIES:SAGES
ATTACH;FMTTYPE=image/jpeg:https://ccckl.ca/wp-content/uploads/2023/03/Sages-logo-RGB.jpg
END:VEVENT
BEGIN:VEVENT
DTSTART;TZID=America/Toronto:20231124T093000
DTEND;TZID=America/Toronto:20231124T103000
DTSTAMP:20260425T000155
CREATED:20230810T154613Z
LAST-MODIFIED:20240421T115621Z
UID:10001624-1700818200-1700821800@ccckl.ca
SUMMARY:Burnt River SAGES
DESCRIPTION:Join us every Monday and Friday (except holidays) at 9:30 am at the Burnt River Community Centre for Gentle Exercise for Seniors. \n\n\n\nCost: $3 per session\, registration not required. First session is free! \n\n\n\nFor more information call 705-324-7323 ext. 165 or email wellness@ccckl.ca
URL:https://ccckl.ca/events/burnt-river-sages/2023-11-24/
LOCATION:Burnt River Somerville Centre\, 16 Somerville Centre Rd\, Burnt River\, Ontario\, K0M1C0\, Canada
CATEGORIES:SAGES
ATTACH;FMTTYPE=image/jpeg:https://ccckl.ca/wp-content/uploads/2023/03/Sages-logo-RGB.jpg
END:VEVENT
BEGIN:VEVENT
DTSTART;TZID=America/Toronto:20231123T180000
DTEND;TZID=America/Toronto:20231123T190000
DTSTAMP:20260425T000155
CREATED:20231214T211749Z
LAST-MODIFIED:20231214T211750Z
UID:10003260-1700762400-1700766000@ccckl.ca
SUMMARY:Get W.I.T.H. It (Walk in the Halls)
DESCRIPTION:The Get W.I.T.H. It (Walk in the Halls) program offers the chance to walk in a warm\, safe\, and fun environment during the winter months! The program is suitable for all ages and fitness levels. No pre-registration required.
URL:https://ccckl.ca/events/get-w-i-t-h-it-walk-in-the-halls/2023-11-23/
LOCATION:Lindsay Collegiate and Vocational Institute\, 260 Kent St W\, Lindsay\, ON\, K9V 2Z5\, Canada
CATEGORIES:Activity
END:VEVENT
BEGIN:VEVENT
DTSTART;TZID=America/Toronto:20231123T120000
DTEND;TZID=America/Toronto:20231123T140000
DTSTAMP:20260425T000155
CREATED:20230810T134223Z
LAST-MODIFIED:20250630T152407Z
UID:10001535-1700740800-1700748000@ccckl.ca
SUMMARY:Diners Club (Coboconk)
DESCRIPTION:Join us for some great food in good company! \n\n\n\nPre-registration is required and doors open at noon. Please call us at 705-324-7323 ext. 654 to reserve your spot!
URL:https://ccckl.ca/events/diners-club-coboconk/2023-11-23/
LOCATION:Coboconk Service Centre\, 9 Grandy Rd\, Coboconk\, Ontario\, Canada
CATEGORIES:Diner's Club
END:VEVENT
BEGIN:VEVENT
DTSTART;TZID=America/Toronto:20231123T100000
DTEND;TZID=America/Toronto:20231123T110000
DTSTAMP:20260425T000155
CREATED:20230810T190900Z
LAST-MODIFIED:20231218T163714Z
UID:10002649-1700733600-1700737200@ccckl.ca
SUMMARY:Bobcaygeon SAGES
DESCRIPTION:Join us every Monday and Thursday at 10:00 am at the Bobcaygeon Senior’s Centre for Gentle Exercise for Seniors. \n\n\n\nCost: $3 per session\, pre-registration for the Bobcaygeon SAGES program is required. First session is free! \n\n\n\nFor more information\, or to register\, call 705-324-7323 ext. 165 or email wellness@ccckl.ca
URL:https://ccckl.ca/events/bobcaygeon-sages-2/2023-11-23/
LOCATION:Bobcaygeon Senior Centre\, 100 Head Street\, Bobcaygeon\, Canada
CATEGORIES:SAGES
ATTACH;FMTTYPE=image/jpeg:https://ccckl.ca/wp-content/uploads/2023/03/Sages-logo-RGB.jpg
END:VEVENT
BEGIN:VEVENT
DTSTART;TZID=America/Toronto:20231123T093000
DTEND;TZID=America/Toronto:20231123T103000
DTSTAMP:20260425T000155
CREATED:20231005T131611Z
LAST-MODIFIED:20231218T163348Z
UID:10002965-1700731800-1700735400@ccckl.ca
SUMMARY:Kirkfield SAGES
DESCRIPTION:Join us every Thursday at 9:30 am at the Kirkfield District Lions Club for Gentle Exercise for Seniors. \n\n\n\nCost: $3 per session\, registration not required. First session is free! \n\n\n\nFor more information call 705-324-7323 ext. 165 or email wellness@ccckl.ca
URL:https://ccckl.ca/events/kirkfield-sages-2/2023-11-23/
LOCATION:Kirkfield & District Lions Club\, 973 Portage Rd\, Kirkfield\, Ontario\, K0M 2B0\, Canada
CATEGORIES:SAGES
ATTACH;FMTTYPE=image/jpeg:https://ccckl.ca/wp-content/uploads/2023/03/Sages-logo-RGB.jpg
END:VEVENT
BEGIN:VEVENT
DTSTART;TZID=America/Toronto:20231122T190000
DTEND;TZID=America/Toronto:20231122T210000
DTSTAMP:20260425T000155
CREATED:20230810T190251Z
LAST-MODIFIED:20231214T212226Z
UID:10002444-1700679600-1700686800@ccckl.ca
SUMMARY:Pickleball Bobcaygeon
DESCRIPTION:Community Care is pleased to offer all ages the chance to enjoy pickleball – the great game with the strange name! \n\n\n\nPickleball is a court game that is a cross between tennis\, badminton and table tennis. It can be played indoors or out\, on a badminton-sized court with a plastic wiffle ball and paddles similar to those used in racquetball. Those looking to get or keep active throughout the year are encouraged to try this fun\, recreational activity! \n\n\n\nNo pre-registration required. Cost: $3 per participant\, first visit is free.
URL:https://ccckl.ca/events/pickleball-bobcaygeon/2023-11-22/
LOCATION:Bobcaygeon Public School\, 30 Balaclava St.\, Bobcaygeon\, ON\, K0M 1A0\, Canada
CATEGORIES:Pickleball
END:VEVENT
BEGIN:VEVENT
DTSTART;TZID=America/Toronto:20231122T190000
DTEND;TZID=America/Toronto:20231122T200000
DTSTAMP:20260425T000155
CREATED:20231013T114059Z
LAST-MODIFIED:20231013T114100Z
UID:10003153-1700679600-1700683200@ccckl.ca
SUMMARY:Hospice Memorial Service 2023
DESCRIPTION:Please join us to honour and remember your loved ones. All are welcome to attend. \n\n\n\nPlease call to RSVP and to include your loved one’s name in our service by November 17th to 705-324-7323 ext. 553
URL:https://ccckl.ca/events/hospice-memorial-service-2023/
LOCATION:Mackey Celebrations\, 35 Lindsay St N\, Lindsay\, ON\, K9V 1T3\, Canada
CATEGORIES:Community Event
ATTACH;FMTTYPE=image/png:https://ccckl.ca/wp-content/uploads/2023/10/Crocus.png
END:VEVENT
BEGIN:VEVENT
DTSTART;TZID=America/Toronto:20231122T104500
DTEND;TZID=America/Toronto:20231122T120000
DTSTAMP:20260425T000155
CREATED:20231005T132529Z
LAST-MODIFIED:20231218T163605Z
UID:10003079-1700649900-1700654400@ccckl.ca
SUMMARY:Lindsay SAGES
DESCRIPTION:Join us Wednesdays* at 10:45 am at Victoria Park Armoury in Lindsay for Gentle Exercise for Seniors.  \n\n\n\n*except the first Wednesday of each month. \n\n\n\nCost: Connect with the Lindsay Senior’s Association for more information. First session is free! \n\n\n\nFor more information call 705-324-7323 ext. 165 or email wellness@ccckl.ca
URL:https://ccckl.ca/events/lindsay-sages-2/2023-11-22/
LOCATION:Victoria Park Armoury\, 210 Kent St W\, Lindsay\, Ontario\, K9V 2Y8\, Canada
CATEGORIES:SAGES
END:VEVENT
BEGIN:VEVENT
DTSTART;TZID=America/Toronto:20231122T100000
DTEND;TZID=America/Toronto:20231122T110000
DTSTAMP:20260425T000155
CREATED:20230810T190727Z
LAST-MODIFIED:20231218T163457Z
UID:10002503-1700647200-1700650800@ccckl.ca
SUMMARY:Fenelon Falls SAGES
DESCRIPTION:Join us every Monday and Wednesday at 10:00 am at the Senior Citizens Club of Fenelon Falls for Gentle Exercise for Seniors. \n\n\n\nCost: $2 per session\, registration not required. First session is free! \n\n\n\nFor more information call 705-324-7323 ext. 165 or email wellness@ccckl.ca
URL:https://ccckl.ca/events/fenelon-falls-sages-3/2023-11-22/
LOCATION:Senior Citizens Club Of Fenelon Falls\, 58 Murray Street\, Fenelon Falls\, Ontario\, K0M 1N0\, Canada
CATEGORIES:SAGES
ATTACH;FMTTYPE=image/jpeg:https://ccckl.ca/wp-content/uploads/2023/03/Sages-logo-RGB.jpg
END:VEVENT
BEGIN:VEVENT
DTSTART;TZID=America/Toronto:20231121T180000
DTEND;TZID=America/Toronto:20231121T190000
DTSTAMP:20260425T000155
CREATED:20231214T211749Z
LAST-MODIFIED:20231214T211750Z
UID:10003259-1700589600-1700593200@ccckl.ca
SUMMARY:Get W.I.T.H. It (Walk in the Halls)
DESCRIPTION:The Get W.I.T.H. It (Walk in the Halls) program offers the chance to walk in a warm\, safe\, and fun environment during the winter months! The program is suitable for all ages and fitness levels. No pre-registration required.
URL:https://ccckl.ca/events/get-w-i-t-h-it-walk-in-the-halls/2023-11-21/
LOCATION:Lindsay Collegiate and Vocational Institute\, 260 Kent St W\, Lindsay\, ON\, K9V 2Z5\, Canada
CATEGORIES:Activity
END:VEVENT
BEGIN:VEVENT
DTSTART;TZID=America/Toronto:20231121T130000
DTEND;TZID=America/Toronto:20231121T160000
DTSTAMP:20260425T000155
CREATED:20230810T155843Z
LAST-MODIFIED:20230810T155844Z
UID:10000870-1700571600-1700582400@ccckl.ca
SUMMARY:Good Food Box
DESCRIPTION:No garden? No problem! The Good Food Box program brings accessible\, affordable\, fresh and healthy food to the City of Kawartha Lakes. Anyone can purchase a Good Food Box\, with the season’s finest fresh fruits and vegetables from as many local growers as possible. \n\n\n\nA large box costs $20 and comes with healthy recipe ideas. \n\n\n\nCustomers pre-register by the second Tuesday of the month. Pick up on the third Tuesday of the month at Cambridge Street United Church (61 Cambridge St. N. Lindsay) between 1:00 and 4:00 p.m. \n\n\n\nTo register\, or for more information\, contact us at 705-324-7323 ext 165 or gfb@ccckl.ca.
URL:https://ccckl.ca/events/good-food-box-2/2023-11-21/
LOCATION:Cambridge St. United Church\, 61 Cambridge St. N\, Lindsay\, ON\, K9V 4C9\, Canada
END:VEVENT
BEGIN:VEVENT
DTSTART;TZID=America/Toronto:20231121T120000
DTEND;TZID=America/Toronto:20231121T140000
DTSTAMP:20260425T000155
CREATED:20221205T170845Z
LAST-MODIFIED:20250630T152507Z
UID:10000812-1700568000-1700575200@ccckl.ca
SUMMARY:Diners Club (Lindsay)
DESCRIPTION:Join us for some great food in good company! \n\n\n\nPre-registration is required and doors open at noon. Please call us at 705-324-7323 ext. 654 to reserve your spot!
URL:https://ccckl.ca/events/diners-club-lindsay/2023-11-21/
LOCATION:65 Melbourne St W\, 65 Melbourne St W\, Lindsay\, Ontario\, K9V 0G4\, Canada
CATEGORIES:Diner's Club
END:VEVENT
BEGIN:VEVENT
DTSTART;TZID=America/Toronto:20231121T100000
DTEND;TZID=America/Toronto:20231121T110000
DTSTAMP:20260425T000155
CREATED:20230810T191211Z
LAST-MODIFIED:20231214T212853Z
UID:10002769-1700560800-1700564400@ccckl.ca
SUMMARY:Coboconk SAGES
DESCRIPTION:Join us every Tuesdays at 10:00 am at the Coboconk Legion for Gentle Exercise for Seniors. \n\n\n\nCost: $2 per session\, registration not required. First session is free! \n\n\n\nFor more information call 705-324-7323 ext. 165 or email wellness@ccckl.ca
URL:https://ccckl.ca/events/coboconk-sages-2/2023-11-21/
LOCATION:Royal Canadian Legion\, Branch 519\, 2916 Kawartha Lakes Rd 48\, Coboconk\, Ontario\, K0M 1K0\, Canada
CATEGORIES:SAGES
ATTACH;FMTTYPE=image/jpeg:https://ccckl.ca/wp-content/uploads/2023/03/Sages-logo-RGB.jpg
END:VEVENT
BEGIN:VEVENT
DTSTART;TZID=America/Toronto:20231121T093000
DTEND;TZID=America/Toronto:20231121T103000
DTSTAMP:20260425T000155
CREATED:20230810T191728Z
LAST-MODIFIED:20231218T163205Z
UID:10002885-1700559000-1700562600@ccckl.ca
SUMMARY:Manilla SAGES
DESCRIPTION:Join us every Tuesday at 9:30 at the Manilla Library for Gentle Exercise for Seniors. \n\n\n\nCost: $3 per session\, registration not required. First session is free! \n\n\n\nFor more information call 705-324-7323 ext. 165 or email wellness@ccckl.ca
URL:https://ccckl.ca/events/manilla-sages-2/2023-11-21/
LOCATION:Manilla Library\, 17025 Simcoe St.\, Manilla\, K0M 2J0\, Canada
CATEGORIES:SAGES
ATTACH;FMTTYPE=image/jpeg:https://ccckl.ca/wp-content/uploads/2023/03/Sages-logo-RGB.jpg
END:VEVENT
END:VCALENDAR