BEGIN:VCALENDAR
VERSION:2.0
PRODID:-//Community Care City of Kawartha Lakes - ECPv6.15.13//NONSGML v1.0//EN
CALSCALE:GREGORIAN
METHOD:PUBLISH
X-ORIGINAL-URL:https://ccckl.ca
X-WR-CALDESC:Events for Community Care City of Kawartha Lakes
REFRESH-INTERVAL;VALUE=DURATION:PT1H
X-Robots-Tag:noindex
X-PUBLISHED-TTL:PT1H
BEGIN:VTIMEZONE
TZID:America/Toronto
BEGIN:DAYLIGHT
TZOFFSETFROM:-0500
TZOFFSETTO:-0400
TZNAME:EDT
DTSTART:20220313T070000
END:DAYLIGHT
BEGIN:STANDARD
TZOFFSETFROM:-0400
TZOFFSETTO:-0500
TZNAME:EST
DTSTART:20221106T060000
END:STANDARD
BEGIN:DAYLIGHT
TZOFFSETFROM:-0500
TZOFFSETTO:-0400
TZNAME:EDT
DTSTART:20230312T070000
END:DAYLIGHT
BEGIN:STANDARD
TZOFFSETFROM:-0400
TZOFFSETTO:-0500
TZNAME:EST
DTSTART:20231105T060000
END:STANDARD
BEGIN:DAYLIGHT
TZOFFSETFROM:-0500
TZOFFSETTO:-0400
TZNAME:EDT
DTSTART:20240310T070000
END:DAYLIGHT
BEGIN:STANDARD
TZOFFSETFROM:-0400
TZOFFSETTO:-0500
TZNAME:EST
DTSTART:20241103T060000
END:STANDARD
END:VTIMEZONE
BEGIN:VEVENT
DTSTART;TZID=America/Toronto:20231024T120000
DTEND;TZID=America/Toronto:20231024T140000
DTSTAMP:20260425T090108
CREATED:20221205T164816Z
LAST-MODIFIED:20250630T152521Z
UID:10000797-1698148800-1698156000@ccckl.ca
SUMMARY:Diners Club (Fenelon Falls)
DESCRIPTION:Join us for some great food in good company! \n\n\n\nPre-registration is required and doors open at noon. Please call us at 705-324-7323 ext. 654 to reserve your spot!
URL:https://ccckl.ca/events/diners-club-fenelon-falls-2/2023-10-24/
LOCATION:70 Murray St\, 70 Murray St\, Fenelon Falls\, Ontario\, K0M 1N0\, Canada
CATEGORIES:Diner's Club
END:VEVENT
BEGIN:VEVENT
DTSTART;TZID=America/Toronto:20231024T100000
DTEND;TZID=America/Toronto:20231024T110000
DTSTAMP:20260425T090108
CREATED:20230810T191211Z
LAST-MODIFIED:20231214T212853Z
UID:10002765-1698141600-1698145200@ccckl.ca
SUMMARY:Coboconk SAGES
DESCRIPTION:Join us every Tuesdays at 10:00 am at the Coboconk Legion for Gentle Exercise for Seniors. \n\n\n\nCost: $2 per session\, registration not required. First session is free! \n\n\n\nFor more information call 705-324-7323 ext. 165 or email wellness@ccckl.ca
URL:https://ccckl.ca/events/coboconk-sages-2/2023-10-24/
LOCATION:Royal Canadian Legion\, Branch 519\, 2916 Kawartha Lakes Rd 48\, Coboconk\, Ontario\, K0M 1K0\, Canada
CATEGORIES:SAGES
ATTACH;FMTTYPE=image/jpeg:https://ccckl.ca/wp-content/uploads/2023/03/Sages-logo-RGB.jpg
END:VEVENT
BEGIN:VEVENT
DTSTART;TZID=America/Toronto:20231024T093000
DTEND;TZID=America/Toronto:20231024T103000
DTSTAMP:20260425T090108
CREATED:20230810T191728Z
LAST-MODIFIED:20231218T163205Z
UID:10002881-1698139800-1698143400@ccckl.ca
SUMMARY:Manilla SAGES
DESCRIPTION:Join us every Tuesday at 9:30 at the Manilla Library for Gentle Exercise for Seniors. \n\n\n\nCost: $3 per session\, registration not required. First session is free! \n\n\n\nFor more information call 705-324-7323 ext. 165 or email wellness@ccckl.ca
URL:https://ccckl.ca/events/manilla-sages-2/2023-10-24/
LOCATION:Manilla Library\, 17025 Simcoe St.\, Manilla\, K0M 2J0\, Canada
CATEGORIES:SAGES
ATTACH;FMTTYPE=image/jpeg:https://ccckl.ca/wp-content/uploads/2023/03/Sages-logo-RGB.jpg
END:VEVENT
BEGIN:VEVENT
DTSTART;TZID=America/Toronto:20231023T190000
DTEND;TZID=America/Toronto:20231023T210000
DTSTAMP:20260425T090108
CREATED:20230810T190251Z
LAST-MODIFIED:20231214T212226Z
UID:10002435-1698087600-1698094800@ccckl.ca
SUMMARY:Pickleball Bobcaygeon
DESCRIPTION:Community Care is pleased to offer all ages the chance to enjoy pickleball – the great game with the strange name! \n\n\n\nPickleball is a court game that is a cross between tennis\, badminton and table tennis. It can be played indoors or out\, on a badminton-sized court with a plastic wiffle ball and paddles similar to those used in racquetball. Those looking to get or keep active throughout the year are encouraged to try this fun\, recreational activity! \n\n\n\nNo pre-registration required. Cost: $3 per participant\, first visit is free.
URL:https://ccckl.ca/events/pickleball-bobcaygeon/2023-10-23/
LOCATION:Bobcaygeon Public School\, 30 Balaclava St.\, Bobcaygeon\, ON\, K0M 1A0\, Canada
CATEGORIES:Pickleball
END:VEVENT
BEGIN:VEVENT
DTSTART;TZID=America/Toronto:20231023T100000
DTEND;TZID=America/Toronto:20231023T110000
DTSTAMP:20260425T090108
CREATED:20230810T190900Z
LAST-MODIFIED:20231218T163714Z
UID:10002572-1698055200-1698058800@ccckl.ca
SUMMARY:Bobcaygeon SAGES
DESCRIPTION:Join us every Monday and Thursday at 10:00 am at the Bobcaygeon Senior’s Centre for Gentle Exercise for Seniors. \n\n\n\nCost: $3 per session\, pre-registration for the Bobcaygeon SAGES program is required. First session is free! \n\n\n\nFor more information\, or to register\, call 705-324-7323 ext. 165 or email wellness@ccckl.ca
URL:https://ccckl.ca/events/bobcaygeon-sages-2/2023-10-23/
LOCATION:Bobcaygeon Senior Centre\, 100 Head Street\, Bobcaygeon\, Canada
CATEGORIES:SAGES
ATTACH;FMTTYPE=image/jpeg:https://ccckl.ca/wp-content/uploads/2023/03/Sages-logo-RGB.jpg
END:VEVENT
BEGIN:VEVENT
DTSTART;TZID=America/Toronto:20231023T100000
DTEND;TZID=America/Toronto:20231023T110000
DTSTAMP:20260425T090108
CREATED:20230810T190727Z
LAST-MODIFIED:20231218T163457Z
UID:10002494-1698055200-1698058800@ccckl.ca
SUMMARY:Fenelon Falls SAGES
DESCRIPTION:Join us every Monday and Wednesday at 10:00 am at the Senior Citizens Club of Fenelon Falls for Gentle Exercise for Seniors. \n\n\n\nCost: $2 per session\, registration not required. First session is free! \n\n\n\nFor more information call 705-324-7323 ext. 165 or email wellness@ccckl.ca
URL:https://ccckl.ca/events/fenelon-falls-sages-3/2023-10-23/
LOCATION:Senior Citizens Club Of Fenelon Falls\, 58 Murray Street\, Fenelon Falls\, Ontario\, K0M 1N0\, Canada
CATEGORIES:SAGES
ATTACH;FMTTYPE=image/jpeg:https://ccckl.ca/wp-content/uploads/2023/03/Sages-logo-RGB.jpg
END:VEVENT
BEGIN:VEVENT
DTSTART;TZID=America/Toronto:20231023T093000
DTEND;TZID=America/Toronto:20231023T103000
DTSTAMP:20260425T090108
CREATED:20230810T154613Z
LAST-MODIFIED:20240421T115621Z
UID:10001615-1698053400-1698057000@ccckl.ca
SUMMARY:Burnt River SAGES
DESCRIPTION:Join us every Monday and Friday (except holidays) at 9:30 am at the Burnt River Community Centre for Gentle Exercise for Seniors. \n\n\n\nCost: $3 per session\, registration not required. First session is free! \n\n\n\nFor more information call 705-324-7323 ext. 165 or email wellness@ccckl.ca
URL:https://ccckl.ca/events/burnt-river-sages/2023-10-23/
LOCATION:Burnt River Somerville Centre\, 16 Somerville Centre Rd\, Burnt River\, Ontario\, K0M1C0\, Canada
CATEGORIES:SAGES
ATTACH;FMTTYPE=image/jpeg:https://ccckl.ca/wp-content/uploads/2023/03/Sages-logo-RGB.jpg
END:VEVENT
BEGIN:VEVENT
DTSTART;TZID=America/Toronto:20231020T093000
DTEND;TZID=America/Toronto:20231020T103000
DTSTAMP:20260425T090108
CREATED:20230810T154613Z
LAST-MODIFIED:20240421T115621Z
UID:10001614-1697794200-1697797800@ccckl.ca
SUMMARY:Burnt River SAGES
DESCRIPTION:Join us every Monday and Friday (except holidays) at 9:30 am at the Burnt River Community Centre for Gentle Exercise for Seniors. \n\n\n\nCost: $3 per session\, registration not required. First session is free! \n\n\n\nFor more information call 705-324-7323 ext. 165 or email wellness@ccckl.ca
URL:https://ccckl.ca/events/burnt-river-sages/2023-10-20/
LOCATION:Burnt River Somerville Centre\, 16 Somerville Centre Rd\, Burnt River\, Ontario\, K0M1C0\, Canada
CATEGORIES:SAGES
ATTACH;FMTTYPE=image/jpeg:https://ccckl.ca/wp-content/uploads/2023/03/Sages-logo-RGB.jpg
END:VEVENT
BEGIN:VEVENT
DTSTART;TZID=America/Toronto:20231019T120000
DTEND;TZID=America/Toronto:20231019T140000
DTSTAMP:20260425T090108
CREATED:20221205T171748Z
LAST-MODIFIED:20250630T152445Z
UID:10000825-1697716800-1697724000@ccckl.ca
SUMMARY:Diners Club (Burnt River)
DESCRIPTION:Join us for some great food in good company! \n\n\n\nPre-registration is required and doors open at noon. Please call us at 705-324-7323 ext. 654 to reserve your spot!
URL:https://ccckl.ca/events/diners-club-burnt-river/2023-10-19/
LOCATION:Burnt River Somerville Centre\, 16 Somerville Centre Rd\, Burnt River\, Ontario\, K0M1C0\, Canada
CATEGORIES:Diner's Club
END:VEVENT
BEGIN:VEVENT
DTSTART;TZID=America/Toronto:20231019T100000
DTEND;TZID=America/Toronto:20231019T110000
DTSTAMP:20260425T090108
CREATED:20230810T190900Z
LAST-MODIFIED:20231218T163714Z
UID:10002644-1697709600-1697713200@ccckl.ca
SUMMARY:Bobcaygeon SAGES
DESCRIPTION:Join us every Monday and Thursday at 10:00 am at the Bobcaygeon Senior’s Centre for Gentle Exercise for Seniors. \n\n\n\nCost: $3 per session\, pre-registration for the Bobcaygeon SAGES program is required. First session is free! \n\n\n\nFor more information\, or to register\, call 705-324-7323 ext. 165 or email wellness@ccckl.ca
URL:https://ccckl.ca/events/bobcaygeon-sages-2/2023-10-19/
LOCATION:Bobcaygeon Senior Centre\, 100 Head Street\, Bobcaygeon\, Canada
CATEGORIES:SAGES
ATTACH;FMTTYPE=image/jpeg:https://ccckl.ca/wp-content/uploads/2023/03/Sages-logo-RGB.jpg
END:VEVENT
BEGIN:VEVENT
DTSTART;TZID=America/Toronto:20231019T093000
DTEND;TZID=America/Toronto:20231019T103000
DTSTAMP:20260425T090108
CREATED:20231005T131611Z
LAST-MODIFIED:20231218T163348Z
UID:10002960-1697707800-1697711400@ccckl.ca
SUMMARY:Kirkfield SAGES
DESCRIPTION:Join us every Thursday at 9:30 am at the Kirkfield District Lions Club for Gentle Exercise for Seniors. \n\n\n\nCost: $3 per session\, registration not required. First session is free! \n\n\n\nFor more information call 705-324-7323 ext. 165 or email wellness@ccckl.ca
URL:https://ccckl.ca/events/kirkfield-sages-2/2023-10-19/
LOCATION:Kirkfield & District Lions Club\, 973 Portage Rd\, Kirkfield\, Ontario\, K0M 2B0\, Canada
CATEGORIES:SAGES
ATTACH;FMTTYPE=image/jpeg:https://ccckl.ca/wp-content/uploads/2023/03/Sages-logo-RGB.jpg
END:VEVENT
BEGIN:VEVENT
DTSTART;TZID=America/Toronto:20231018T190000
DTEND;TZID=America/Toronto:20231018T210000
DTSTAMP:20260425T090108
CREATED:20230810T190251Z
LAST-MODIFIED:20231214T212226Z
UID:10002434-1697655600-1697662800@ccckl.ca
SUMMARY:Pickleball Bobcaygeon
DESCRIPTION:Community Care is pleased to offer all ages the chance to enjoy pickleball – the great game with the strange name! \n\n\n\nPickleball is a court game that is a cross between tennis\, badminton and table tennis. It can be played indoors or out\, on a badminton-sized court with a plastic wiffle ball and paddles similar to those used in racquetball. Those looking to get or keep active throughout the year are encouraged to try this fun\, recreational activity! \n\n\n\nNo pre-registration required. Cost: $3 per participant\, first visit is free.
URL:https://ccckl.ca/events/pickleball-bobcaygeon/2023-10-18/
LOCATION:Bobcaygeon Public School\, 30 Balaclava St.\, Bobcaygeon\, ON\, K0M 1A0\, Canada
CATEGORIES:Pickleball
END:VEVENT
BEGIN:VEVENT
DTSTART;TZID=America/Toronto:20231018T104500
DTEND;TZID=America/Toronto:20231018T120000
DTSTAMP:20260425T090108
CREATED:20231005T132529Z
LAST-MODIFIED:20231218T163605Z
UID:10003075-1697625900-1697630400@ccckl.ca
SUMMARY:Lindsay SAGES
DESCRIPTION:Join us Wednesdays* at 10:45 am at Victoria Park Armoury in Lindsay for Gentle Exercise for Seniors.  \n\n\n\n*except the first Wednesday of each month. \n\n\n\nCost: Connect with the Lindsay Senior’s Association for more information. First session is free! \n\n\n\nFor more information call 705-324-7323 ext. 165 or email wellness@ccckl.ca
URL:https://ccckl.ca/events/lindsay-sages-2/2023-10-18/
LOCATION:Victoria Park Armoury\, 210 Kent St W\, Lindsay\, Ontario\, K9V 2Y8\, Canada
CATEGORIES:SAGES
END:VEVENT
BEGIN:VEVENT
DTSTART;TZID=America/Toronto:20231018T100000
DTEND;TZID=America/Toronto:20231018T110000
DTSTAMP:20260425T090108
CREATED:20230810T190727Z
LAST-MODIFIED:20231218T163457Z
UID:10002493-1697623200-1697626800@ccckl.ca
SUMMARY:Fenelon Falls SAGES
DESCRIPTION:Join us every Monday and Wednesday at 10:00 am at the Senior Citizens Club of Fenelon Falls for Gentle Exercise for Seniors. \n\n\n\nCost: $2 per session\, registration not required. First session is free! \n\n\n\nFor more information call 705-324-7323 ext. 165 or email wellness@ccckl.ca
URL:https://ccckl.ca/events/fenelon-falls-sages-3/2023-10-18/
LOCATION:Senior Citizens Club Of Fenelon Falls\, 58 Murray Street\, Fenelon Falls\, Ontario\, K0M 1N0\, Canada
CATEGORIES:SAGES
ATTACH;FMTTYPE=image/jpeg:https://ccckl.ca/wp-content/uploads/2023/03/Sages-logo-RGB.jpg
END:VEVENT
BEGIN:VEVENT
DTSTART;TZID=America/Toronto:20231017T130000
DTEND;TZID=America/Toronto:20231017T160000
DTSTAMP:20260425T090108
CREATED:20230810T155843Z
LAST-MODIFIED:20230810T155844Z
UID:10000869-1697547600-1697558400@ccckl.ca
SUMMARY:Good Food Box
DESCRIPTION:No garden? No problem! The Good Food Box program brings accessible\, affordable\, fresh and healthy food to the City of Kawartha Lakes. Anyone can purchase a Good Food Box\, with the season’s finest fresh fruits and vegetables from as many local growers as possible. \n\n\n\nA large box costs $20 and comes with healthy recipe ideas. \n\n\n\nCustomers pre-register by the second Tuesday of the month. Pick up on the third Tuesday of the month at Cambridge Street United Church (61 Cambridge St. N. Lindsay) between 1:00 and 4:00 p.m. \n\n\n\nTo register\, or for more information\, contact us at 705-324-7323 ext 165 or gfb@ccckl.ca.
URL:https://ccckl.ca/events/good-food-box-2/2023-10-17/
LOCATION:Cambridge St. United Church\, 61 Cambridge St. N\, Lindsay\, ON\, K9V 4C9\, Canada
END:VEVENT
BEGIN:VEVENT
DTSTART;TZID=America/Toronto:20231017T120000
DTEND;TZID=America/Toronto:20231017T140000
DTSTAMP:20260425T090108
CREATED:20221205T170845Z
LAST-MODIFIED:20250630T152507Z
UID:10000811-1697544000-1697551200@ccckl.ca
SUMMARY:Diners Club (Lindsay)
DESCRIPTION:Join us for some great food in good company! \n\n\n\nPre-registration is required and doors open at noon. Please call us at 705-324-7323 ext. 654 to reserve your spot!
URL:https://ccckl.ca/events/diners-club-lindsay/2023-10-17/
LOCATION:65 Melbourne St W\, 65 Melbourne St W\, Lindsay\, Ontario\, K9V 0G4\, Canada
CATEGORIES:Diner's Club
END:VEVENT
BEGIN:VEVENT
DTSTART;TZID=America/Toronto:20231017T100000
DTEND;TZID=America/Toronto:20231017T110000
DTSTAMP:20260425T090108
CREATED:20230810T191211Z
LAST-MODIFIED:20231214T212853Z
UID:10002764-1697536800-1697540400@ccckl.ca
SUMMARY:Coboconk SAGES
DESCRIPTION:Join us every Tuesdays at 10:00 am at the Coboconk Legion for Gentle Exercise for Seniors. \n\n\n\nCost: $2 per session\, registration not required. First session is free! \n\n\n\nFor more information call 705-324-7323 ext. 165 or email wellness@ccckl.ca
URL:https://ccckl.ca/events/coboconk-sages-2/2023-10-17/
LOCATION:Royal Canadian Legion\, Branch 519\, 2916 Kawartha Lakes Rd 48\, Coboconk\, Ontario\, K0M 1K0\, Canada
CATEGORIES:SAGES
ATTACH;FMTTYPE=image/jpeg:https://ccckl.ca/wp-content/uploads/2023/03/Sages-logo-RGB.jpg
END:VEVENT
BEGIN:VEVENT
DTSTART;TZID=America/Toronto:20231017T093000
DTEND;TZID=America/Toronto:20231017T103000
DTSTAMP:20260425T090108
CREATED:20230810T191728Z
LAST-MODIFIED:20231218T163205Z
UID:10002880-1697535000-1697538600@ccckl.ca
SUMMARY:Manilla SAGES
DESCRIPTION:Join us every Tuesday at 9:30 at the Manilla Library for Gentle Exercise for Seniors. \n\n\n\nCost: $3 per session\, registration not required. First session is free! \n\n\n\nFor more information call 705-324-7323 ext. 165 or email wellness@ccckl.ca
URL:https://ccckl.ca/events/manilla-sages-2/2023-10-17/
LOCATION:Manilla Library\, 17025 Simcoe St.\, Manilla\, K0M 2J0\, Canada
CATEGORIES:SAGES
ATTACH;FMTTYPE=image/jpeg:https://ccckl.ca/wp-content/uploads/2023/03/Sages-logo-RGB.jpg
END:VEVENT
BEGIN:VEVENT
DTSTART;TZID=America/Toronto:20231016T190000
DTEND;TZID=America/Toronto:20231016T210000
DTSTAMP:20260425T090108
CREATED:20230810T190251Z
LAST-MODIFIED:20231214T212226Z
UID:10002433-1697482800-1697490000@ccckl.ca
SUMMARY:Pickleball Bobcaygeon
DESCRIPTION:Community Care is pleased to offer all ages the chance to enjoy pickleball – the great game with the strange name! \n\n\n\nPickleball is a court game that is a cross between tennis\, badminton and table tennis. It can be played indoors or out\, on a badminton-sized court with a plastic wiffle ball and paddles similar to those used in racquetball. Those looking to get or keep active throughout the year are encouraged to try this fun\, recreational activity! \n\n\n\nNo pre-registration required. Cost: $3 per participant\, first visit is free.
URL:https://ccckl.ca/events/pickleball-bobcaygeon/2023-10-16/
LOCATION:Bobcaygeon Public School\, 30 Balaclava St.\, Bobcaygeon\, ON\, K0M 1A0\, Canada
CATEGORIES:Pickleball
END:VEVENT
BEGIN:VEVENT
DTSTART;TZID=America/Toronto:20231016T100000
DTEND;TZID=America/Toronto:20231016T110000
DTSTAMP:20260425T090108
CREATED:20230810T190900Z
LAST-MODIFIED:20231218T163714Z
UID:10002570-1697450400-1697454000@ccckl.ca
SUMMARY:Bobcaygeon SAGES
DESCRIPTION:Join us every Monday and Thursday at 10:00 am at the Bobcaygeon Senior’s Centre for Gentle Exercise for Seniors. \n\n\n\nCost: $3 per session\, pre-registration for the Bobcaygeon SAGES program is required. First session is free! \n\n\n\nFor more information\, or to register\, call 705-324-7323 ext. 165 or email wellness@ccckl.ca
URL:https://ccckl.ca/events/bobcaygeon-sages-2/2023-10-16/
LOCATION:Bobcaygeon Senior Centre\, 100 Head Street\, Bobcaygeon\, Canada
CATEGORIES:SAGES
ATTACH;FMTTYPE=image/jpeg:https://ccckl.ca/wp-content/uploads/2023/03/Sages-logo-RGB.jpg
END:VEVENT
BEGIN:VEVENT
DTSTART;TZID=America/Toronto:20231016T100000
DTEND;TZID=America/Toronto:20231016T110000
DTSTAMP:20260425T090108
CREATED:20230810T190727Z
LAST-MODIFIED:20231218T163457Z
UID:10002492-1697450400-1697454000@ccckl.ca
SUMMARY:Fenelon Falls SAGES
DESCRIPTION:Join us every Monday and Wednesday at 10:00 am at the Senior Citizens Club of Fenelon Falls for Gentle Exercise for Seniors. \n\n\n\nCost: $2 per session\, registration not required. First session is free! \n\n\n\nFor more information call 705-324-7323 ext. 165 or email wellness@ccckl.ca
URL:https://ccckl.ca/events/fenelon-falls-sages-3/2023-10-16/
LOCATION:Senior Citizens Club Of Fenelon Falls\, 58 Murray Street\, Fenelon Falls\, Ontario\, K0M 1N0\, Canada
CATEGORIES:SAGES
ATTACH;FMTTYPE=image/jpeg:https://ccckl.ca/wp-content/uploads/2023/03/Sages-logo-RGB.jpg
END:VEVENT
BEGIN:VEVENT
DTSTART;TZID=America/Toronto:20231016T093000
DTEND;TZID=America/Toronto:20231016T103000
DTSTAMP:20260425T090108
CREATED:20230810T154613Z
LAST-MODIFIED:20240421T115621Z
UID:10001613-1697448600-1697452200@ccckl.ca
SUMMARY:Burnt River SAGES
DESCRIPTION:Join us every Monday and Friday (except holidays) at 9:30 am at the Burnt River Community Centre for Gentle Exercise for Seniors. \n\n\n\nCost: $3 per session\, registration not required. First session is free! \n\n\n\nFor more information call 705-324-7323 ext. 165 or email wellness@ccckl.ca
URL:https://ccckl.ca/events/burnt-river-sages/2023-10-16/
LOCATION:Burnt River Somerville Centre\, 16 Somerville Centre Rd\, Burnt River\, Ontario\, K0M1C0\, Canada
CATEGORIES:SAGES
ATTACH;FMTTYPE=image/jpeg:https://ccckl.ca/wp-content/uploads/2023/03/Sages-logo-RGB.jpg
END:VEVENT
BEGIN:VEVENT
DTSTART;TZID=America/Toronto:20231013T093000
DTEND;TZID=America/Toronto:20231013T103000
DTSTAMP:20260425T090108
CREATED:20230810T154613Z
LAST-MODIFIED:20240421T115621Z
UID:10001612-1697189400-1697193000@ccckl.ca
SUMMARY:Burnt River SAGES
DESCRIPTION:Join us every Monday and Friday (except holidays) at 9:30 am at the Burnt River Community Centre for Gentle Exercise for Seniors. \n\n\n\nCost: $3 per session\, registration not required. First session is free! \n\n\n\nFor more information call 705-324-7323 ext. 165 or email wellness@ccckl.ca
URL:https://ccckl.ca/events/burnt-river-sages/2023-10-13/
LOCATION:Burnt River Somerville Centre\, 16 Somerville Centre Rd\, Burnt River\, Ontario\, K0M1C0\, Canada
CATEGORIES:SAGES
ATTACH;FMTTYPE=image/jpeg:https://ccckl.ca/wp-content/uploads/2023/03/Sages-logo-RGB.jpg
END:VEVENT
BEGIN:VEVENT
DTSTART;TZID=America/Toronto:20231012T100000
DTEND;TZID=America/Toronto:20231012T110000
DTSTAMP:20260425T090108
CREATED:20230810T190900Z
LAST-MODIFIED:20231218T163714Z
UID:10002643-1697104800-1697108400@ccckl.ca
SUMMARY:Bobcaygeon SAGES
DESCRIPTION:Join us every Monday and Thursday at 10:00 am at the Bobcaygeon Senior’s Centre for Gentle Exercise for Seniors. \n\n\n\nCost: $3 per session\, pre-registration for the Bobcaygeon SAGES program is required. First session is free! \n\n\n\nFor more information\, or to register\, call 705-324-7323 ext. 165 or email wellness@ccckl.ca
URL:https://ccckl.ca/events/bobcaygeon-sages-2/2023-10-12/
LOCATION:Bobcaygeon Senior Centre\, 100 Head Street\, Bobcaygeon\, Canada
CATEGORIES:SAGES
ATTACH;FMTTYPE=image/jpeg:https://ccckl.ca/wp-content/uploads/2023/03/Sages-logo-RGB.jpg
END:VEVENT
BEGIN:VEVENT
DTSTART;TZID=America/Toronto:20231012T093000
DTEND;TZID=America/Toronto:20231012T103000
DTSTAMP:20260425T090108
CREATED:20231005T131611Z
LAST-MODIFIED:20231218T163348Z
UID:10002959-1697103000-1697106600@ccckl.ca
SUMMARY:Kirkfield SAGES
DESCRIPTION:Join us every Thursday at 9:30 am at the Kirkfield District Lions Club for Gentle Exercise for Seniors. \n\n\n\nCost: $3 per session\, registration not required. First session is free! \n\n\n\nFor more information call 705-324-7323 ext. 165 or email wellness@ccckl.ca
URL:https://ccckl.ca/events/kirkfield-sages-2/2023-10-12/
LOCATION:Kirkfield & District Lions Club\, 973 Portage Rd\, Kirkfield\, Ontario\, K0M 2B0\, Canada
CATEGORIES:SAGES
ATTACH;FMTTYPE=image/jpeg:https://ccckl.ca/wp-content/uploads/2023/03/Sages-logo-RGB.jpg
END:VEVENT
BEGIN:VEVENT
DTSTART;TZID=America/Toronto:20231011T190000
DTEND;TZID=America/Toronto:20231011T210000
DTSTAMP:20260425T090108
CREATED:20230810T190251Z
LAST-MODIFIED:20231214T212226Z
UID:10002432-1697050800-1697058000@ccckl.ca
SUMMARY:Pickleball Bobcaygeon
DESCRIPTION:Community Care is pleased to offer all ages the chance to enjoy pickleball – the great game with the strange name! \n\n\n\nPickleball is a court game that is a cross between tennis\, badminton and table tennis. It can be played indoors or out\, on a badminton-sized court with a plastic wiffle ball and paddles similar to those used in racquetball. Those looking to get or keep active throughout the year are encouraged to try this fun\, recreational activity! \n\n\n\nNo pre-registration required. Cost: $3 per participant\, first visit is free.
URL:https://ccckl.ca/events/pickleball-bobcaygeon/2023-10-11/
LOCATION:Bobcaygeon Public School\, 30 Balaclava St.\, Bobcaygeon\, ON\, K0M 1A0\, Canada
CATEGORIES:Pickleball
END:VEVENT
BEGIN:VEVENT
DTSTART;TZID=America/Toronto:20231011T104500
DTEND;TZID=America/Toronto:20231011T120000
DTSTAMP:20260425T090108
CREATED:20231005T132529Z
LAST-MODIFIED:20231218T163605Z
UID:10003074-1697021100-1697025600@ccckl.ca
SUMMARY:Lindsay SAGES
DESCRIPTION:Join us Wednesdays* at 10:45 am at Victoria Park Armoury in Lindsay for Gentle Exercise for Seniors.  \n\n\n\n*except the first Wednesday of each month. \n\n\n\nCost: Connect with the Lindsay Senior’s Association for more information. First session is free! \n\n\n\nFor more information call 705-324-7323 ext. 165 or email wellness@ccckl.ca
URL:https://ccckl.ca/events/lindsay-sages-2/2023-10-11/
LOCATION:Victoria Park Armoury\, 210 Kent St W\, Lindsay\, Ontario\, K9V 2Y8\, Canada
CATEGORIES:SAGES
END:VEVENT
BEGIN:VEVENT
DTSTART;TZID=America/Toronto:20231011T100000
DTEND;TZID=America/Toronto:20231011T110000
DTSTAMP:20260425T090108
CREATED:20230810T190727Z
LAST-MODIFIED:20231218T163457Z
UID:10002491-1697018400-1697022000@ccckl.ca
SUMMARY:Fenelon Falls SAGES
DESCRIPTION:Join us every Monday and Wednesday at 10:00 am at the Senior Citizens Club of Fenelon Falls for Gentle Exercise for Seniors. \n\n\n\nCost: $2 per session\, registration not required. First session is free! \n\n\n\nFor more information call 705-324-7323 ext. 165 or email wellness@ccckl.ca
URL:https://ccckl.ca/events/fenelon-falls-sages-3/2023-10-11/
LOCATION:Senior Citizens Club Of Fenelon Falls\, 58 Murray Street\, Fenelon Falls\, Ontario\, K0M 1N0\, Canada
CATEGORIES:SAGES
ATTACH;FMTTYPE=image/jpeg:https://ccckl.ca/wp-content/uploads/2023/03/Sages-logo-RGB.jpg
END:VEVENT
BEGIN:VEVENT
DTSTART;TZID=America/Toronto:20231010T100000
DTEND;TZID=America/Toronto:20231010T110000
DTSTAMP:20260425T090108
CREATED:20230810T191211Z
LAST-MODIFIED:20231214T212853Z
UID:10002763-1696932000-1696935600@ccckl.ca
SUMMARY:Coboconk SAGES
DESCRIPTION:Join us every Tuesdays at 10:00 am at the Coboconk Legion for Gentle Exercise for Seniors. \n\n\n\nCost: $2 per session\, registration not required. First session is free! \n\n\n\nFor more information call 705-324-7323 ext. 165 or email wellness@ccckl.ca
URL:https://ccckl.ca/events/coboconk-sages-2/2023-10-10/
LOCATION:Royal Canadian Legion\, Branch 519\, 2916 Kawartha Lakes Rd 48\, Coboconk\, Ontario\, K0M 1K0\, Canada
CATEGORIES:SAGES
ATTACH;FMTTYPE=image/jpeg:https://ccckl.ca/wp-content/uploads/2023/03/Sages-logo-RGB.jpg
END:VEVENT
BEGIN:VEVENT
DTSTART;TZID=America/Toronto:20231010T093000
DTEND;TZID=America/Toronto:20231010T103000
DTSTAMP:20260425T090108
CREATED:20230810T191728Z
LAST-MODIFIED:20231218T163205Z
UID:10002879-1696930200-1696933800@ccckl.ca
SUMMARY:Manilla SAGES
DESCRIPTION:Join us every Tuesday at 9:30 at the Manilla Library for Gentle Exercise for Seniors. \n\n\n\nCost: $3 per session\, registration not required. First session is free! \n\n\n\nFor more information call 705-324-7323 ext. 165 or email wellness@ccckl.ca
URL:https://ccckl.ca/events/manilla-sages-2/2023-10-10/
LOCATION:Manilla Library\, 17025 Simcoe St.\, Manilla\, K0M 2J0\, Canada
CATEGORIES:SAGES
ATTACH;FMTTYPE=image/jpeg:https://ccckl.ca/wp-content/uploads/2023/03/Sages-logo-RGB.jpg
END:VEVENT
END:VCALENDAR