BEGIN:VCALENDAR
VERSION:2.0
PRODID:-//Community Care City of Kawartha Lakes - ECPv6.15.13//NONSGML v1.0//EN
CALSCALE:GREGORIAN
METHOD:PUBLISH
X-WR-CALNAME:Community Care City of Kawartha Lakes
X-ORIGINAL-URL:https://ccckl.ca
X-WR-CALDESC:Events for Community Care City of Kawartha Lakes
REFRESH-INTERVAL;VALUE=DURATION:PT1H
X-Robots-Tag:noindex
X-PUBLISHED-TTL:PT1H
BEGIN:VTIMEZONE
TZID:America/Toronto
BEGIN:DAYLIGHT
TZOFFSETFROM:-0500
TZOFFSETTO:-0400
TZNAME:EDT
DTSTART:20250309T070000
END:DAYLIGHT
BEGIN:STANDARD
TZOFFSETFROM:-0400
TZOFFSETTO:-0500
TZNAME:EST
DTSTART:20251102T060000
END:STANDARD
BEGIN:DAYLIGHT
TZOFFSETFROM:-0500
TZOFFSETTO:-0400
TZNAME:EDT
DTSTART:20260308T070000
END:DAYLIGHT
BEGIN:STANDARD
TZOFFSETFROM:-0400
TZOFFSETTO:-0500
TZNAME:EST
DTSTART:20261101T060000
END:STANDARD
BEGIN:DAYLIGHT
TZOFFSETFROM:-0500
TZOFFSETTO:-0400
TZNAME:EDT
DTSTART:20270314T070000
END:DAYLIGHT
BEGIN:STANDARD
TZOFFSETFROM:-0400
TZOFFSETTO:-0500
TZNAME:EST
DTSTART:20271107T060000
END:STANDARD
END:VTIMEZONE
BEGIN:VEVENT
DTSTART;TZID=America/Toronto:20261002T093000
DTEND;TZID=America/Toronto:20261002T103000
DTSTAMP:20260420T172320
CREATED:20230810T154613Z
LAST-MODIFIED:20240421T115621Z
UID:10001916-1790933400-1790937000@ccckl.ca
SUMMARY:Burnt River SAGES
DESCRIPTION:Join us every Monday and Friday (except holidays) at 9:30 am at the Burnt River Community Centre for Gentle Exercise for Seniors. \n\n\n\nCost: $3 per session\, registration not required. First session is free! \n\n\n\nFor more information call 705-324-7323 ext. 165 or email wellness@ccckl.ca
URL:https://ccckl.ca/events/burnt-river-sages/2026-10-02/
LOCATION:Burnt River Somerville Centre\, 16 Somerville Centre Rd\, Burnt River\, Ontario\, K0M1C0\, Canada
CATEGORIES:SAGES
ATTACH;FMTTYPE=image/jpeg:https://ccckl.ca/wp-content/uploads/2023/03/Sages-logo-RGB.jpg
END:VEVENT
BEGIN:VEVENT
DTSTART;TZID=America/Toronto:20261005T093000
DTEND;TZID=America/Toronto:20261005T103000
DTSTAMP:20260420T172320
CREATED:20230810T154613Z
LAST-MODIFIED:20240421T115621Z
UID:10001917-1791192600-1791196200@ccckl.ca
SUMMARY:Burnt River SAGES
DESCRIPTION:Join us every Monday and Friday (except holidays) at 9:30 am at the Burnt River Community Centre for Gentle Exercise for Seniors. \n\n\n\nCost: $3 per session\, registration not required. First session is free! \n\n\n\nFor more information call 705-324-7323 ext. 165 or email wellness@ccckl.ca
URL:https://ccckl.ca/events/burnt-river-sages/2026-10-05/
LOCATION:Burnt River Somerville Centre\, 16 Somerville Centre Rd\, Burnt River\, Ontario\, K0M1C0\, Canada
CATEGORIES:SAGES
ATTACH;FMTTYPE=image/jpeg:https://ccckl.ca/wp-content/uploads/2023/03/Sages-logo-RGB.jpg
END:VEVENT
BEGIN:VEVENT
DTSTART;TZID=America/Toronto:20261006T120000
DTEND;TZID=America/Toronto:20261006T140000
DTSTAMP:20260420T172320
CREATED:20221026T143705Z
LAST-MODIFIED:20250630T152535Z
UID:10001509-1791288000-1791295200@ccckl.ca
SUMMARY:Diners Club (Lindsay)
DESCRIPTION:Join us for some great food in good company! \n\n\n\nPre-registration is required and doors open at noon. Please call us at 705-324-7323 ext. 654 to reserve your spot!
URL:https://ccckl.ca/events/diners-club-11/2026-10-06/
LOCATION:65 Melbourne St W\, 65 Melbourne St W\, Lindsay\, Ontario\, K9V 0G4\, Canada
CATEGORIES:Diner's Club
END:VEVENT
BEGIN:VEVENT
DTSTART;TZID=America/Toronto:20261008T120000
DTEND;TZID=America/Toronto:20261008T140000
DTSTAMP:20260420T172320
CREATED:20250630T152232Z
LAST-MODIFIED:20250630T152234Z
UID:10004042-1791460800-1791468000@ccckl.ca
SUMMARY:Diners Club (Bobcaygeon)
DESCRIPTION:Join us for some great food in good company! \n\n\n\nPre-registration is required and doors open at noon. Please call us at 705-324-7323 ext. 654 to reserve your spot!
URL:https://ccckl.ca/events/diners-club-bobcaygeon-2/2026-10-08/
LOCATION:Trinity United Church\, 44 William St\, Bobcaygeon\, Ontario\, K0M 1A0\, Canada
CATEGORIES:Diner's Club
END:VEVENT
BEGIN:VEVENT
DTSTART;TZID=America/Toronto:20261009T093000
DTEND;TZID=America/Toronto:20261009T103000
DTSTAMP:20260420T172320
CREATED:20230810T154613Z
LAST-MODIFIED:20240421T115621Z
UID:10001918-1791538200-1791541800@ccckl.ca
SUMMARY:Burnt River SAGES
DESCRIPTION:Join us every Monday and Friday (except holidays) at 9:30 am at the Burnt River Community Centre for Gentle Exercise for Seniors. \n\n\n\nCost: $3 per session\, registration not required. First session is free! \n\n\n\nFor more information call 705-324-7323 ext. 165 or email wellness@ccckl.ca
URL:https://ccckl.ca/events/burnt-river-sages/2026-10-09/
LOCATION:Burnt River Somerville Centre\, 16 Somerville Centre Rd\, Burnt River\, Ontario\, K0M1C0\, Canada
CATEGORIES:SAGES
ATTACH;FMTTYPE=image/jpeg:https://ccckl.ca/wp-content/uploads/2023/03/Sages-logo-RGB.jpg
END:VEVENT
BEGIN:VEVENT
DTSTART;TZID=America/Toronto:20261012T093000
DTEND;TZID=America/Toronto:20261012T103000
DTSTAMP:20260420T172320
CREATED:20230810T154613Z
LAST-MODIFIED:20240421T115621Z
UID:10001919-1791797400-1791801000@ccckl.ca
SUMMARY:Burnt River SAGES
DESCRIPTION:Join us every Monday and Friday (except holidays) at 9:30 am at the Burnt River Community Centre for Gentle Exercise for Seniors. \n\n\n\nCost: $3 per session\, registration not required. First session is free! \n\n\n\nFor more information call 705-324-7323 ext. 165 or email wellness@ccckl.ca
URL:https://ccckl.ca/events/burnt-river-sages/2026-10-12/
LOCATION:Burnt River Somerville Centre\, 16 Somerville Centre Rd\, Burnt River\, Ontario\, K0M1C0\, Canada
CATEGORIES:SAGES
ATTACH;FMTTYPE=image/jpeg:https://ccckl.ca/wp-content/uploads/2023/03/Sages-logo-RGB.jpg
END:VEVENT
BEGIN:VEVENT
DTSTART;TZID=America/Toronto:20261013T120000
DTEND;TZID=America/Toronto:20261013T140000
DTSTAMP:20260420T172320
CREATED:20240904T135216Z
LAST-MODIFIED:20250630T152344Z
UID:10003893-1791892800-1791900000@ccckl.ca
SUMMARY:Diners Club (Fenelon Falls)
DESCRIPTION:Join us for some great food in good company! \n\n\n\nPre-registration is required and doors open at noon. Please call us at 705-324-7323 ext. 654 to reserve your spot!
URL:https://ccckl.ca/events/diners-club-fenelon-falls/2026-10-13/
LOCATION:70 Murray St\, 70 Murray St\, Fenelon Falls\, Ontario\, K0M 1N0\, Canada
CATEGORIES:Diner's Club
END:VEVENT
BEGIN:VEVENT
DTSTART;TZID=America/Toronto:20261015T120000
DTEND;TZID=America/Toronto:20261015T140000
DTSTAMP:20260420T172320
CREATED:20221205T171748Z
LAST-MODIFIED:20250630T152445Z
UID:10001455-1792065600-1792072800@ccckl.ca
SUMMARY:Diners Club (Burnt River)
DESCRIPTION:Join us for some great food in good company! \n\n\n\nPre-registration is required and doors open at noon. Please call us at 705-324-7323 ext. 654 to reserve your spot!
URL:https://ccckl.ca/events/diners-club-burnt-river/2026-10-15/
LOCATION:Burnt River Somerville Centre\, 16 Somerville Centre Rd\, Burnt River\, Ontario\, K0M1C0\, Canada
CATEGORIES:Diner's Club
END:VEVENT
BEGIN:VEVENT
DTSTART;TZID=America/Toronto:20261016T093000
DTEND;TZID=America/Toronto:20261016T103000
DTSTAMP:20260420T172320
CREATED:20230810T154613Z
LAST-MODIFIED:20240421T115621Z
UID:10001920-1792143000-1792146600@ccckl.ca
SUMMARY:Burnt River SAGES
DESCRIPTION:Join us every Monday and Friday (except holidays) at 9:30 am at the Burnt River Community Centre for Gentle Exercise for Seniors. \n\n\n\nCost: $3 per session\, registration not required. First session is free! \n\n\n\nFor more information call 705-324-7323 ext. 165 or email wellness@ccckl.ca
URL:https://ccckl.ca/events/burnt-river-sages/2026-10-16/
LOCATION:Burnt River Somerville Centre\, 16 Somerville Centre Rd\, Burnt River\, Ontario\, K0M1C0\, Canada
CATEGORIES:SAGES
ATTACH;FMTTYPE=image/jpeg:https://ccckl.ca/wp-content/uploads/2023/03/Sages-logo-RGB.jpg
END:VEVENT
BEGIN:VEVENT
DTSTART;TZID=America/Toronto:20261019T093000
DTEND;TZID=America/Toronto:20261019T103000
DTSTAMP:20260420T172320
CREATED:20230810T154613Z
LAST-MODIFIED:20240421T115621Z
UID:10001921-1792402200-1792405800@ccckl.ca
SUMMARY:Burnt River SAGES
DESCRIPTION:Join us every Monday and Friday (except holidays) at 9:30 am at the Burnt River Community Centre for Gentle Exercise for Seniors. \n\n\n\nCost: $3 per session\, registration not required. First session is free! \n\n\n\nFor more information call 705-324-7323 ext. 165 or email wellness@ccckl.ca
URL:https://ccckl.ca/events/burnt-river-sages/2026-10-19/
LOCATION:Burnt River Somerville Centre\, 16 Somerville Centre Rd\, Burnt River\, Ontario\, K0M1C0\, Canada
CATEGORIES:SAGES
ATTACH;FMTTYPE=image/jpeg:https://ccckl.ca/wp-content/uploads/2023/03/Sages-logo-RGB.jpg
END:VEVENT
BEGIN:VEVENT
DTSTART;TZID=America/Toronto:20261020T120000
DTEND;TZID=America/Toronto:20261020T140000
DTSTAMP:20260420T172320
CREATED:20221205T170845Z
LAST-MODIFIED:20250630T152507Z
UID:10001401-1792497600-1792504800@ccckl.ca
SUMMARY:Diners Club (Lindsay)
DESCRIPTION:Join us for some great food in good company! \n\n\n\nPre-registration is required and doors open at noon. Please call us at 705-324-7323 ext. 654 to reserve your spot!
URL:https://ccckl.ca/events/diners-club-lindsay/2026-10-20/
LOCATION:65 Melbourne St W\, 65 Melbourne St W\, Lindsay\, Ontario\, K9V 0G4\, Canada
CATEGORIES:Diner's Club
END:VEVENT
BEGIN:VEVENT
DTSTART;TZID=America/Toronto:20261020T133000
DTEND;TZID=America/Toronto:20261020T163000
DTSTAMP:20260420T172320
CREATED:20231130T200248Z
LAST-MODIFIED:20231130T200628Z
UID:10003187-1792503000-1792513800@ccckl.ca
SUMMARY:Good Food Box
DESCRIPTION:No garden? No problem! The Good Food Box program brings accessible\, affordable\, fresh and healthy food to the City of Kawartha Lakes. Anyone can purchase a Good Food Box\, with the season’s finest fresh fruits and vegetables from as many local growers as possible. \n\n\n\nA large box costs $20 and comes with healthy recipe ideas. \n\n\n\nCustomers pre-register by the second Tuesday of the month. \n\n\n\nPick up on the third Tuesday of the month at the Community Health Centre (21 Angeline St. Lindsay) between 1:30 and 4:30 p.m. \n\n\n\nTo register\, or for more information\, contact us at 705-324-7323 ext 165 or gfb@ccckl.ca.
URL:https://ccckl.ca/events/good-food-box-3/2026-10-20/
LOCATION:Ontario
END:VEVENT
BEGIN:VEVENT
DTSTART;TZID=America/Toronto:20261022T120000
DTEND;TZID=America/Toronto:20261022T140000
DTSTAMP:20260420T172320
CREATED:20230810T134223Z
LAST-MODIFIED:20250630T152407Z
UID:10001570-1792670400-1792677600@ccckl.ca
SUMMARY:Diners Club (Coboconk)
DESCRIPTION:Join us for some great food in good company! \n\n\n\nPre-registration is required and doors open at noon. Please call us at 705-324-7323 ext. 654 to reserve your spot!
URL:https://ccckl.ca/events/diners-club-coboconk/2026-10-22/
LOCATION:Coboconk Service Centre\, 9 Grandy Rd\, Coboconk\, Ontario\, Canada
CATEGORIES:Diner's Club
END:VEVENT
BEGIN:VEVENT
DTSTART;TZID=America/Toronto:20261023T093000
DTEND;TZID=America/Toronto:20261023T103000
DTSTAMP:20260420T172320
CREATED:20230810T154613Z
LAST-MODIFIED:20240421T115621Z
UID:10001922-1792747800-1792751400@ccckl.ca
SUMMARY:Burnt River SAGES
DESCRIPTION:Join us every Monday and Friday (except holidays) at 9:30 am at the Burnt River Community Centre for Gentle Exercise for Seniors. \n\n\n\nCost: $3 per session\, registration not required. First session is free! \n\n\n\nFor more information call 705-324-7323 ext. 165 or email wellness@ccckl.ca
URL:https://ccckl.ca/events/burnt-river-sages/2026-10-23/
LOCATION:Burnt River Somerville Centre\, 16 Somerville Centre Rd\, Burnt River\, Ontario\, K0M1C0\, Canada
CATEGORIES:SAGES
ATTACH;FMTTYPE=image/jpeg:https://ccckl.ca/wp-content/uploads/2023/03/Sages-logo-RGB.jpg
END:VEVENT
BEGIN:VEVENT
DTSTART;TZID=America/Toronto:20261026T093000
DTEND;TZID=America/Toronto:20261026T103000
DTSTAMP:20260420T172320
CREATED:20230810T154613Z
LAST-MODIFIED:20240421T115621Z
UID:10001923-1793007000-1793010600@ccckl.ca
SUMMARY:Burnt River SAGES
DESCRIPTION:Join us every Monday and Friday (except holidays) at 9:30 am at the Burnt River Community Centre for Gentle Exercise for Seniors. \n\n\n\nCost: $3 per session\, registration not required. First session is free! \n\n\n\nFor more information call 705-324-7323 ext. 165 or email wellness@ccckl.ca
URL:https://ccckl.ca/events/burnt-river-sages/2026-10-26/
LOCATION:Burnt River Somerville Centre\, 16 Somerville Centre Rd\, Burnt River\, Ontario\, K0M1C0\, Canada
CATEGORIES:SAGES
ATTACH;FMTTYPE=image/jpeg:https://ccckl.ca/wp-content/uploads/2023/03/Sages-logo-RGB.jpg
END:VEVENT
BEGIN:VEVENT
DTSTART;TZID=America/Toronto:20261027T120000
DTEND;TZID=America/Toronto:20261027T140000
DTSTAMP:20260420T172320
CREATED:20221205T164816Z
LAST-MODIFIED:20250630T152521Z
UID:10001347-1793102400-1793109600@ccckl.ca
SUMMARY:Diners Club (Fenelon Falls)
DESCRIPTION:Join us for some great food in good company! \n\n\n\nPre-registration is required and doors open at noon. Please call us at 705-324-7323 ext. 654 to reserve your spot!
URL:https://ccckl.ca/events/diners-club-fenelon-falls-2/2026-10-27/
LOCATION:70 Murray St\, 70 Murray St\, Fenelon Falls\, Ontario\, K0M 1N0\, Canada
CATEGORIES:Diner's Club
END:VEVENT
BEGIN:VEVENT
DTSTART;TZID=America/Toronto:20261030T093000
DTEND;TZID=America/Toronto:20261030T103000
DTSTAMP:20260420T172320
CREATED:20230810T154613Z
LAST-MODIFIED:20240421T115621Z
UID:10001924-1793352600-1793356200@ccckl.ca
SUMMARY:Burnt River SAGES
DESCRIPTION:Join us every Monday and Friday (except holidays) at 9:30 am at the Burnt River Community Centre for Gentle Exercise for Seniors. \n\n\n\nCost: $3 per session\, registration not required. First session is free! \n\n\n\nFor more information call 705-324-7323 ext. 165 or email wellness@ccckl.ca
URL:https://ccckl.ca/events/burnt-river-sages/2026-10-30/
LOCATION:Burnt River Somerville Centre\, 16 Somerville Centre Rd\, Burnt River\, Ontario\, K0M1C0\, Canada
CATEGORIES:SAGES
ATTACH;FMTTYPE=image/jpeg:https://ccckl.ca/wp-content/uploads/2023/03/Sages-logo-RGB.jpg
END:VEVENT
BEGIN:VEVENT
DTSTART;TZID=America/Toronto:20261102T093000
DTEND;TZID=America/Toronto:20261102T103000
DTSTAMP:20260420T172320
CREATED:20230810T154613Z
LAST-MODIFIED:20240421T115621Z
UID:10001925-1793611800-1793615400@ccckl.ca
SUMMARY:Burnt River SAGES
DESCRIPTION:Join us every Monday and Friday (except holidays) at 9:30 am at the Burnt River Community Centre for Gentle Exercise for Seniors. \n\n\n\nCost: $3 per session\, registration not required. First session is free! \n\n\n\nFor more information call 705-324-7323 ext. 165 or email wellness@ccckl.ca
URL:https://ccckl.ca/events/burnt-river-sages/2026-11-02/
LOCATION:Burnt River Somerville Centre\, 16 Somerville Centre Rd\, Burnt River\, Ontario\, K0M1C0\, Canada
CATEGORIES:SAGES
ATTACH;FMTTYPE=image/jpeg:https://ccckl.ca/wp-content/uploads/2023/03/Sages-logo-RGB.jpg
END:VEVENT
BEGIN:VEVENT
DTSTART;TZID=America/Toronto:20261103T120000
DTEND;TZID=America/Toronto:20261103T140000
DTSTAMP:20260420T172320
CREATED:20221026T143705Z
LAST-MODIFIED:20250630T152535Z
UID:10001510-1793707200-1793714400@ccckl.ca
SUMMARY:Diners Club (Lindsay)
DESCRIPTION:Join us for some great food in good company! \n\n\n\nPre-registration is required and doors open at noon. Please call us at 705-324-7323 ext. 654 to reserve your spot!
URL:https://ccckl.ca/events/diners-club-11/2026-11-03/
LOCATION:65 Melbourne St W\, 65 Melbourne St W\, Lindsay\, Ontario\, K9V 0G4\, Canada
CATEGORIES:Diner's Club
END:VEVENT
BEGIN:VEVENT
DTSTART;TZID=America/Toronto:20261105T120000
DTEND;TZID=America/Toronto:20261105T140000
DTSTAMP:20260420T172320
CREATED:20230810T133725Z
LAST-MODIFIED:20250630T152430Z
UID:10001293-1793880000-1793887200@ccckl.ca
SUMMARY:Diners Club (Bethany)
DESCRIPTION:Join us for some great food in good company! \n\n\n\nPre-registration is required and doors open at noon. Please call us at 705-324-7323 ext. 654 to reserve your spot!
URL:https://ccckl.ca/events/diners-club-bethany/2026-11-05/
LOCATION:Bethany United Church\, 3 George St\, Bethany\, Ontario\, L0A 1A0\, Canada
CATEGORIES:Diner's Club
END:VEVENT
BEGIN:VEVENT
DTSTART;TZID=America/Toronto:20261106T093000
DTEND;TZID=America/Toronto:20261106T103000
DTSTAMP:20260420T172320
CREATED:20230810T154613Z
LAST-MODIFIED:20240421T115621Z
UID:10001926-1793957400-1793961000@ccckl.ca
SUMMARY:Burnt River SAGES
DESCRIPTION:Join us every Monday and Friday (except holidays) at 9:30 am at the Burnt River Community Centre for Gentle Exercise for Seniors. \n\n\n\nCost: $3 per session\, registration not required. First session is free! \n\n\n\nFor more information call 705-324-7323 ext. 165 or email wellness@ccckl.ca
URL:https://ccckl.ca/events/burnt-river-sages/2026-11-06/
LOCATION:Burnt River Somerville Centre\, 16 Somerville Centre Rd\, Burnt River\, Ontario\, K0M1C0\, Canada
CATEGORIES:SAGES
ATTACH;FMTTYPE=image/jpeg:https://ccckl.ca/wp-content/uploads/2023/03/Sages-logo-RGB.jpg
END:VEVENT
BEGIN:VEVENT
DTSTART;TZID=America/Toronto:20261109T093000
DTEND;TZID=America/Toronto:20261109T103000
DTSTAMP:20260420T172320
CREATED:20230810T154613Z
LAST-MODIFIED:20240421T115621Z
UID:10001927-1794216600-1794220200@ccckl.ca
SUMMARY:Burnt River SAGES
DESCRIPTION:Join us every Monday and Friday (except holidays) at 9:30 am at the Burnt River Community Centre for Gentle Exercise for Seniors. \n\n\n\nCost: $3 per session\, registration not required. First session is free! \n\n\n\nFor more information call 705-324-7323 ext. 165 or email wellness@ccckl.ca
URL:https://ccckl.ca/events/burnt-river-sages/2026-11-09/
LOCATION:Burnt River Somerville Centre\, 16 Somerville Centre Rd\, Burnt River\, Ontario\, K0M1C0\, Canada
CATEGORIES:SAGES
ATTACH;FMTTYPE=image/jpeg:https://ccckl.ca/wp-content/uploads/2023/03/Sages-logo-RGB.jpg
END:VEVENT
BEGIN:VEVENT
DTSTART;TZID=America/Toronto:20261110T120000
DTEND;TZID=America/Toronto:20261110T140000
DTSTAMP:20260420T172320
CREATED:20240904T135216Z
LAST-MODIFIED:20250630T152344Z
UID:10003894-1794312000-1794319200@ccckl.ca
SUMMARY:Diners Club (Fenelon Falls)
DESCRIPTION:Join us for some great food in good company! \n\n\n\nPre-registration is required and doors open at noon. Please call us at 705-324-7323 ext. 654 to reserve your spot!
URL:https://ccckl.ca/events/diners-club-fenelon-falls/2026-11-10/
LOCATION:70 Murray St\, 70 Murray St\, Fenelon Falls\, Ontario\, K0M 1N0\, Canada
CATEGORIES:Diner's Club
END:VEVENT
BEGIN:VEVENT
DTSTART;TZID=America/Toronto:20261112T120000
DTEND;TZID=America/Toronto:20261112T140000
DTSTAMP:20260420T172320
CREATED:20250630T152232Z
LAST-MODIFIED:20250630T152234Z
UID:10004043-1794484800-1794492000@ccckl.ca
SUMMARY:Diners Club (Bobcaygeon)
DESCRIPTION:Join us for some great food in good company! \n\n\n\nPre-registration is required and doors open at noon. Please call us at 705-324-7323 ext. 654 to reserve your spot!
URL:https://ccckl.ca/events/diners-club-bobcaygeon-2/2026-11-12/
LOCATION:Trinity United Church\, 44 William St\, Bobcaygeon\, Ontario\, K0M 1A0\, Canada
CATEGORIES:Diner's Club
END:VEVENT
BEGIN:VEVENT
DTSTART;TZID=America/Toronto:20261113T093000
DTEND;TZID=America/Toronto:20261113T103000
DTSTAMP:20260420T172320
CREATED:20230810T154613Z
LAST-MODIFIED:20240421T115621Z
UID:10001928-1794562200-1794565800@ccckl.ca
SUMMARY:Burnt River SAGES
DESCRIPTION:Join us every Monday and Friday (except holidays) at 9:30 am at the Burnt River Community Centre for Gentle Exercise for Seniors. \n\n\n\nCost: $3 per session\, registration not required. First session is free! \n\n\n\nFor more information call 705-324-7323 ext. 165 or email wellness@ccckl.ca
URL:https://ccckl.ca/events/burnt-river-sages/2026-11-13/
LOCATION:Burnt River Somerville Centre\, 16 Somerville Centre Rd\, Burnt River\, Ontario\, K0M1C0\, Canada
CATEGORIES:SAGES
ATTACH;FMTTYPE=image/jpeg:https://ccckl.ca/wp-content/uploads/2023/03/Sages-logo-RGB.jpg
END:VEVENT
BEGIN:VEVENT
DTSTART;TZID=America/Toronto:20261116T093000
DTEND;TZID=America/Toronto:20261116T103000
DTSTAMP:20260420T172320
CREATED:20230810T154613Z
LAST-MODIFIED:20240421T115621Z
UID:10001929-1794821400-1794825000@ccckl.ca
SUMMARY:Burnt River SAGES
DESCRIPTION:Join us every Monday and Friday (except holidays) at 9:30 am at the Burnt River Community Centre for Gentle Exercise for Seniors. \n\n\n\nCost: $3 per session\, registration not required. First session is free! \n\n\n\nFor more information call 705-324-7323 ext. 165 or email wellness@ccckl.ca
URL:https://ccckl.ca/events/burnt-river-sages/2026-11-16/
LOCATION:Burnt River Somerville Centre\, 16 Somerville Centre Rd\, Burnt River\, Ontario\, K0M1C0\, Canada
CATEGORIES:SAGES
ATTACH;FMTTYPE=image/jpeg:https://ccckl.ca/wp-content/uploads/2023/03/Sages-logo-RGB.jpg
END:VEVENT
BEGIN:VEVENT
DTSTART;TZID=America/Toronto:20261117T120000
DTEND;TZID=America/Toronto:20261117T140000
DTSTAMP:20260420T172320
CREATED:20221205T170845Z
LAST-MODIFIED:20250630T152507Z
UID:10001402-1794916800-1794924000@ccckl.ca
SUMMARY:Diners Club (Lindsay)
DESCRIPTION:Join us for some great food in good company! \n\n\n\nPre-registration is required and doors open at noon. Please call us at 705-324-7323 ext. 654 to reserve your spot!
URL:https://ccckl.ca/events/diners-club-lindsay/2026-11-17/
LOCATION:65 Melbourne St W\, 65 Melbourne St W\, Lindsay\, Ontario\, K9V 0G4\, Canada
CATEGORIES:Diner's Club
END:VEVENT
BEGIN:VEVENT
DTSTART;TZID=America/Toronto:20261117T133000
DTEND;TZID=America/Toronto:20261117T163000
DTSTAMP:20260420T172320
CREATED:20231130T200248Z
LAST-MODIFIED:20231130T200628Z
UID:10003188-1794922200-1794933000@ccckl.ca
SUMMARY:Good Food Box
DESCRIPTION:No garden? No problem! The Good Food Box program brings accessible\, affordable\, fresh and healthy food to the City of Kawartha Lakes. Anyone can purchase a Good Food Box\, with the season’s finest fresh fruits and vegetables from as many local growers as possible. \n\n\n\nA large box costs $20 and comes with healthy recipe ideas. \n\n\n\nCustomers pre-register by the second Tuesday of the month. \n\n\n\nPick up on the third Tuesday of the month at the Community Health Centre (21 Angeline St. Lindsay) between 1:30 and 4:30 p.m. \n\n\n\nTo register\, or for more information\, contact us at 705-324-7323 ext 165 or gfb@ccckl.ca.
URL:https://ccckl.ca/events/good-food-box-3/2026-11-17/
LOCATION:Ontario
END:VEVENT
BEGIN:VEVENT
DTSTART;TZID=America/Toronto:20261119T120000
DTEND;TZID=America/Toronto:20261119T140000
DTSTAMP:20260420T172320
CREATED:20221205T171748Z
LAST-MODIFIED:20250630T152445Z
UID:10001456-1795089600-1795096800@ccckl.ca
SUMMARY:Diners Club (Burnt River)
DESCRIPTION:Join us for some great food in good company! \n\n\n\nPre-registration is required and doors open at noon. Please call us at 705-324-7323 ext. 654 to reserve your spot!
URL:https://ccckl.ca/events/diners-club-burnt-river/2026-11-19/
LOCATION:Burnt River Somerville Centre\, 16 Somerville Centre Rd\, Burnt River\, Ontario\, K0M1C0\, Canada
CATEGORIES:Diner's Club
END:VEVENT
BEGIN:VEVENT
DTSTART;TZID=America/Toronto:20261120T093000
DTEND;TZID=America/Toronto:20261120T103000
DTSTAMP:20260420T172320
CREATED:20230810T154613Z
LAST-MODIFIED:20240421T115621Z
UID:10001930-1795167000-1795170600@ccckl.ca
SUMMARY:Burnt River SAGES
DESCRIPTION:Join us every Monday and Friday (except holidays) at 9:30 am at the Burnt River Community Centre for Gentle Exercise for Seniors. \n\n\n\nCost: $3 per session\, registration not required. First session is free! \n\n\n\nFor more information call 705-324-7323 ext. 165 or email wellness@ccckl.ca
URL:https://ccckl.ca/events/burnt-river-sages/2026-11-20/
LOCATION:Burnt River Somerville Centre\, 16 Somerville Centre Rd\, Burnt River\, Ontario\, K0M1C0\, Canada
CATEGORIES:SAGES
ATTACH;FMTTYPE=image/jpeg:https://ccckl.ca/wp-content/uploads/2023/03/Sages-logo-RGB.jpg
END:VEVENT
END:VCALENDAR