BEGIN:VCALENDAR
VERSION:2.0
PRODID:-//Community Care City of Kawartha Lakes - ECPv6.15.13//NONSGML v1.0//EN
CALSCALE:GREGORIAN
METHOD:PUBLISH
X-ORIGINAL-URL:https://ccckl.ca
X-WR-CALDESC:Events for Community Care City of Kawartha Lakes
REFRESH-INTERVAL;VALUE=DURATION:PT1H
X-Robots-Tag:noindex
X-PUBLISHED-TTL:PT1H
BEGIN:VTIMEZONE
TZID:America/Toronto
BEGIN:DAYLIGHT
TZOFFSETFROM:-0500
TZOFFSETTO:-0400
TZNAME:EDT
DTSTART:20220313T070000
END:DAYLIGHT
BEGIN:STANDARD
TZOFFSETFROM:-0400
TZOFFSETTO:-0500
TZNAME:EST
DTSTART:20221106T060000
END:STANDARD
BEGIN:DAYLIGHT
TZOFFSETFROM:-0500
TZOFFSETTO:-0400
TZNAME:EDT
DTSTART:20230312T070000
END:DAYLIGHT
BEGIN:STANDARD
TZOFFSETFROM:-0400
TZOFFSETTO:-0500
TZNAME:EST
DTSTART:20231105T060000
END:STANDARD
BEGIN:DAYLIGHT
TZOFFSETFROM:-0500
TZOFFSETTO:-0400
TZNAME:EDT
DTSTART:20240310T070000
END:DAYLIGHT
BEGIN:STANDARD
TZOFFSETFROM:-0400
TZOFFSETTO:-0500
TZNAME:EST
DTSTART:20241103T060000
END:STANDARD
END:VTIMEZONE
BEGIN:VEVENT
DTSTART;TZID=America/Toronto:20230918T100000
DTEND;TZID=America/Toronto:20230918T110000
DTSTAMP:20260425T163913
CREATED:20230810T190727Z
LAST-MODIFIED:20231218T163457Z
UID:10002485-1695031200-1695034800@ccckl.ca
SUMMARY:Fenelon Falls SAGES
DESCRIPTION:Join us every Monday and Wednesday at 10:00 am at the Senior Citizens Club of Fenelon Falls for Gentle Exercise for Seniors. \n\n\n\nCost: $2 per session\, registration not required. First session is free! \n\n\n\nFor more information call 705-324-7323 ext. 165 or email wellness@ccckl.ca
URL:https://ccckl.ca/events/fenelon-falls-sages-3/2023-09-18/
LOCATION:Senior Citizens Club Of Fenelon Falls\, 58 Murray Street\, Fenelon Falls\, Ontario\, K0M 1N0\, Canada
CATEGORIES:SAGES
ATTACH;FMTTYPE=image/jpeg:https://ccckl.ca/wp-content/uploads/2023/03/Sages-logo-RGB.jpg
END:VEVENT
BEGIN:VEVENT
DTSTART;TZID=America/Toronto:20230918T093000
DTEND;TZID=America/Toronto:20230918T103000
DTSTAMP:20260425T163913
CREATED:20230810T154613Z
LAST-MODIFIED:20240421T115621Z
UID:10001606-1695029400-1695033000@ccckl.ca
SUMMARY:Burnt River SAGES
DESCRIPTION:Join us every Monday and Friday (except holidays) at 9:30 am at the Burnt River Community Centre for Gentle Exercise for Seniors. \n\n\n\nCost: $3 per session\, registration not required. First session is free! \n\n\n\nFor more information call 705-324-7323 ext. 165 or email wellness@ccckl.ca
URL:https://ccckl.ca/events/burnt-river-sages/2023-09-18/
LOCATION:Burnt River Somerville Centre\, 16 Somerville Centre Rd\, Burnt River\, Ontario\, K0M1C0\, Canada
CATEGORIES:SAGES
ATTACH;FMTTYPE=image/jpeg:https://ccckl.ca/wp-content/uploads/2023/03/Sages-logo-RGB.jpg
END:VEVENT
BEGIN:VEVENT
DTSTART;TZID=America/Toronto:20230915T093000
DTEND;TZID=America/Toronto:20230915T103000
DTSTAMP:20260425T163913
CREATED:20230810T154613Z
LAST-MODIFIED:20240421T115621Z
UID:10001605-1694770200-1694773800@ccckl.ca
SUMMARY:Burnt River SAGES
DESCRIPTION:Join us every Monday and Friday (except holidays) at 9:30 am at the Burnt River Community Centre for Gentle Exercise for Seniors. \n\n\n\nCost: $3 per session\, registration not required. First session is free! \n\n\n\nFor more information call 705-324-7323 ext. 165 or email wellness@ccckl.ca
URL:https://ccckl.ca/events/burnt-river-sages/2023-09-15/
LOCATION:Burnt River Somerville Centre\, 16 Somerville Centre Rd\, Burnt River\, Ontario\, K0M1C0\, Canada
CATEGORIES:SAGES
ATTACH;FMTTYPE=image/jpeg:https://ccckl.ca/wp-content/uploads/2023/03/Sages-logo-RGB.jpg
END:VEVENT
BEGIN:VEVENT
DTSTART;TZID=America/Toronto:20230915T090000
DTEND;TZID=America/Toronto:20230915T110000
DTSTAMP:20260425T163913
CREATED:20230810T155612Z
LAST-MODIFIED:20230810T190327Z
UID:10002119-1694768400-1694775600@ccckl.ca
SUMMARY:Pickleball Bobcaygeon
DESCRIPTION:Community Care is pleased to offer adults of all ages the chance to enjoy pickleball – the great game with the strange name! \n\n\n\nPickleball is a court game that is a cross between tennis\, badminton and table tennis. It can be played indoors or out\, on a badminton-sized court with a plastic wiffle ball and paddles similar to those used in racquetball. Those looking to get or keep active throughout the year are encouraged to try this fun\, recreational activity! \n\n\n\nNo pre-registration required. Cost: $3 per participant\, first visit is free.
URL:https://ccckl.ca/events/pickleball-2/2023-09-15/
LOCATION:Bobcaygeon Curling Club\, 49 Mansfield Street\, Bobcaygeon\, Ontario\, K0M 10A\, Canada
CATEGORIES:Pickleball
END:VEVENT
BEGIN:VEVENT
DTSTART;TZID=America/Toronto:20230914T100000
DTEND;TZID=America/Toronto:20230914T110000
DTSTAMP:20260425T163913
CREATED:20230810T190900Z
LAST-MODIFIED:20231218T163714Z
UID:10002639-1694685600-1694689200@ccckl.ca
SUMMARY:Bobcaygeon SAGES
DESCRIPTION:Join us every Monday and Thursday at 10:00 am at the Bobcaygeon Senior’s Centre for Gentle Exercise for Seniors. \n\n\n\nCost: $3 per session\, pre-registration for the Bobcaygeon SAGES program is required. First session is free! \n\n\n\nFor more information\, or to register\, call 705-324-7323 ext. 165 or email wellness@ccckl.ca
URL:https://ccckl.ca/events/bobcaygeon-sages-2/2023-09-14/
LOCATION:Bobcaygeon Senior Centre\, 100 Head Street\, Bobcaygeon\, Canada
CATEGORIES:SAGES
ATTACH;FMTTYPE=image/jpeg:https://ccckl.ca/wp-content/uploads/2023/03/Sages-logo-RGB.jpg
END:VEVENT
BEGIN:VEVENT
DTSTART;TZID=America/Toronto:20230914T093000
DTEND;TZID=America/Toronto:20230914T103000
DTSTAMP:20260425T163913
CREATED:20231005T131611Z
LAST-MODIFIED:20231218T163348Z
UID:10002955-1694683800-1694687400@ccckl.ca
SUMMARY:Kirkfield SAGES
DESCRIPTION:Join us every Thursday at 9:30 am at the Kirkfield District Lions Club for Gentle Exercise for Seniors. \n\n\n\nCost: $3 per session\, registration not required. First session is free! \n\n\n\nFor more information call 705-324-7323 ext. 165 or email wellness@ccckl.ca
URL:https://ccckl.ca/events/kirkfield-sages-2/2023-09-14/
LOCATION:Kirkfield & District Lions Club\, 973 Portage Rd\, Kirkfield\, Ontario\, K0M 2B0\, Canada
CATEGORIES:SAGES
ATTACH;FMTTYPE=image/jpeg:https://ccckl.ca/wp-content/uploads/2023/03/Sages-logo-RGB.jpg
END:VEVENT
BEGIN:VEVENT
DTSTART;TZID=America/Toronto:20230913T100000
DTEND;TZID=America/Toronto:20230913T110000
DTSTAMP:20260425T163913
CREATED:20230810T190727Z
LAST-MODIFIED:20231218T163457Z
UID:10002484-1694599200-1694602800@ccckl.ca
SUMMARY:Fenelon Falls SAGES
DESCRIPTION:Join us every Monday and Wednesday at 10:00 am at the Senior Citizens Club of Fenelon Falls for Gentle Exercise for Seniors. \n\n\n\nCost: $2 per session\, registration not required. First session is free! \n\n\n\nFor more information call 705-324-7323 ext. 165 or email wellness@ccckl.ca
URL:https://ccckl.ca/events/fenelon-falls-sages-3/2023-09-13/
LOCATION:Senior Citizens Club Of Fenelon Falls\, 58 Murray Street\, Fenelon Falls\, Ontario\, K0M 1N0\, Canada
CATEGORIES:SAGES
ATTACH;FMTTYPE=image/jpeg:https://ccckl.ca/wp-content/uploads/2023/03/Sages-logo-RGB.jpg
END:VEVENT
BEGIN:VEVENT
DTSTART;TZID=America/Toronto:20230912T100000
DTEND;TZID=America/Toronto:20230912T110000
DTSTAMP:20260425T163913
CREATED:20230810T191211Z
LAST-MODIFIED:20231214T212853Z
UID:10002759-1694512800-1694516400@ccckl.ca
SUMMARY:Coboconk SAGES
DESCRIPTION:Join us every Tuesdays at 10:00 am at the Coboconk Legion for Gentle Exercise for Seniors. \n\n\n\nCost: $2 per session\, registration not required. First session is free! \n\n\n\nFor more information call 705-324-7323 ext. 165 or email wellness@ccckl.ca
URL:https://ccckl.ca/events/coboconk-sages-2/2023-09-12/
LOCATION:Royal Canadian Legion\, Branch 519\, 2916 Kawartha Lakes Rd 48\, Coboconk\, Ontario\, K0M 1K0\, Canada
CATEGORIES:SAGES
ATTACH;FMTTYPE=image/jpeg:https://ccckl.ca/wp-content/uploads/2023/03/Sages-logo-RGB.jpg
END:VEVENT
BEGIN:VEVENT
DTSTART;TZID=America/Toronto:20230912T093000
DTEND;TZID=America/Toronto:20230912T103000
DTSTAMP:20260425T163913
CREATED:20230810T191728Z
LAST-MODIFIED:20231218T163205Z
UID:10002875-1694511000-1694514600@ccckl.ca
SUMMARY:Manilla SAGES
DESCRIPTION:Join us every Tuesday at 9:30 at the Manilla Library for Gentle Exercise for Seniors. \n\n\n\nCost: $3 per session\, registration not required. First session is free! \n\n\n\nFor more information call 705-324-7323 ext. 165 or email wellness@ccckl.ca
URL:https://ccckl.ca/events/manilla-sages-2/2023-09-12/
LOCATION:Manilla Library\, 17025 Simcoe St.\, Manilla\, K0M 2J0\, Canada
CATEGORIES:SAGES
ATTACH;FMTTYPE=image/jpeg:https://ccckl.ca/wp-content/uploads/2023/03/Sages-logo-RGB.jpg
END:VEVENT
BEGIN:VEVENT
DTSTART;TZID=America/Toronto:20230912T093000
DTEND;TZID=America/Toronto:20230912T103000
DTSTAMP:20260425T163913
CREATED:20230502T122947Z
LAST-MODIFIED:20230502T122949Z
UID:10001252-1694511000-1694514600@ccckl.ca
SUMMARY:Riverwalk
DESCRIPTION:Riverwalk is back for 2023! \n\n\n\nRiverwalk is a grief walk designed for participants to engage with others who have experienced the loss of a loved one. Participants are invited to deal with the reality of life changes while taking a walk in our community. This program offers a secure and caring space to express and work through your emotions and thoughts related to grief. \n\n\n\nKnowing that grief affects you on all levels—physically\, mentally\, emotionally\, socially and spiritually\, exercise offers a coping strategy and safety-net while grieving your loss. \n\n\n\nConversations flow easily\, tears are shed\, challenges and frustrations are shared\, suggestions offered. It is 45 minutes where participants are really heard. There is no need for participants to ‘put on a brave face’ or pretend they are doing better than they are\, because the volunteers and other participants know that the grief journey is long and hard. \n\n\n\nTrained Grief Guides are available to walk alongside you and others who are also grieving. \n\n\n\nThe walks will take place every Tuesday from 9:30 – 10:30am starting on May 16. The walks start at Hospice Services\, 2 Kent St. W. in Lindsay\, Ontario. They are free of charge and no pre-registration is required. Visit www.ccckl.ca/programs-services/hospice or call 705-879-4123 ext 553 for more information.
URL:https://ccckl.ca/events/riverwalk/2023-09-12/
LOCATION:Hospice Services\, 2 Kent St W\, Lindsay\, Ontario\, K9V 2Y1\, Canada
CATEGORIES:Activity
ATTACH;FMTTYPE=image/png:https://ccckl.ca/wp-content/uploads/2023/05/Riverwalk-2023.png
END:VEVENT
BEGIN:VEVENT
DTSTART;TZID=America/Toronto:20230912T090000
DTEND;TZID=America/Toronto:20230912T100000
DTSTAMP:20260425T163913
CREATED:20230810T184744Z
LAST-MODIFIED:20231130T195847Z
UID:10002318-1694509200-1694512800@ccckl.ca
SUMMARY:Nordic Pole Walking Bobcaygeon
DESCRIPTION:Nordic Pole Walking is one of the fastest-growing low-impact exercises. Pole walking has been shown to burn more energy than regular walking\, uses 90 per cent of the body’s muscles\, and is a great social activity. Our free sessions are led by certified instructors. \n\n\n\nNo cost. No registration required. Although\, please reach out to us if you require walking poles. A limited number of walking poles are provided for those who do not have their own.
URL:https://ccckl.ca/events/nordic-pole-walking-4/2023-09-12/
LOCATION:Wilderness Park\, Wilderness Park Rd\, Kawartha Lakes\, Ontario\, K0M 1A0\, Canada
END:VEVENT
BEGIN:VEVENT
DTSTART;TZID=America/Toronto:20230911T100000
DTEND;TZID=America/Toronto:20230911T110000
DTSTAMP:20260425T163913
CREATED:20230810T190900Z
LAST-MODIFIED:20231218T163714Z
UID:10002561-1694426400-1694430000@ccckl.ca
SUMMARY:Bobcaygeon SAGES
DESCRIPTION:Join us every Monday and Thursday at 10:00 am at the Bobcaygeon Senior’s Centre for Gentle Exercise for Seniors. \n\n\n\nCost: $3 per session\, pre-registration for the Bobcaygeon SAGES program is required. First session is free! \n\n\n\nFor more information\, or to register\, call 705-324-7323 ext. 165 or email wellness@ccckl.ca
URL:https://ccckl.ca/events/bobcaygeon-sages-2/2023-09-11/
LOCATION:Bobcaygeon Senior Centre\, 100 Head Street\, Bobcaygeon\, Canada
CATEGORIES:SAGES
ATTACH;FMTTYPE=image/jpeg:https://ccckl.ca/wp-content/uploads/2023/03/Sages-logo-RGB.jpg
END:VEVENT
BEGIN:VEVENT
DTSTART;TZID=America/Toronto:20230911T100000
DTEND;TZID=America/Toronto:20230911T110000
DTSTAMP:20260425T163913
CREATED:20230810T190727Z
LAST-MODIFIED:20231218T163457Z
UID:10002483-1694426400-1694430000@ccckl.ca
SUMMARY:Fenelon Falls SAGES
DESCRIPTION:Join us every Monday and Wednesday at 10:00 am at the Senior Citizens Club of Fenelon Falls for Gentle Exercise for Seniors. \n\n\n\nCost: $2 per session\, registration not required. First session is free! \n\n\n\nFor more information call 705-324-7323 ext. 165 or email wellness@ccckl.ca
URL:https://ccckl.ca/events/fenelon-falls-sages-3/2023-09-11/
LOCATION:Senior Citizens Club Of Fenelon Falls\, 58 Murray Street\, Fenelon Falls\, Ontario\, K0M 1N0\, Canada
CATEGORIES:SAGES
ATTACH;FMTTYPE=image/jpeg:https://ccckl.ca/wp-content/uploads/2023/03/Sages-logo-RGB.jpg
END:VEVENT
BEGIN:VEVENT
DTSTART;TZID=America/Toronto:20230911T093000
DTEND;TZID=America/Toronto:20230911T103000
DTSTAMP:20260425T163913
CREATED:20230810T154613Z
LAST-MODIFIED:20240421T115621Z
UID:10001604-1694424600-1694428200@ccckl.ca
SUMMARY:Burnt River SAGES
DESCRIPTION:Join us every Monday and Friday (except holidays) at 9:30 am at the Burnt River Community Centre for Gentle Exercise for Seniors. \n\n\n\nCost: $3 per session\, registration not required. First session is free! \n\n\n\nFor more information call 705-324-7323 ext. 165 or email wellness@ccckl.ca
URL:https://ccckl.ca/events/burnt-river-sages/2023-09-11/
LOCATION:Burnt River Somerville Centre\, 16 Somerville Centre Rd\, Burnt River\, Ontario\, K0M1C0\, Canada
CATEGORIES:SAGES
ATTACH;FMTTYPE=image/jpeg:https://ccckl.ca/wp-content/uploads/2023/03/Sages-logo-RGB.jpg
END:VEVENT
BEGIN:VEVENT
DTSTART;TZID=America/Toronto:20230910T140000
DTEND;TZID=America/Toronto:20230910T170000
DTSTAMP:20260425T163913
CREATED:20230822T184700Z
LAST-MODIFIED:20230822T184701Z
UID:10002917-1694354400-1694365200@ccckl.ca
SUMMARY:World Suicide Awareness Day 2023
DESCRIPTION:Join CCCKL\, Canadian Mental Health Association (CMHA) and the John Howard Society to recognize World Suicide Awareness Day.
URL:https://ccckl.ca/events/world-suicide-awareness-day-2023/
LOCATION:Old Mill Park\, 16 Kent Street E\, Lindsay\, Ontario\, K9V 2C1\, Canada
CATEGORIES:Community Event
END:VEVENT
BEGIN:VEVENT
DTSTART;TZID=America/Toronto:20230908T093000
DTEND;TZID=America/Toronto:20230908T103000
DTSTAMP:20260425T163913
CREATED:20230810T154613Z
LAST-MODIFIED:20240421T115621Z
UID:10001603-1694165400-1694169000@ccckl.ca
SUMMARY:Burnt River SAGES
DESCRIPTION:Join us every Monday and Friday (except holidays) at 9:30 am at the Burnt River Community Centre for Gentle Exercise for Seniors. \n\n\n\nCost: $3 per session\, registration not required. First session is free! \n\n\n\nFor more information call 705-324-7323 ext. 165 or email wellness@ccckl.ca
URL:https://ccckl.ca/events/burnt-river-sages/2023-09-08/
LOCATION:Burnt River Somerville Centre\, 16 Somerville Centre Rd\, Burnt River\, Ontario\, K0M1C0\, Canada
CATEGORIES:SAGES
ATTACH;FMTTYPE=image/jpeg:https://ccckl.ca/wp-content/uploads/2023/03/Sages-logo-RGB.jpg
END:VEVENT
BEGIN:VEVENT
DTSTART;TZID=America/Toronto:20230908T090000
DTEND;TZID=America/Toronto:20230908T110000
DTSTAMP:20260425T163913
CREATED:20230810T155612Z
LAST-MODIFIED:20230810T190327Z
UID:10002118-1694163600-1694170800@ccckl.ca
SUMMARY:Pickleball Bobcaygeon
DESCRIPTION:Community Care is pleased to offer adults of all ages the chance to enjoy pickleball – the great game with the strange name! \n\n\n\nPickleball is a court game that is a cross between tennis\, badminton and table tennis. It can be played indoors or out\, on a badminton-sized court with a plastic wiffle ball and paddles similar to those used in racquetball. Those looking to get or keep active throughout the year are encouraged to try this fun\, recreational activity! \n\n\n\nNo pre-registration required. Cost: $3 per participant\, first visit is free.
URL:https://ccckl.ca/events/pickleball-2/2023-09-08/
LOCATION:Bobcaygeon Curling Club\, 49 Mansfield Street\, Bobcaygeon\, Ontario\, K0M 10A\, Canada
CATEGORIES:Pickleball
END:VEVENT
BEGIN:VEVENT
DTSTART;TZID=America/Toronto:20230908T090000
DTEND;TZID=America/Toronto:20230908T100000
DTSTAMP:20260425T163914
CREATED:20230810T184623Z
LAST-MODIFIED:20230912T132209Z
UID:10002198-1694163600-1694167200@ccckl.ca
SUMMARY:Nordic Pole Walking Lindsay
DESCRIPTION:Nordic Pole Walking is one of the fastest-growing low-impact exercises. Pole walking has been shown to burn more energy than regular walking\, uses 90 per cent of the body’s muscles\, and is a great social activity. Our free sessions are led by certified instructors. \n\n\n\nNo cost. No registration required. Although\, please reach out to us if you require walking poles. A limited number of walking poles are provided for those who do not have their own.
URL:https://ccckl.ca/events/nordic-pole-walking-3/2023-09-08/
LOCATION:Nayoro Park\, Sioux St\, Lindsay\, Canada
END:VEVENT
BEGIN:VEVENT
DTSTART;TZID=America/Toronto:20230907T120000
DTEND;TZID=America/Toronto:20230907T140000
DTSTAMP:20260425T163914
CREATED:20230810T133725Z
LAST-MODIFIED:20250630T152430Z
UID:10001255-1694088000-1694095200@ccckl.ca
SUMMARY:Diners Club (Bethany)
DESCRIPTION:Join us for some great food in good company! \n\n\n\nPre-registration is required and doors open at noon. Please call us at 705-324-7323 ext. 654 to reserve your spot!
URL:https://ccckl.ca/events/diners-club-bethany/2023-09-07/
LOCATION:Bethany United Church\, 3 George St\, Bethany\, Ontario\, L0A 1A0\, Canada
CATEGORIES:Diner's Club
END:VEVENT
BEGIN:VEVENT
DTSTART;TZID=America/Toronto:20230906T100000
DTEND;TZID=America/Toronto:20230906T110000
DTSTAMP:20260425T163914
CREATED:20230810T153835Z
LAST-MODIFIED:20230810T153837Z
UID:10000844-1693994400-1693998000@ccckl.ca
SUMMARY:Fenelon Falls SAGES
DESCRIPTION:Join us every Wednesday at 10:00 am at the Senior Citizens Club of Fenelon Falls for Gentle Exercise for Seniors. \n\n\n\nCost: $2 per session\, registration not required. First session is free! \n\n\n\nFor more information call 705-324-7323 ext. 165 or email wellness@ccckl.ca
URL:https://ccckl.ca/events/fenelon-falls-sages-2/2023-09-06/
LOCATION:Senior Citizens Club Of Fenelon Falls\, 58 Murray Street\, Fenelon Falls\, Ontario\, K0M 1N0\, Canada
CATEGORIES:SAGES
ATTACH;FMTTYPE=image/jpeg:https://ccckl.ca/wp-content/uploads/2023/03/Sages-logo-RGB.jpg
END:VEVENT
BEGIN:VEVENT
DTSTART;TZID=America/Toronto:20230905T120000
DTEND;TZID=America/Toronto:20230905T140000
DTSTAMP:20260425T163914
CREATED:20221026T143705Z
LAST-MODIFIED:20250630T152535Z
UID:10001062-1693915200-1693922400@ccckl.ca
SUMMARY:Diners Club (Lindsay)
DESCRIPTION:Join us for some great food in good company! \n\n\n\nPre-registration is required and doors open at noon. Please call us at 705-324-7323 ext. 654 to reserve your spot!
URL:https://ccckl.ca/events/diners-club-11/2023-09-05/
LOCATION:65 Melbourne St W\, 65 Melbourne St W\, Lindsay\, Ontario\, K9V 0G4\, Canada
CATEGORIES:Diner's Club
END:VEVENT
BEGIN:VEVENT
DTSTART;TZID=America/Toronto:20230905T093000
DTEND;TZID=America/Toronto:20230905T103000
DTSTAMP:20260425T163914
CREATED:20230810T191728Z
LAST-MODIFIED:20231218T163205Z
UID:10002874-1693906200-1693909800@ccckl.ca
SUMMARY:Manilla SAGES
DESCRIPTION:Join us every Tuesday at 9:30 at the Manilla Library for Gentle Exercise for Seniors. \n\n\n\nCost: $3 per session\, registration not required. First session is free! \n\n\n\nFor more information call 705-324-7323 ext. 165 or email wellness@ccckl.ca
URL:https://ccckl.ca/events/manilla-sages-2/2023-09-05/
LOCATION:Manilla Library\, 17025 Simcoe St.\, Manilla\, K0M 2J0\, Canada
CATEGORIES:SAGES
ATTACH;FMTTYPE=image/jpeg:https://ccckl.ca/wp-content/uploads/2023/03/Sages-logo-RGB.jpg
END:VEVENT
BEGIN:VEVENT
DTSTART;TZID=America/Toronto:20230905T093000
DTEND;TZID=America/Toronto:20230905T103000
DTSTAMP:20260425T163914
CREATED:20230502T122947Z
LAST-MODIFIED:20230502T122949Z
UID:10001251-1693906200-1693909800@ccckl.ca
SUMMARY:Riverwalk
DESCRIPTION:Riverwalk is back for 2023! \n\n\n\nRiverwalk is a grief walk designed for participants to engage with others who have experienced the loss of a loved one. Participants are invited to deal with the reality of life changes while taking a walk in our community. This program offers a secure and caring space to express and work through your emotions and thoughts related to grief. \n\n\n\nKnowing that grief affects you on all levels—physically\, mentally\, emotionally\, socially and spiritually\, exercise offers a coping strategy and safety-net while grieving your loss. \n\n\n\nConversations flow easily\, tears are shed\, challenges and frustrations are shared\, suggestions offered. It is 45 minutes where participants are really heard. There is no need for participants to ‘put on a brave face’ or pretend they are doing better than they are\, because the volunteers and other participants know that the grief journey is long and hard. \n\n\n\nTrained Grief Guides are available to walk alongside you and others who are also grieving. \n\n\n\nThe walks will take place every Tuesday from 9:30 – 10:30am starting on May 16. The walks start at Hospice Services\, 2 Kent St. W. in Lindsay\, Ontario. They are free of charge and no pre-registration is required. Visit www.ccckl.ca/programs-services/hospice or call 705-879-4123 ext 553 for more information.
URL:https://ccckl.ca/events/riverwalk/2023-09-05/
LOCATION:Hospice Services\, 2 Kent St W\, Lindsay\, Ontario\, K9V 2Y1\, Canada
CATEGORIES:Activity
ATTACH;FMTTYPE=image/png:https://ccckl.ca/wp-content/uploads/2023/05/Riverwalk-2023.png
END:VEVENT
BEGIN:VEVENT
DTSTART;TZID=America/Toronto:20230905T090000
DTEND;TZID=America/Toronto:20230905T100000
DTSTAMP:20260425T163914
CREATED:20230810T184744Z
LAST-MODIFIED:20231130T195847Z
UID:10002317-1693904400-1693908000@ccckl.ca
SUMMARY:Nordic Pole Walking Bobcaygeon
DESCRIPTION:Nordic Pole Walking is one of the fastest-growing low-impact exercises. Pole walking has been shown to burn more energy than regular walking\, uses 90 per cent of the body’s muscles\, and is a great social activity. Our free sessions are led by certified instructors. \n\n\n\nNo cost. No registration required. Although\, please reach out to us if you require walking poles. A limited number of walking poles are provided for those who do not have their own.
URL:https://ccckl.ca/events/nordic-pole-walking-4/2023-09-05/
LOCATION:Wilderness Park\, Wilderness Park Rd\, Kawartha Lakes\, Ontario\, K0M 1A0\, Canada
END:VEVENT
BEGIN:VEVENT
DTSTART;TZID=America/Toronto:20230901T093000
DTEND;TZID=America/Toronto:20230901T103000
DTSTAMP:20260425T163914
CREATED:20230810T154613Z
LAST-MODIFIED:20240421T115621Z
UID:10001602-1693560600-1693564200@ccckl.ca
SUMMARY:Burnt River SAGES
DESCRIPTION:Join us every Monday and Friday (except holidays) at 9:30 am at the Burnt River Community Centre for Gentle Exercise for Seniors. \n\n\n\nCost: $3 per session\, registration not required. First session is free! \n\n\n\nFor more information call 705-324-7323 ext. 165 or email wellness@ccckl.ca
URL:https://ccckl.ca/events/burnt-river-sages/2023-09-01/
LOCATION:Burnt River Somerville Centre\, 16 Somerville Centre Rd\, Burnt River\, Ontario\, K0M1C0\, Canada
CATEGORIES:SAGES
ATTACH;FMTTYPE=image/jpeg:https://ccckl.ca/wp-content/uploads/2023/03/Sages-logo-RGB.jpg
END:VEVENT
BEGIN:VEVENT
DTSTART;TZID=America/Toronto:20230901T090000
DTEND;TZID=America/Toronto:20230901T110000
DTSTAMP:20260425T163914
CREATED:20230810T155612Z
LAST-MODIFIED:20230810T190327Z
UID:10002117-1693558800-1693566000@ccckl.ca
SUMMARY:Pickleball Bobcaygeon
DESCRIPTION:Community Care is pleased to offer adults of all ages the chance to enjoy pickleball – the great game with the strange name! \n\n\n\nPickleball is a court game that is a cross between tennis\, badminton and table tennis. It can be played indoors or out\, on a badminton-sized court with a plastic wiffle ball and paddles similar to those used in racquetball. Those looking to get or keep active throughout the year are encouraged to try this fun\, recreational activity! \n\n\n\nNo pre-registration required. Cost: $3 per participant\, first visit is free.
URL:https://ccckl.ca/events/pickleball-2/2023-09-01/
LOCATION:Bobcaygeon Curling Club\, 49 Mansfield Street\, Bobcaygeon\, Ontario\, K0M 10A\, Canada
CATEGORIES:Pickleball
END:VEVENT
BEGIN:VEVENT
DTSTART;TZID=America/Toronto:20230901T090000
DTEND;TZID=America/Toronto:20230901T100000
DTSTAMP:20260425T163914
CREATED:20230810T184623Z
LAST-MODIFIED:20230912T132209Z
UID:10002197-1693558800-1693562400@ccckl.ca
SUMMARY:Nordic Pole Walking Lindsay
DESCRIPTION:Nordic Pole Walking is one of the fastest-growing low-impact exercises. Pole walking has been shown to burn more energy than regular walking\, uses 90 per cent of the body’s muscles\, and is a great social activity. Our free sessions are led by certified instructors. \n\n\n\nNo cost. No registration required. Although\, please reach out to us if you require walking poles. A limited number of walking poles are provided for those who do not have their own.
URL:https://ccckl.ca/events/nordic-pole-walking-3/2023-09-01/
LOCATION:Nayoro Park\, Sioux St\, Lindsay\, Canada
END:VEVENT
BEGIN:VEVENT
DTSTART;TZID=America/Toronto:20230831T100000
DTEND;TZID=America/Toronto:20230831T150000
DTSTAMP:20260425T163914
CREATED:20230818T142805Z
LAST-MODIFIED:20230818T142806Z
UID:10002916-1693476000-1693494000@ccckl.ca
SUMMARY:International Overdose Awareness Day
DESCRIPTION:You are invited to join CCCKL and the John Howard Society of Kawartha Lakes & Haliburton to recognize International Overdose Awareness Day. This is a day to remember those we have lost to drug poisoning and to support grieving loved ones. Join for live music\, activities\, and a butterfly release ceremony at 2:30pm. \n\n\n\nFor more information\, contact Natasha James at 705-340-0228 or njames@jhscklh.on.ca
URL:https://ccckl.ca/events/international-overdose-awareness-day/
LOCATION:Victoria Park Lindsay\, 190 Kent St W\, Lindsay\, Ontario\, K9V 2Y6\, Canada
END:VEVENT
BEGIN:VEVENT
DTSTART;TZID=America/Toronto:20230830T100000
DTEND;TZID=America/Toronto:20230830T110000
DTSTAMP:20260425T163914
CREATED:20230810T185641Z
LAST-MODIFIED:20230810T185642Z
UID:10002375-1693389600-1693393200@ccckl.ca
SUMMARY:Community-Based Exercise Class
DESCRIPTION:A new program led by a certified Seniors Fitness Instructor. Community-Based Exercise Classes focuses on cardio\, strength\, balance and flexibility. This program encourages participants to stay functionally fit longer\, increase physical activity levels and decrease their risk of falls. \n\n\n\nFor more information and to pre-register please contact 705-324-7323 ext 165 or email wellness@ccckl.ca Pre-registration is required.
URL:https://ccckl.ca/events/community-based-exercise-class/2023-08-30/
LOCATION:Cambridge St. United Church\, 61 Cambridge St. N\, Lindsay\, ON\, K9V 4C9\, Canada
END:VEVENT
BEGIN:VEVENT
DTSTART;TZID=America/Toronto:20230830T100000
DTEND;TZID=America/Toronto:20230830T110000
DTSTAMP:20260425T163914
CREATED:20230810T153835Z
LAST-MODIFIED:20230810T153837Z
UID:10000843-1693389600-1693393200@ccckl.ca
SUMMARY:Fenelon Falls SAGES
DESCRIPTION:Join us every Wednesday at 10:00 am at the Senior Citizens Club of Fenelon Falls for Gentle Exercise for Seniors. \n\n\n\nCost: $2 per session\, registration not required. First session is free! \n\n\n\nFor more information call 705-324-7323 ext. 165 or email wellness@ccckl.ca
URL:https://ccckl.ca/events/fenelon-falls-sages-2/2023-08-30/
LOCATION:Senior Citizens Club Of Fenelon Falls\, 58 Murray Street\, Fenelon Falls\, Ontario\, K0M 1N0\, Canada
CATEGORIES:SAGES
ATTACH;FMTTYPE=image/jpeg:https://ccckl.ca/wp-content/uploads/2023/03/Sages-logo-RGB.jpg
END:VEVENT
END:VCALENDAR