BEGIN:VCALENDAR
VERSION:2.0
PRODID:-//Community Care City of Kawartha Lakes - ECPv6.15.13//NONSGML v1.0//EN
CALSCALE:GREGORIAN
METHOD:PUBLISH
X-ORIGINAL-URL:https://ccckl.ca
X-WR-CALDESC:Events for Community Care City of Kawartha Lakes
REFRESH-INTERVAL;VALUE=DURATION:PT1H
X-Robots-Tag:noindex
X-PUBLISHED-TTL:PT1H
BEGIN:VTIMEZONE
TZID:America/Toronto
BEGIN:DAYLIGHT
TZOFFSETFROM:-0500
TZOFFSETTO:-0400
TZNAME:EDT
DTSTART:20280312T070000
END:DAYLIGHT
BEGIN:STANDARD
TZOFFSETFROM:-0400
TZOFFSETTO:-0500
TZNAME:EST
DTSTART:20281105T060000
END:STANDARD
BEGIN:DAYLIGHT
TZOFFSETFROM:-0500
TZOFFSETTO:-0400
TZNAME:EDT
DTSTART:20290311T070000
END:DAYLIGHT
BEGIN:STANDARD
TZOFFSETFROM:-0400
TZOFFSETTO:-0500
TZNAME:EST
DTSTART:20291104T060000
END:STANDARD
BEGIN:DAYLIGHT
TZOFFSETFROM:-0500
TZOFFSETTO:-0400
TZNAME:EDT
DTSTART:20300310T070000
END:DAYLIGHT
BEGIN:STANDARD
TZOFFSETFROM:-0400
TZOFFSETTO:-0500
TZNAME:EST
DTSTART:20301103T060000
END:STANDARD
BEGIN:DAYLIGHT
TZOFFSETFROM:-0500
TZOFFSETTO:-0400
TZNAME:EDT
DTSTART:20310309T070000
END:DAYLIGHT
BEGIN:STANDARD
TZOFFSETFROM:-0400
TZOFFSETTO:-0500
TZNAME:EST
DTSTART:20311102T060000
END:STANDARD
END:VTIMEZONE
BEGIN:VEVENT
DTSTART;TZID=America/Toronto:20290927T120000
DTEND;TZID=America/Toronto:20290927T140000
DTSTAMP:20260423T163730
CREATED:20230810T134223Z
LAST-MODIFIED:20250630T152407Z
UID:10004101-1885204800-1885212000@ccckl.ca
SUMMARY:Diners Club (Coboconk)
DESCRIPTION:Join us for some great food in good company! \n\n\n\nPre-registration is required and doors open at noon. Please call us at 705-324-7323 ext. 654 to reserve your spot!
URL:https://ccckl.ca/events/diners-club-coboconk/2029-09-27/
LOCATION:Coboconk Service Centre\, 9 Grandy Rd\, Coboconk\, Ontario\, Canada
CATEGORIES:Diner's Club
END:VEVENT
BEGIN:VEVENT
DTSTART;TZID=America/Toronto:20291002T120000
DTEND;TZID=America/Toronto:20291002T140000
DTSTAMP:20260423T163730
CREATED:20221026T143705Z
LAST-MODIFIED:20250630T152535Z
UID:10004215-1885636800-1885644000@ccckl.ca
SUMMARY:Diners Club (Lindsay)
DESCRIPTION:Join us for some great food in good company! \n\n\n\nPre-registration is required and doors open at noon. Please call us at 705-324-7323 ext. 654 to reserve your spot!
URL:https://ccckl.ca/events/diners-club-11/2029-10-02/
LOCATION:65 Melbourne St W\, 65 Melbourne St W\, Lindsay\, Ontario\, K9V 0G4\, Canada
CATEGORIES:Diner's Club
END:VEVENT
BEGIN:VEVENT
DTSTART;TZID=America/Toronto:20291004T120000
DTEND;TZID=America/Toronto:20291004T140000
DTSTAMP:20260423T163730
CREATED:20230810T133725Z
LAST-MODIFIED:20250630T152430Z
UID:10004124-1885809600-1885816800@ccckl.ca
SUMMARY:Diners Club (Bethany)
DESCRIPTION:Join us for some great food in good company! \n\n\n\nPre-registration is required and doors open at noon. Please call us at 705-324-7323 ext. 654 to reserve your spot!
URL:https://ccckl.ca/events/diners-club-bethany/2029-10-04/
LOCATION:Bethany United Church\, 3 George St\, Bethany\, Ontario\, L0A 1A0\, Canada
CATEGORIES:Diner's Club
END:VEVENT
BEGIN:VEVENT
DTSTART;TZID=America/Toronto:20291009T120000
DTEND;TZID=America/Toronto:20291009T140000
DTSTAMP:20260423T163730
CREATED:20240904T135216Z
LAST-MODIFIED:20250630T152344Z
UID:10004092-1886241600-1886248800@ccckl.ca
SUMMARY:Diners Club (Fenelon Falls)
DESCRIPTION:Join us for some great food in good company! \n\n\n\nPre-registration is required and doors open at noon. Please call us at 705-324-7323 ext. 654 to reserve your spot!
URL:https://ccckl.ca/events/diners-club-fenelon-falls/2029-10-09/
LOCATION:70 Murray St\, 70 Murray St\, Fenelon Falls\, Ontario\, K0M 1N0\, Canada
CATEGORIES:Diner's Club
END:VEVENT
BEGIN:VEVENT
DTSTART;TZID=America/Toronto:20291011T120000
DTEND;TZID=America/Toronto:20291011T140000
DTSTAMP:20260423T163730
CREATED:20250630T152232Z
LAST-MODIFIED:20250630T152234Z
UID:10004082-1886414400-1886421600@ccckl.ca
SUMMARY:Diners Club (Bobcaygeon)
DESCRIPTION:Join us for some great food in good company! \n\n\n\nPre-registration is required and doors open at noon. Please call us at 705-324-7323 ext. 654 to reserve your spot!
URL:https://ccckl.ca/events/diners-club-bobcaygeon-2/2029-10-11/
LOCATION:Trinity United Church\, 44 William St\, Bobcaygeon\, Ontario\, K0M 1A0\, Canada
CATEGORIES:Diner's Club
END:VEVENT
BEGIN:VEVENT
DTSTART;TZID=America/Toronto:20291016T120000
DTEND;TZID=America/Toronto:20291016T140000
DTSTAMP:20260423T163730
CREATED:20221205T170845Z
LAST-MODIFIED:20250630T152507Z
UID:10004170-1886846400-1886853600@ccckl.ca
SUMMARY:Diners Club (Lindsay)
DESCRIPTION:Join us for some great food in good company! \n\n\n\nPre-registration is required and doors open at noon. Please call us at 705-324-7323 ext. 654 to reserve your spot!
URL:https://ccckl.ca/events/diners-club-lindsay/2029-10-16/
LOCATION:65 Melbourne St W\, 65 Melbourne St W\, Lindsay\, Ontario\, K9V 0G4\, Canada
CATEGORIES:Diner's Club
END:VEVENT
BEGIN:VEVENT
DTSTART;TZID=America/Toronto:20291018T120000
DTEND;TZID=America/Toronto:20291018T140000
DTSTAMP:20260423T163730
CREATED:20221205T171748Z
LAST-MODIFIED:20250630T152445Z
UID:10004147-1887019200-1887026400@ccckl.ca
SUMMARY:Diners Club (Burnt River)
DESCRIPTION:Join us for some great food in good company! \n\n\n\nPre-registration is required and doors open at noon. Please call us at 705-324-7323 ext. 654 to reserve your spot!
URL:https://ccckl.ca/events/diners-club-burnt-river/2029-10-18/
LOCATION:Burnt River Somerville Centre\, 16 Somerville Centre Rd\, Burnt River\, Ontario\, K0M1C0\, Canada
CATEGORIES:Diner's Club
END:VEVENT
BEGIN:VEVENT
DTSTART;TZID=America/Toronto:20291023T120000
DTEND;TZID=America/Toronto:20291023T140000
DTSTAMP:20260423T163730
CREATED:20221205T164816Z
LAST-MODIFIED:20250630T152521Z
UID:10004193-1887451200-1887458400@ccckl.ca
SUMMARY:Diners Club (Fenelon Falls)
DESCRIPTION:Join us for some great food in good company! \n\n\n\nPre-registration is required and doors open at noon. Please call us at 705-324-7323 ext. 654 to reserve your spot!
URL:https://ccckl.ca/events/diners-club-fenelon-falls-2/2029-10-23/
LOCATION:70 Murray St\, 70 Murray St\, Fenelon Falls\, Ontario\, K0M 1N0\, Canada
CATEGORIES:Diner's Club
END:VEVENT
BEGIN:VEVENT
DTSTART;TZID=America/Toronto:20291025T120000
DTEND;TZID=America/Toronto:20291025T140000
DTSTAMP:20260423T163730
CREATED:20230810T134223Z
LAST-MODIFIED:20250630T152407Z
UID:10004102-1887624000-1887631200@ccckl.ca
SUMMARY:Diners Club (Coboconk)
DESCRIPTION:Join us for some great food in good company! \n\n\n\nPre-registration is required and doors open at noon. Please call us at 705-324-7323 ext. 654 to reserve your spot!
URL:https://ccckl.ca/events/diners-club-coboconk/2029-10-25/
LOCATION:Coboconk Service Centre\, 9 Grandy Rd\, Coboconk\, Ontario\, Canada
CATEGORIES:Diner's Club
END:VEVENT
BEGIN:VEVENT
DTSTART;TZID=America/Toronto:20291101T120000
DTEND;TZID=America/Toronto:20291101T140000
DTSTAMP:20260423T163730
CREATED:20230810T133725Z
LAST-MODIFIED:20250630T152430Z
UID:10004125-1888228800-1888236000@ccckl.ca
SUMMARY:Diners Club (Bethany)
DESCRIPTION:Join us for some great food in good company! \n\n\n\nPre-registration is required and doors open at noon. Please call us at 705-324-7323 ext. 654 to reserve your spot!
URL:https://ccckl.ca/events/diners-club-bethany/2029-11-01/
LOCATION:Bethany United Church\, 3 George St\, Bethany\, Ontario\, L0A 1A0\, Canada
CATEGORIES:Diner's Club
END:VEVENT
BEGIN:VEVENT
DTSTART;TZID=America/Toronto:20291106T120000
DTEND;TZID=America/Toronto:20291106T140000
DTSTAMP:20260423T163730
CREATED:20221026T143705Z
LAST-MODIFIED:20250630T152535Z
UID:10004216-1888660800-1888668000@ccckl.ca
SUMMARY:Diners Club (Lindsay)
DESCRIPTION:Join us for some great food in good company! \n\n\n\nPre-registration is required and doors open at noon. Please call us at 705-324-7323 ext. 654 to reserve your spot!
URL:https://ccckl.ca/events/diners-club-11/2029-11-06/
LOCATION:65 Melbourne St W\, 65 Melbourne St W\, Lindsay\, Ontario\, K9V 0G4\, Canada
CATEGORIES:Diner's Club
END:VEVENT
BEGIN:VEVENT
DTSTART;TZID=America/Toronto:20291108T120000
DTEND;TZID=America/Toronto:20291108T140000
DTSTAMP:20260423T163730
CREATED:20250630T152232Z
LAST-MODIFIED:20250630T152234Z
UID:10004083-1888833600-1888840800@ccckl.ca
SUMMARY:Diners Club (Bobcaygeon)
DESCRIPTION:Join us for some great food in good company! \n\n\n\nPre-registration is required and doors open at noon. Please call us at 705-324-7323 ext. 654 to reserve your spot!
URL:https://ccckl.ca/events/diners-club-bobcaygeon-2/2029-11-08/
LOCATION:Trinity United Church\, 44 William St\, Bobcaygeon\, Ontario\, K0M 1A0\, Canada
CATEGORIES:Diner's Club
END:VEVENT
BEGIN:VEVENT
DTSTART;TZID=America/Toronto:20291113T120000
DTEND;TZID=America/Toronto:20291113T140000
DTSTAMP:20260423T163730
CREATED:20240904T135216Z
LAST-MODIFIED:20250630T152344Z
UID:10004093-1889265600-1889272800@ccckl.ca
SUMMARY:Diners Club (Fenelon Falls)
DESCRIPTION:Join us for some great food in good company! \n\n\n\nPre-registration is required and doors open at noon. Please call us at 705-324-7323 ext. 654 to reserve your spot!
URL:https://ccckl.ca/events/diners-club-fenelon-falls/2029-11-13/
LOCATION:70 Murray St\, 70 Murray St\, Fenelon Falls\, Ontario\, K0M 1N0\, Canada
CATEGORIES:Diner's Club
END:VEVENT
BEGIN:VEVENT
DTSTART;TZID=America/Toronto:20291115T120000
DTEND;TZID=America/Toronto:20291115T140000
DTSTAMP:20260423T163730
CREATED:20221205T171748Z
LAST-MODIFIED:20250630T152445Z
UID:10004148-1889438400-1889445600@ccckl.ca
SUMMARY:Diners Club (Burnt River)
DESCRIPTION:Join us for some great food in good company! \n\n\n\nPre-registration is required and doors open at noon. Please call us at 705-324-7323 ext. 654 to reserve your spot!
URL:https://ccckl.ca/events/diners-club-burnt-river/2029-11-15/
LOCATION:Burnt River Somerville Centre\, 16 Somerville Centre Rd\, Burnt River\, Ontario\, K0M1C0\, Canada
CATEGORIES:Diner's Club
END:VEVENT
BEGIN:VEVENT
DTSTART;TZID=America/Toronto:20291120T120000
DTEND;TZID=America/Toronto:20291120T140000
DTSTAMP:20260423T163730
CREATED:20221205T170845Z
LAST-MODIFIED:20250630T152507Z
UID:10004171-1889870400-1889877600@ccckl.ca
SUMMARY:Diners Club (Lindsay)
DESCRIPTION:Join us for some great food in good company! \n\n\n\nPre-registration is required and doors open at noon. Please call us at 705-324-7323 ext. 654 to reserve your spot!
URL:https://ccckl.ca/events/diners-club-lindsay/2029-11-20/
LOCATION:65 Melbourne St W\, 65 Melbourne St W\, Lindsay\, Ontario\, K9V 0G4\, Canada
CATEGORIES:Diner's Club
END:VEVENT
BEGIN:VEVENT
DTSTART;TZID=America/Toronto:20291122T120000
DTEND;TZID=America/Toronto:20291122T140000
DTSTAMP:20260423T163730
CREATED:20230810T134223Z
LAST-MODIFIED:20250630T152407Z
UID:10004103-1890043200-1890050400@ccckl.ca
SUMMARY:Diners Club (Coboconk)
DESCRIPTION:Join us for some great food in good company! \n\n\n\nPre-registration is required and doors open at noon. Please call us at 705-324-7323 ext. 654 to reserve your spot!
URL:https://ccckl.ca/events/diners-club-coboconk/2029-11-22/
LOCATION:Coboconk Service Centre\, 9 Grandy Rd\, Coboconk\, Ontario\, Canada
CATEGORIES:Diner's Club
END:VEVENT
BEGIN:VEVENT
DTSTART;TZID=America/Toronto:20291127T120000
DTEND;TZID=America/Toronto:20291127T140000
DTSTAMP:20260423T163730
CREATED:20221205T164816Z
LAST-MODIFIED:20250630T152521Z
UID:10004194-1890475200-1890482400@ccckl.ca
SUMMARY:Diners Club (Fenelon Falls)
DESCRIPTION:Join us for some great food in good company! \n\n\n\nPre-registration is required and doors open at noon. Please call us at 705-324-7323 ext. 654 to reserve your spot!
URL:https://ccckl.ca/events/diners-club-fenelon-falls-2/2029-11-27/
LOCATION:70 Murray St\, 70 Murray St\, Fenelon Falls\, Ontario\, K0M 1N0\, Canada
CATEGORIES:Diner's Club
END:VEVENT
BEGIN:VEVENT
DTSTART;TZID=America/Toronto:20291204T120000
DTEND;TZID=America/Toronto:20291204T140000
DTSTAMP:20260423T163730
CREATED:20221026T143705Z
LAST-MODIFIED:20250630T152535Z
UID:10004217-1891080000-1891087200@ccckl.ca
SUMMARY:Diners Club (Lindsay)
DESCRIPTION:Join us for some great food in good company! \n\n\n\nPre-registration is required and doors open at noon. Please call us at 705-324-7323 ext. 654 to reserve your spot!
URL:https://ccckl.ca/events/diners-club-11/2029-12-04/
LOCATION:65 Melbourne St W\, 65 Melbourne St W\, Lindsay\, Ontario\, K9V 0G4\, Canada
CATEGORIES:Diner's Club
END:VEVENT
BEGIN:VEVENT
DTSTART;TZID=America/Toronto:20291206T120000
DTEND;TZID=America/Toronto:20291206T140000
DTSTAMP:20260423T163730
CREATED:20230810T133725Z
LAST-MODIFIED:20250630T152430Z
UID:10004126-1891252800-1891260000@ccckl.ca
SUMMARY:Diners Club (Bethany)
DESCRIPTION:Join us for some great food in good company! \n\n\n\nPre-registration is required and doors open at noon. Please call us at 705-324-7323 ext. 654 to reserve your spot!
URL:https://ccckl.ca/events/diners-club-bethany/2029-12-06/
LOCATION:Bethany United Church\, 3 George St\, Bethany\, Ontario\, L0A 1A0\, Canada
CATEGORIES:Diner's Club
END:VEVENT
BEGIN:VEVENT
DTSTART;TZID=America/Toronto:20291211T120000
DTEND;TZID=America/Toronto:20291211T140000
DTSTAMP:20260423T163730
CREATED:20240904T135216Z
LAST-MODIFIED:20250630T152344Z
UID:10004094-1891684800-1891692000@ccckl.ca
SUMMARY:Diners Club (Fenelon Falls)
DESCRIPTION:Join us for some great food in good company! \n\n\n\nPre-registration is required and doors open at noon. Please call us at 705-324-7323 ext. 654 to reserve your spot!
URL:https://ccckl.ca/events/diners-club-fenelon-falls/2029-12-11/
LOCATION:70 Murray St\, 70 Murray St\, Fenelon Falls\, Ontario\, K0M 1N0\, Canada
CATEGORIES:Diner's Club
END:VEVENT
BEGIN:VEVENT
DTSTART;TZID=America/Toronto:20291213T120000
DTEND;TZID=America/Toronto:20291213T140000
DTSTAMP:20260423T163730
CREATED:20250630T152232Z
LAST-MODIFIED:20250630T152234Z
UID:10004084-1891857600-1891864800@ccckl.ca
SUMMARY:Diners Club (Bobcaygeon)
DESCRIPTION:Join us for some great food in good company! \n\n\n\nPre-registration is required and doors open at noon. Please call us at 705-324-7323 ext. 654 to reserve your spot!
URL:https://ccckl.ca/events/diners-club-bobcaygeon-2/2029-12-13/
LOCATION:Trinity United Church\, 44 William St\, Bobcaygeon\, Ontario\, K0M 1A0\, Canada
CATEGORIES:Diner's Club
END:VEVENT
BEGIN:VEVENT
DTSTART;TZID=America/Toronto:20291218T120000
DTEND;TZID=America/Toronto:20291218T140000
DTSTAMP:20260423T163730
CREATED:20221205T170845Z
LAST-MODIFIED:20250630T152507Z
UID:10004172-1892289600-1892296800@ccckl.ca
SUMMARY:Diners Club (Lindsay)
DESCRIPTION:Join us for some great food in good company! \n\n\n\nPre-registration is required and doors open at noon. Please call us at 705-324-7323 ext. 654 to reserve your spot!
URL:https://ccckl.ca/events/diners-club-lindsay/2029-12-18/
LOCATION:65 Melbourne St W\, 65 Melbourne St W\, Lindsay\, Ontario\, K9V 0G4\, Canada
CATEGORIES:Diner's Club
END:VEVENT
BEGIN:VEVENT
DTSTART;TZID=America/Toronto:20291220T120000
DTEND;TZID=America/Toronto:20291220T140000
DTSTAMP:20260423T163730
CREATED:20221205T171748Z
LAST-MODIFIED:20250630T152445Z
UID:10004149-1892462400-1892469600@ccckl.ca
SUMMARY:Diners Club (Burnt River)
DESCRIPTION:Join us for some great food in good company! \n\n\n\nPre-registration is required and doors open at noon. Please call us at 705-324-7323 ext. 654 to reserve your spot!
URL:https://ccckl.ca/events/diners-club-burnt-river/2029-12-20/
LOCATION:Burnt River Somerville Centre\, 16 Somerville Centre Rd\, Burnt River\, Ontario\, K0M1C0\, Canada
CATEGORIES:Diner's Club
END:VEVENT
BEGIN:VEVENT
DTSTART;TZID=America/Toronto:20291225T120000
DTEND;TZID=America/Toronto:20291225T140000
DTSTAMP:20260423T163730
CREATED:20221205T164816Z
LAST-MODIFIED:20250630T152521Z
UID:10004195-1892894400-1892901600@ccckl.ca
SUMMARY:Diners Club (Fenelon Falls)
DESCRIPTION:Join us for some great food in good company! \n\n\n\nPre-registration is required and doors open at noon. Please call us at 705-324-7323 ext. 654 to reserve your spot!
URL:https://ccckl.ca/events/diners-club-fenelon-falls-2/2029-12-25/
LOCATION:70 Murray St\, 70 Murray St\, Fenelon Falls\, Ontario\, K0M 1N0\, Canada
CATEGORIES:Diner's Club
END:VEVENT
BEGIN:VEVENT
DTSTART;TZID=America/Toronto:20291227T120000
DTEND;TZID=America/Toronto:20291227T140000
DTSTAMP:20260423T163730
CREATED:20230810T134223Z
LAST-MODIFIED:20250630T152407Z
UID:10004104-1893067200-1893074400@ccckl.ca
SUMMARY:Diners Club (Coboconk)
DESCRIPTION:Join us for some great food in good company! \n\n\n\nPre-registration is required and doors open at noon. Please call us at 705-324-7323 ext. 654 to reserve your spot!
URL:https://ccckl.ca/events/diners-club-coboconk/2029-12-27/
LOCATION:Coboconk Service Centre\, 9 Grandy Rd\, Coboconk\, Ontario\, Canada
CATEGORIES:Diner's Club
END:VEVENT
BEGIN:VEVENT
DTSTART;TZID=America/Toronto:20300101T120000
DTEND;TZID=America/Toronto:20300101T140000
DTSTAMP:20260423T163730
CREATED:20221026T143705Z
LAST-MODIFIED:20250630T152535Z
UID:10004218-1893499200-1893506400@ccckl.ca
SUMMARY:Diners Club (Lindsay)
DESCRIPTION:Join us for some great food in good company! \n\n\n\nPre-registration is required and doors open at noon. Please call us at 705-324-7323 ext. 654 to reserve your spot!
URL:https://ccckl.ca/events/diners-club-11/2030-01-01/
LOCATION:65 Melbourne St W\, 65 Melbourne St W\, Lindsay\, Ontario\, K9V 0G4\, Canada
CATEGORIES:Diner's Club
END:VEVENT
BEGIN:VEVENT
DTSTART;TZID=America/Toronto:20300103T120000
DTEND;TZID=America/Toronto:20300103T140000
DTSTAMP:20260423T163730
CREATED:20230810T133725Z
LAST-MODIFIED:20250630T152430Z
UID:10004127-1893672000-1893679200@ccckl.ca
SUMMARY:Diners Club (Bethany)
DESCRIPTION:Join us for some great food in good company! \n\n\n\nPre-registration is required and doors open at noon. Please call us at 705-324-7323 ext. 654 to reserve your spot!
URL:https://ccckl.ca/events/diners-club-bethany/2030-01-03/
LOCATION:Bethany United Church\, 3 George St\, Bethany\, Ontario\, L0A 1A0\, Canada
CATEGORIES:Diner's Club
END:VEVENT
BEGIN:VEVENT
DTSTART;TZID=America/Toronto:20300108T120000
DTEND;TZID=America/Toronto:20300108T140000
DTSTAMP:20260423T163730
CREATED:20240904T135216Z
LAST-MODIFIED:20250630T152344Z
UID:10004095-1894104000-1894111200@ccckl.ca
SUMMARY:Diners Club (Fenelon Falls)
DESCRIPTION:Join us for some great food in good company! \n\n\n\nPre-registration is required and doors open at noon. Please call us at 705-324-7323 ext. 654 to reserve your spot!
URL:https://ccckl.ca/events/diners-club-fenelon-falls/2030-01-08/
LOCATION:70 Murray St\, 70 Murray St\, Fenelon Falls\, Ontario\, K0M 1N0\, Canada
CATEGORIES:Diner's Club
END:VEVENT
BEGIN:VEVENT
DTSTART;TZID=America/Toronto:20300110T120000
DTEND;TZID=America/Toronto:20300110T140000
DTSTAMP:20260423T163730
CREATED:20250630T152232Z
LAST-MODIFIED:20250630T152234Z
UID:10004085-1894276800-1894284000@ccckl.ca
SUMMARY:Diners Club (Bobcaygeon)
DESCRIPTION:Join us for some great food in good company! \n\n\n\nPre-registration is required and doors open at noon. Please call us at 705-324-7323 ext. 654 to reserve your spot!
URL:https://ccckl.ca/events/diners-club-bobcaygeon-2/2030-01-10/
LOCATION:Trinity United Church\, 44 William St\, Bobcaygeon\, Ontario\, K0M 1A0\, Canada
CATEGORIES:Diner's Club
END:VEVENT
BEGIN:VEVENT
DTSTART;TZID=America/Toronto:20300115T120000
DTEND;TZID=America/Toronto:20300115T140000
DTSTAMP:20260423T163730
CREATED:20221205T170845Z
LAST-MODIFIED:20250630T152507Z
UID:10004173-1894708800-1894716000@ccckl.ca
SUMMARY:Diners Club (Lindsay)
DESCRIPTION:Join us for some great food in good company! \n\n\n\nPre-registration is required and doors open at noon. Please call us at 705-324-7323 ext. 654 to reserve your spot!
URL:https://ccckl.ca/events/diners-club-lindsay/2030-01-15/
LOCATION:65 Melbourne St W\, 65 Melbourne St W\, Lindsay\, Ontario\, K9V 0G4\, Canada
CATEGORIES:Diner's Club
END:VEVENT
END:VCALENDAR